Workbook

Sheet Metadata
A1: For Nest WTYs
A2: N | B2: Nest known occupied
A3: Z | B3: Nest not occupied
A4: B | B4: Bird in WTY but not at nest; possibility nest was occupied but not sure
A5: BX | B5: Bird in WTY but no nest search ever done
A6: BZ | B6: Nest known not occupied but bird detected within WTY
A7: BP | B7: Birdsin WTY; Pair seen
A8: X | B8: CPB done <200 m from old nest but no WISA responded
A9: Y | B9: Young seen, so WTY occupied
A11: WTY by year sheet has separate line for every nest, and therefore >1 line per WTY if there were >1 nests.

Sheet Nest Suit
A1: WTY | B1: N Nests | C1: Nest1 | D1: Nest2 | E1: Nest3 | F1: AveSuit300-1 | G1: AveSuit300-2 | H1: AveSuit300-3 | I1: AveSuit225-1 | J1: AveSuit225-2 | K1: AveSuit225-3 | L1: MaxSuit300-1 | M1: MaxSuit300-2 | N1: MaxSuit300-3 | O1: MaxSuit225-1 | P1: MaxSuit225-2 | Q1: MaxSuit225-3 | R1: AveSuit300 | S1: AveSuit300 | T1: AveSuit225 | U1: AveSuit225 | V1: MaxSuit300 | W1: MaxSuit300 | X1: MaxSuit225 | Y1: MaxSuit225
A2: WTY001 | B2: 1 | C2: WN226 | F2: 19.8758 | I2: 15.773 | L2: 88 | O2: 88 | R2: =AVERAGE(F2:H2)/100 -> 0.198758 | S2: 4 | T2: =AVERAGE(I2:K2)/100 -> 0.15773 | U2: 4 | V2: =MAX(L2:N2)/100 -> 0.88 | W2: 1 | X2: =MAX(O2:Q2)/100 -> 0.88 | Y2: 1
A3: WTY002 | B3: 1 | C3: WN041 | F3: 24.2188 | I3: 20.4152 | L3: 88 | O3: 88 | R3: =AVERAGE(F3:H3)/100 -> 0.242188 | S3: 4 | T3: =AVERAGE(I3:K3)/100 -> 0.204152 | U3: 4 | V3: =MAX(L3:N3)/100 -> 0.88 | W3: 1 | X3: =MAX(O3:Q3)/100 -> 0.88 | Y3: 1
A4: WTY003 | B4: 2 | C4: WN038 | D4: WNK002 | F4: 25.0662 | G4: 31.9267 | I4: 23.8087 | J4: 37.2053 | L4: 63 | M4: 63 | O4: 63 | P4: 63 | R4: =AVERAGE(F4:H4)/100 -> 0.2849645 | S4: 3 | T4: =AVERAGE(I4:K4)/100 -> 0.30507 | U4: 3 | V4: =MAX(L4:N4)/100 -> 0.63 | W4: 2 | X4: =MAX(O4:Q4)/100 -> 0.63 | Y4: 2
A5: WTY004 | B5: 2 | C5: WN225 | D5: WNK003 | F5: 24.6454 | G5: 28.1091 | I5: 23.3016 | J5: 28.2542 | L5: 38 | M5: 38 | O5: 38 | P5: 38 | R5: =AVERAGE(F5:H5)/100 -> 0.2637725 | S5: 3 | T5: =AVERAGE(I5:K5)/100 -> 0.257779 | U5: 3 | V5: =MAX(L5:N5)/100 -> 0.38 | W5: 3 | X5: =MAX(O5:Q5)/100 -> 0.38 | Y5: 3
A6: WTY005 | B6: 1 | C6: WNK001 | F6: 28.9261 | I6: 30.0997 | L6: 38 | O6: 38 | R6: =AVERAGE(F6:H6)/100 -> 0.289261 | S6: 3 | T6: =AVERAGE(I6:K6)/100 -> 0.300997 | U6: 3 | V6: =MAX(L6:N6)/100 -> 0.38 | W6: 3 | X6: =MAX(O6:Q6)/100 -> 0.38 | Y6: 3
A7: WTY006 | B7: 1 | C7: WNK004 | F7: 25.0195 | I7: 23.8159 | L7: 38 | O7: 38 | R7: =AVERAGE(F7:H7)/100 -> 0.250195 | S7: 3 | T7: =AVERAGE(I7:K7)/100 -> 0.238159 | U7: 4 | V7: =MAX(L7:N7)/100 -> 0.38 | W7: 3 | X7: =MAX(O7:Q7)/100 -> 0.38 | Y7: 3
A8: WTY008 | B8: 1 | C8: WN023 | F8: 13.9116 | I8: 14.183 | L8: 16 | O8: 16 | R8: =AVERAGE(F8:H8)/100 -> 0.139116 | S8: 4 | T8: =AVERAGE(I8:K8)/100 -> 0.14183 | U8: 4 | V8: =MAX(L8:N8)/100 -> 0.16 | W8: 4 | X8: =MAX(O8:Q8)/100 -> 0.16 | Y8: 4
A9: WTY009 | B9: 1 | C9: WN202
A10: WTY011 | B10: 2 | C10: WN001 | D10: WN239 | F10: 36.6121 | G10: 36.0168 | I10: 41.4842 | J10: 41.5002 | L10: 88 | M10: 88 | O10: 88 | P10: 88 | R10: =AVERAGE(F10:H10)/100 -> 0.3631445 | S10: 3 | T10: =AVERAGE(I10:K10)/100 -> 0.414922 | U10: 3 | V10: =MAX(L10:N10)/100 -> 0.88 | W10: 1 | X10: =MAX(O10:Q10)/100 -> 0.88 | Y10: 1
A11: WTY012 | B11: 1 | C11: WN327 | F11: 15.7324 | I11: 17.0428 | L11: 38 | O11: 38 | R11: =AVERAGE(F11:H11)/100 -> 0.157324 | S11: 4 | T11: =AVERAGE(I11:K11)/100 -> 0.170428 | U11: 4 | V11: =MAX(L11:N11)/100 -> 0.38 | W11: 3 | X11: =MAX(O11:Q11)/100 -> 0.38 | Y11: 3
A12: WTY013 | B12: 1 | C12: WN053 | F12: 34.3495 | I12: 42.252 | L12: 88 | O12: 88 | R12: =AVERAGE(F12:H12)/100 -> 0.343495 | S12: 3 | T12: =AVERAGE(I12:K12)/100 -> 0.42252 | U12: 3 | V12: =MAX(L12:N12)/100 -> 0.88 | W12: 1 | X12: =MAX(O12:Q12)/100 -> 0.88 | Y12: 1
A13: WTY014 | B13: 2 | C13: WN003 | D13: WN203 | F13: 48.6727 | G13: 37.449 | I13: 49.63 | J13: 38.619 | L13: 88 | M13: 88 | O13: 88 | P13: 88 | R13: =AVERAGE(F13:H13)/100 -> 0.4306085 | S13: 3 | T13: =AVERAGE(I13:K13)/100 -> 0.441245 | U13: 3 | V13: =MAX(L13:N13)/100 -> 0.88 | W13: 1 | X13: =MAX(O13:Q13)/100 -> 0.88 | Y13: 1
A14: WTY015 | B14: 2 | C14: WN052 | D14: WNK010 | F14: 23.0058 | G14: 27.1587 | I14: 19.0292 | J14: 21.641 | L14: 88 | M14: 88 | O14: 88 | P14: 88 | R14: =AVERAGE(F14:H14)/100 -> 0.2508225 | S14: 3 | T14: =AVERAGE(I14:K14)/100 -> 0.203351 | U14: 4 | V14: =MAX(L14:N14)/100 -> 0.88 | W14: 1 | X14: =MAX(O14:Q14)/100 -> 0.88 | Y14: 1
A15: WTY016 | B15: 1 | C15: WN048 | F15: 42.4827 | I15: 52.4965 | L15: 88 | O15: 88 | R15: =AVERAGE(F15:H15)/100 -> 0.424827 | S15: 3 | T15: =AVERAGE(I15:K15)/100 -> 0.524965 | U15: 2 | V15: =MAX(L15:N15)/100 -> 0.88 | W15: 1 | X15: =MAX(O15:Q15)/100 -> 0.88 | Y15: 1
A16: WTY017 | B16: 1 | C16: WN051 | F16: 23.1182 | I16: 31.466 | L16: 88 | O16: 88 | R16: =AVERAGE(F16:H16)/100 -> 0.231182 | S16: 4 | T16: =AVERAGE(I16:K16)/100 -> 0.31466 | U16: 3 | V16: =MAX(L16:N16)/100 -> 0.88 | W16: 1 | X16: =MAX(O16:Q16)/100 -> 0.88 | Y16: 1
A17: WTY018 | B17: 1 | C17: WN050 | F17: 42.6021 | I17: 46.1121 | L17: 88 | O17: 88 | R17: =AVERAGE(F17:H17)/100 -> 0.426021 | S17: 3 | T17: =AVERAGE(I17:K17)/100 -> 0.461121 | U17: 3 | V17: =MAX(L17:N17)/100 -> 0.88 | W17: 1 | X17: =MAX(O17:Q17)/100 -> 0.88 | Y17: 1
A18: WTY019 | B18: 3 | C18: WN049 | D18: WNK008 | E18: WNK015 | F18: 45.926 | G18: 46.4725 | H18: 42.8957 | I18: 45.4532 | J18: 45.669 | K18: 44.8816 | L18: 88 | M18: 88 | N18: 88 | O18: 88 | P18: 88 | Q18: 88 | R18: =AVERAGE(F18:H18)/100 -> 0.45098067 | S18: 3 | T18: =AVERAGE(I18:K18)/100 -> 0.453346 | U18: 3 | V18: =MAX(L18:N18)/100 -> 0.88 | W18: 1 | X18: =MAX(O18:Q18)/100 -> 0.88 | Y18: 1
A19: WTY020 | B19: 1 | C19: WN228 | F19: 31.5607 | I19: 26.2642 | L19: 88 | O19: 88 | R19: =AVERAGE(F19:H19)/100 -> 0.315607 | S19: 3 | T19: =AVERAGE(I19:K19)/100 -> 0.262642 | U19: 3 | V19: =MAX(L19:N19)/100 -> 0.88 | W19: 1 | X19: =MAX(O19:Q19)/100 -> 0.88 | Y19: 1
A20: WTY021 | B20: 3 | C20: WN227 | D20: WN322 | E20: WNK031 | F20: 24.0674 | G20: 23.4122 | H20: 23.6487 | I20: 24.9769 | J20: 24.5142 | K20: 25.2386 | L20: 63 | M20: 63 | N20: 63 | O20: 38 | P20: 38 | Q20: 63 | R20: =AVERAGE(F20:H20)/100 -> 0.23709433 | S20: 4 | T20: =AVERAGE(I20:K20)/100 -> 0.249099 | U20: 4 | V20: =MAX(L20:N20)/100 -> 0.63 | W20: 2 | X20: =MAX(O20:Q20)/100 -> 0.63 | Y20: 2
A21: WTY022 | B21: 2 | C21: WNK006 | D21: WNK046 | F21: 13.0622 | G21: 13.083 | I21: 12.2442 | J21: 12.6936 | L21: 16 | M21: 63 | O21: 16 | P21: 16 | R21: =AVERAGE(F21:H21)/100 -> 0.130726 | S21: 4 | T21: =AVERAGE(I21:K21)/100 -> 0.124689 | U21: 4 | V21: =MAX(L21:N21)/100 -> 0.63 | W21: 2 | X21: =MAX(O21:Q21)/100 -> 0.16 | Y21: 4
A22: WTY023 | B22: 1 | C22: WN314 | F22: 17.2012 | I22: 16.2163 | L22: 38 | O22: 38 | R22: =AVERAGE(F22:H22)/100 -> 0.172012 | S22: 4 | T22: =AVERAGE(I22:K22)/100 -> 0.162163 | U22: 4 | V22: =MAX(L22:N22)/100 -> 0.38 | W22: 3 | X22: =MAX(O22:Q22)/100 -> 0.38 | Y22: 3
A23: WTY024 | B23: 1 | C23: WN027 | F23: 9.1177 | I23: 10.3294 | L23: 38 | O23: 38 | R23: =AVERAGE(F23:H23)/100 -> 0.091177 | S23: 4 | T23: =AVERAGE(I23:K23)/100 -> 0.103294 | U23: 4 | V23: =MAX(L23:N23)/100 -> 0.38 | W23: 3 | X23: =MAX(O23:Q23)/100 -> 0.38 | Y23: 3
A24: WTY025 | B24: 1 | C24: WN009 | F24: 18.5075 | I24: 20.4302 | L24: 88 | O24: 88 | R24: =AVERAGE(F24:H24)/100 -> 0.185075 | S24: 4 | T24: =AVERAGE(I24:K24)/100 -> 0.204302 | U24: 4 | V24: =MAX(L24:N24)/100 -> 0.88 | W24: 1 | X24: =MAX(O24:Q24)/100 -> 0.88 | Y24: 1
A25: WTY026 | B25: 1 | C25: WN315 | F25: 23.6158 | I25: 20.0588 | L25: 88 | O25: 63 | R25: =AVERAGE(F25:H25)/100 -> 0.236158 | S25: 4 | T25: =AVERAGE(I25:K25)/100 -> 0.200588 | U25: 4 | V25: =MAX(L25:N25)/100 -> 0.88 | W25: 1 | X25: =MAX(O25:Q25)/100 -> 0.63 | Y25: 2
A26: WTY027 | B26: 1 | C26: WN313 | F26: 9.1048 | I26: 11.7613 | L26: 38 | O26: 38 | R26: =AVERAGE(F26:H26)/100 -> 0.091048 | S26: 4 | T26: =AVERAGE(I26:K26)/100 -> 0.117613 | U26: 4 | V26: =MAX(L26:N26)/100 -> 0.38 | W26: 3 | X26: =MAX(O26:Q26)/100 -> 0.38 | Y26: 3
A27: WTY028 | B27: 1 | C27: WN039 | F27: 22.0156 | I27: 22.8669 | L27: 88 | O27: 88 | R27: =AVERAGE(F27:H27)/100 -> 0.220156 | S27: 4 | T27: =AVERAGE(I27:K27)/100 -> 0.228669 | U27: 4 | V27: =MAX(L27:N27)/100 -> 0.88 | W27: 1 | X27: =MAX(O27:Q27)/100 -> 0.88 | Y27: 1
A28: WTY029 | B28: 1 | C28: WN040 | F28: 26.9567 | I28: 25.152 | L28: 38 | O28: 38 | R28: =AVERAGE(F28:H28)/100 -> 0.269567 | S28: 3 | T28: =AVERAGE(I28:K28)/100 -> 0.25152 | U28: 3 | V28: =MAX(L28:N28)/100 -> 0.38 | W28: 3 | X28: =MAX(O28:Q28)/100 -> 0.38 | Y28: 3
A29: WTY031 | B29: 2 | C29: WN236 | D29: WNK016 | F29: 12.0404 | G29: 10.299 | I29: 12.4607 | J29: 10.7524 | L29: 16 | M29: 16 | O29: 16 | P29: 16 | R29: =AVERAGE(F29:H29)/100 -> 0.111697 | S29: 4 | T29: =AVERAGE(I29:K29)/100 -> 0.1160655 | U29: 4 | V29: =MAX(L29:N29)/100 -> 0.16 | W29: 4 | X29: =MAX(O29:Q29)/100 -> 0.16 | Y29: 4
A30: WTY032 | B30: 1 | C30: WN043 | F30: 3.787 | I30: 3.2616 | L30: 16 | O30: 16 | R30: =AVERAGE(F30:H30)/100 -> 0.03787 | S30: 5 | T30: =AVERAGE(I30:K30)/100 -> 0.032616 | U30: 5 | V30: =MAX(L30:N30)/100 -> 0.16 | W30: 4 | X30: =MAX(O30:Q30)/100 -> 0.16 | Y30: 4
A31: WTY033 | B31: 1 | C31: WN305 | F31: 17.1333 | I31: 17.2912 | L31: 38 | O31: 38 | R31: =AVERAGE(F31:H31)/100 -> 0.171333 | S31: 4 | T31: =AVERAGE(I31:K31)/100 -> 0.172912 | U31: 4 | V31: =MAX(L31:N31)/100 -> 0.38 | W31: 3 | X31: =MAX(O31:Q31)/100 -> 0.38 | Y31: 3
A32: WTY034 | B32: 1 | C32: WN233 | F32: 9.3793 | I32: 10.9505 | L32: 38 | O32: 16 | R32: =AVERAGE(F32:H32)/100 -> 0.093793 | S32: 4 | T32: =AVERAGE(I32:K32)/100 -> 0.109505 | U32: 4 | V32: =MAX(L32:N32)/100 -> 0.38 | W32: 3 | X32: =MAX(O32:Q32)/100 -> 0.16 | Y32: 4
A33: WTY035 | B33: 1 | C33: WN306 | F33: 10.3331 | I33: 9.4418 | L33: 38 | O33: 38 | R33: =AVERAGE(F33:H33)/100 -> 0.103331 | S33: 4 | T33: =AVERAGE(I33:K33)/100 -> 0.094418 | U33: 4 | V33: =MAX(L33:N33)/100 -> 0.38 | W33: 3 | X33: =MAX(O33:Q33)/100 -> 0.38 | Y33: 3
A34: WTY036 | B34: 1 | C34: WNK013 | F34: 14.6361 | I34: 14.5094 | L34: 63 | O34: 63 | R34: =AVERAGE(F34:H34)/100 -> 0.146361 | S34: 4 | T34: =AVERAGE(I34:K34)/100 -> 0.145094 | U34: 4 | V34: =MAX(L34:N34)/100 -> 0.63 | W34: 2 | X34: =MAX(O34:Q34)/100 -> 0.63 | Y34: 2
A35: WTY037 | B35: 2 | C35: WN042 | D35: WNK014 | F35: 27.0458 | G35: 26.8519 | I35: 24.7167 | J35: 28.378 | L35: 38 | M35: 63 | O35: 38 | P35: 38 | R35: =AVERAGE(F35:H35)/100 -> 0.2694885 | S35: 3 | T35: =AVERAGE(I35:K35)/100 -> 0.2654735 | U35: 3 | V35: =MAX(L35:N35)/100 -> 0.63 | W35: 2 | X35: =MAX(O35:Q35)/100 -> 0.38 | Y35: 3
A36: WTY038 | B36: 1 | C36: WN232 | F36: 13.0027 | I36: 12.3481 | L36: 16 | O36: 16 | R36: =AVERAGE(F36:H36)/100 -> 0.130027 | S36: 4 | T36: =AVERAGE(I36:K36)/100 -> 0.123481 | U36: 4 | V36: =MAX(L36:N36)/100 -> 0.16 | W36: 4 | X36: =MAX(O36:Q36)/100 -> 0.16 | Y36: 4
A37: WTY039 | B37: 1 | C37: WN325 | F37: 25.7841 | I37: 29.2128 | L37: 38 | O37: 38 | R37: =AVERAGE(F37:H37)/100 -> 0.257841 | S37: 3 | T37: =AVERAGE(I37:K37)/100 -> 0.292128 | U37: 3 | V37: =MAX(L37:N37)/100 -> 0.38 | W37: 3 | X37: =MAX(O37:Q37)/100 -> 0.38 | Y37: 3
A38: WTY042 | B38: 1 | C38: WN307 | F38: 29.2721 | I38: 31.2221 | L38: 63 | O38: 63 | R38: =AVERAGE(F38:H38)/100 -> 0.292721 | S38: 3 | T38: =AVERAGE(I38:K38)/100 -> 0.312221 | U38: 3 | V38: =MAX(L38:N38)/100 -> 0.63 | W38: 2 | X38: =MAX(O38:Q38)/100 -> 0.63 | Y38: 2
A39: WTY044 | B39: 2 | C39: WN308 | D39: WNK025 | F39: 27.4178 | G39: 26.2931 | I39: 29.2629 | J39: 27.5348 | L39: 38 | M39: 38 | O39: 38 | P39: 38 | R39: =AVERAGE(F39:H39)/100 -> 0.2685545 | S39: 3 | T39: =AVERAGE(I39:K39)/100 -> 0.2839885 | U39: 3 | V39: =MAX(L39:N39)/100 -> 0.38 | W39: 3 | X39: =MAX(O39:Q39)/100 -> 0.38 | Y39: 3
A40: WTY045 | B40: 1 | C40: WN235 | F40: 19.8417 | I40: 19.0704 | L40: 63 | O40: 63 | R40: =AVERAGE(F40:H40)/100 -> 0.198417 | S40: 4 | T40: =AVERAGE(I40:K40)/100 -> 0.190704 | U40: 4 | V40: =MAX(L40:N40)/100 -> 0.63 | W40: 2 | X40: =MAX(O40:Q40)/100 -> 0.63 | Y40: 2
...

Sheet Nest WTYs
A1: Sort | B1: WTY | C1: WTY Type | D1: N Nests | E1: Nest1 | F1: Nest2 | G1: Nest3 | N1: Albers_E Average | O1: Albers_N Average | P1: AveSuit300 | Q1: MaxSuit300 | R1: Range | S1: SubRange | T1: Local | U1: Period | V1: WHA | W1: 1994 | X1: 1995 | Y1: 1996 | Z1: 1997 | AA1: 1998 | AB1: 1999 | AC1: 2000 | AD1: 2001 | AE1: 2002 | AF1: 2003 | AG1: 2004 | AH1: 2005 | AI1: 2006 | AJ1: 2007 | AK1: 2008 | AL1: 2009 | AM1: 2010 | AN1: 2011 | AO1: 2012 | AP1: 2013 | AQ1: 2014 | AR1: 2015 | AS1: N | AT1: Y | AU1: P | AV1: B | AW1: PZ | AX1: BZ | AY1: Z | AZ1: PX | BA1: BX | BB1: X | BC1: N Years Nest Search Done | BD1: >3 YR | BE1: >4 year | BF1: Nest Occ Rate | BG1: WTY Occ Rate | BH1: 2006-2008 Nest Search Done | BI1: 2006-8 Nest Occ | BJ1: 2006-2008 Any CPB Done | BK1: 2006-2008 WTY Occ | BL1: Nest 0 1 2006 | BM1: 2007 | BN1: 2008 | BO1: WTY 01 2006 | BP1: 2007 | BQ1: 2008
A2: 5 | B2: WTY001 | C2: Nest | D2: 1 | E2: WN226 | H2: =VLOOKUP($E2,wisa_obs_1994_2015d!$B$2:$P$4617,14,FALSE) -> 1469266 | I2: =VLOOKUP($E2,wisa_obs_1994_2015d!$B$2:$P$4617,15,FALSE) -> 528035 | N2: =AVERAGE(H2,J2,L2) -> 1469266 | O2: =AVERAGE(I2,K2,M2) -> 528035 | P2: 4 | Q2: 1 | R2: Ok-Bdy | S2: OBNaramata | AF2: B | AG2: N | AH2: B | AI2: N | AJ2: N | AK2: Z | AL2: Z | AS2: =COUNTIF($W2:$AR2,AS$1) -> 3 | AT2: =COUNTIF($W2:$AR2,AT$1) -> 0 | AU2: =COUNTIF($W2:$AR2,AU$1) -> 0 | AV2: =COUNTIF($W2:$AR2,AV$1) -> 2 | AW2: =COUNTIF($W2:$AR2,AW$1) -> 0 | AX2: =COUNTIF($W2:$AR2,AX$1) -> 0 | AY2: =COUNTIF($W2:$AR2,AY$1) -> 2 | AZ2: =COUNTIF($W2:$AR2,AZ$1) -> 0 | ... BB2: =COUNTIF($W2:$AR2,BB$1) -> 0 | BC2: =SUM(AS2:AY2) -> 7 | BD2: =IF(BC2>3,1,0) -> 1 | BE2: =IF(BC2>4,1,0) -> 1 | BF2: =SUM(AS2:AT2)/BC2 -> 0.42857143 | BG2: =SUM(AS2:AX2,AZ2:BA2)/SUM(AS2:BB2) -> 0.71428571 | BH2: =COUNT(BL2:BN2) -> 3 | BI2: =IF(BH2>1,SUM(BL2:BN2)/BH2,"") -> 0.66666667 | BJ2: =COUNT(BO2:BQ2) -> 3 | BK2: =IF(BJ2>1,SUM(BO2:BQ2)/BJ2,"") -> 0.66666667 | BL2: 1 | BM2: 1 | BN2: 0 | BO2: 1 | BP2: 1 | BQ2: 0
A3: 14 | B3: WTY002 | C3: Nest | D3: 1 | E3: WN041 | H3: =VLOOKUP($E3,wisa_obs_1994_2015d!$B$2:$P$4617,14,FALSE) -> 1469395 | I3: =VLOOKUP($E3,wisa_obs_1994_2015d!$B$2:$P$4617,15,FALSE) -> 529096 | N3: =AVERAGE(H3,J3,L3) -> 1469395 | O3: =AVERAGE(I3,K3,M3) -> 529096 | P3: 4 | Q3: 1 | R3: Ok-Bdy | S3: OBNaramata | V3: 8-102 | AF3: N | AG3: B | AI3: Z | AJ3: Z | AK3: Z | AL3: Z | AS3: =COUNTIF($W3:$AR3,AS$1) -> 1 | AT3: =COUNTIF($W3:$AR3,AT$1) -> 0 | AU3: =COUNTIF($W3:$AR3,AU$1) -> 0 | AV3: =COUNTIF($W3:$AR3,AV$1) -> 1 | AW3: =COUNTIF($W3:$AR3,AW$1) -> 0 | AX3: =COUNTIF($W3:$AR3,AX$1) -> 0 | AY3: =COUNTIF($W3:$AR3,AY$1) -> 4 | AZ3: =COUNTIF($W3:$AR3,AZ$1) -> 0 | ... BB3: =COUNTIF($W3:$AR3,BB$1) -> 0 | BC3: =SUM(AS3:AY3) -> 6 | BD3: =IF(BC3>3,1,0) -> 1 | BE3: =IF(BC3>4,1,0) -> 1 | BF3: =SUM(AS3:AT3)/BC3 -> 0.16666667 | BG3: =SUM(AS3:AX3,AZ3:BA3)/SUM(AS3:BB3) -> 0.33333333 | BH3: =COUNT(BL3:BN3) -> 3 | BI3: =IF(BH3>1,SUM(BL3:BN3)/BH3,"") -> 0 | BJ3: =COUNT(BO3:BQ3) -> 3 | BK3: =IF(BJ3>1,SUM(BO3:BQ3)/BJ3,"") -> 0 | BL3: 0 | BM3: 0 | BN3: 0 | BO3: 0 | BP3: 0 | BQ3: 0
A4: 22 | B4: WTY003 | C4: Nest | D4: 2 | E4: WN038 | F4: WNK002 | H4: =VLOOKUP($E4,wisa_obs_1994_2015d!$B$2:$P$4617,14,FALSE) -> 1468828 | I4: =VLOOKUP($E4,wisa_obs_1994_2015d!$B$2:$P$4617,15,FALSE) -> 529266 | J4: =VLOOKUP($F4,wisa_obs_1994_2015d!$B$2:$P$4617,14,FALSE) -> 1469072 | K4: =VLOOKUP($F4,wisa_obs_1994_2015d!$B$2:$P$4617,15,FALSE) -> 529251 | N4: =AVERAGE(H4,J4,L4) -> 1468950 | O4: =AVERAGE(I4,K4,M4) -> 529258.5 | P4: 3 | Q4: 2 | R4: Ok-Bdy | S4: OBNaramata | V4: 8-101 | AF4: N | AG4: B | AH4: Z | AI4: N | AJ4: N | AK4: Z | AL4: N | AS4: =COUNTIF($W4:$AR4,AS$1) -> 4 | AT4: =COUNTIF($W4:$AR4,AT$1) -> 0 | AU4: =COUNTIF($W4:$AR4,AU$1) -> 0 | AV4: =COUNTIF($W4:$AR4,AV$1) -> 1 | AW4: =COUNTIF($W4:$AR4,AW$1) -> 0 | AX4: =COUNTIF($W4:$AR4,AX$1) -> 0 | AY4: =COUNTIF($W4:$AR4,AY$1) -> 2 | AZ4: =COUNTIF($W4:$AR4,AZ$1) -> 0 | ... BB4: =COUNTIF($W4:$AR4,BB$1) -> 0 | BC4: =SUM(AS4:AY4) -> 7 | BD4: =IF(BC4>3,1,0) -> 1 | BE4: =IF(BC4>4,1,0) -> 1 | BF4: =SUM(AS4:AT4)/BC4 -> 0.57142857 | BG4: =SUM(AS4:AX4,AZ4:BA4)/SUM(AS4:BB4) -> 0.71428571 | BH4: =COUNT(BL4:BN4) -> 3 | BI4: =IF(BH4>1,SUM(BL4:BN4)/BH4,"") -> 0.66666667 | BJ4: =COUNT(BO4:BQ4) -> 3 | BK4: =IF(BJ4>1,SUM(BO4:BQ4)/BJ4,"") -> 0.66666667 | BL4: 1 | BM4: 1 | BN4: 0 | BO4: 1 | BP4: 1 | BQ4: 0
A5: 30 | B5: WTY004 | C5: Nest | D5: 2 | E5: WN225 | F5: WNK003 | H5: =VLOOKUP($E5,wisa_obs_1994_2015d!$B$2:$P$4617,14,FALSE) -> 1468998 | I5: =VLOOKUP($E5,wisa_obs_1994_2015d!$B$2:$P$4617,15,FALSE) -> 529841 | J5: =VLOOKUP($F5,wisa_obs_1994_2015d!$B$2:$P$4617,14,FALSE) -> 1469074 | K5: =VLOOKUP($F5,wisa_obs_1994_2015d!$B$2:$P$4617,15,FALSE) -> 529898 | N5: =AVERAGE(H5,J5,L5) -> 1469036 | O5: =AVERAGE(I5,K5,M5) -> 529869.5 | P5: 3 | Q5: 3 | R5: Ok-Bdy | S5: OBNaramata | V5: 8-103 | AG5: N | AH5: N | AI5: N | AJ5: Z | AK5: Z | AL5: BZ | AS5: =COUNTIF($W5:$AR5,AS$1) -> 3 | AT5: =COUNTIF($W5:$AR5,AT$1) -> 0 | AU5: =COUNTIF($W5:$AR5,AU$1) -> 0 | AV5: =COUNTIF($W5:$AR5,AV$1) -> 0 | AW5: =COUNTIF($W5:$AR5,AW$1) -> 0 | AX5: =COUNTIF($W5:$AR5,AX$1) -> 1 | AY5: =COUNTIF($W5:$AR5,AY$1) -> 2 | AZ5: =COUNTIF($W5:$AR5,AZ$1) -> 0 | ... BB5: =COUNTIF($W5:$AR5,BB$1) -> 0 | BC5: =SUM(AS5:AY5) -> 6 | BD5: =IF(BC5>3,1,0) -> 1 | BE5: =IF(BC5>4,1,0) -> 1 | BF5: =SUM(AS5:AT5)/BC5 -> 0.5 | BG5: =SUM(AS5:AX5,AZ5:BA5)/SUM(AS5:BB5) -> 0.66666667 | BH5: =COUNT(BL5:BN5) -> 3 | BI5: =IF(BH5>1,SUM(BL5:BN5)/BH5,"") -> 0.33333333 | BJ5: =COUNT(BO5:BQ5) -> 3 | BK5: =IF(BJ5>1,SUM(BO5:BQ5)/BJ5,"") -> 0.33333333 | BL5: 1 | BM5: 0 | BN5: 0 | BO5: 1 | BP5: 0 | BQ5: 0
A6: 40 | B6: WTY005 | C6: Nest | D6: 1 | E6: WNK001 | H6: =VLOOKUP($E6,wisa_obs_1994_2015d!$B$2:$P$4617,14,FALSE) -> 1469399 | I6: =VLOOKUP($E6,wisa_obs_1994_2015d!$B$2:$P$4617,15,FALSE) -> 530281 | N6: =AVERAGE(H6,J6,L6) -> 1469399 | O6: =AVERAGE(I6,K6,M6) -> 530281 | P6: 3 | Q6: 3 | R6: Ok-Bdy | S6: OBNaramata | AF6: B | AG6: B | AH6: B | AI6: N | AJ6: N | AK6: Z | AL6: N | AS6: =COUNTIF($W6:$AR6,AS$1) -> 3 | AT6: =COUNTIF($W6:$AR6,AT$1) -> 0 | AU6: =COUNTIF($W6:$AR6,AU$1) -> 0 | AV6: =COUNTIF($W6:$AR6,AV$1) -> 3 | AW6: =COUNTIF($W6:$AR6,AW$1) -> 0 | AX6: =COUNTIF($W6:$AR6,AX$1) -> 0 | AY6: =COUNTIF($W6:$AR6,AY$1) -> 1 | AZ6: =COUNTIF($W6:$AR6,AZ$1) -> 0 | ... BB6: =COUNTIF($W6:$AR6,BB$1) -> 0 | BC6: =SUM(AS6:AY6) -> 7 | BD6: =IF(BC6>3,1,0) -> 1 | BE6: =IF(BC6>4,1,0) -> 1 | BF6: =SUM(AS6:AT6)/BC6 -> 0.42857143 | BG6: =SUM(AS6:AX6,AZ6:BA6)/SUM(AS6:BB6) -> 0.85714286 | BH6: =COUNT(BL6:BN6) -> 3 | BI6: =IF(BH6>1,SUM(BL6:BN6)/BH6,"") -> 0.66666667 | BJ6: =COUNT(BO6:BQ6) -> 3 | BK6: =IF(BJ6>1,SUM(BO6:BQ6)/BJ6,"") -> 0.66666667 | BL6: 1 | BM6: 1 | BN6: 0 | BO6: 1 | BP6: 1 | BQ6: 0
A7: 47 | B7: WTY006 | C7: Nest | D7: 1 | E7: WNK004 | H7: =VLOOKUP($E7,wisa_obs_1994_2015d!$B$2:$P$4617,14,FALSE) -> 1468549 | I7: =VLOOKUP($E7,wisa_obs_1994_2015d!$B$2:$P$4617,15,FALSE) -> 531127 | N7: =AVERAGE(H7,J7,L7) -> 1468549 | O7: =AVERAGE(I7,K7,M7) -> 531127 | P7: 3 | Q7: 3 | R7: Ok-Bdy | S7: OBNaramata | AG7: B | AI7: N | AJ7: N | AK7: N | AL7: N | AQ7: BX | AS7: =COUNTIF($W7:$AR7,AS$1) -> 4 | AT7: =COUNTIF($W7:$AR7,AT$1) -> 0 | AU7: =COUNTIF($W7:$AR7,AU$1) -> 0 | AV7: =COUNTIF($W7:$AR7,AV$1) -> 1 | AW7: =COUNTIF($W7:$AR7,AW$1) -> 0 | AX7: =COUNTIF($W7:$AR7,AX$1) -> 0 | AY7: =COUNTIF($W7:$AR7,AY$1) -> 0 | AZ7: =COUNTIF($W7:$AR7,AZ$1) -> 0 | ... BB7: =COUNTIF($W7:$AR7,BB$1) -> 0 | BC7: =SUM(AS7:AY7) -> 5 | BD7: =IF(BC7>3,1,0) -> 1 | BE7: =IF(BC7>4,1,0) -> 1 | BF7: =SUM(AS7:AT7)/BC7 -> 0.8 | BG7: =SUM(AS7:AX7,AZ7:BA7)/SUM(AS7:BB7) -> 1 | BH7: =COUNT(BL7:BN7) -> 3 | BI7: =IF(BH7>1,SUM(BL7:BN7)/BH7,"") -> 1 | BJ7: =COUNT(BO7:BQ7) -> 3 | BK7: =IF(BJ7>1,SUM(BO7:BQ7)/BJ7,"") -> 1 | BL7: 1 | BM7: 1 | BN7: 1 | BO7: 1 | BP7: 1 | BQ7: 1
A8: 49 | B8: WTY008 | C8: Nest | D8: 1 | E8: WN023 | H8: =VLOOKUP($E8,wisa_obs_1994_2015d!$B$2:$P$4617,14,FALSE) -> 1475128 | I8: =VLOOKUP($E8,wisa_obs_1994_2015d!$B$2:$P$4617,15,FALSE) -> 504338 | N8: =AVERAGE(H8,J8,L8) -> 1475128 | O8: =AVERAGE(I8,K8,M8) -> 504338 | P8: 4 | Q8: 4 | R8: Ok-Bdy | S8: OBOkFalls | U8: 1996-2000 | V8: Proposed 8-105 | Z8: N | AA8: N | AB8: N | AC8: N | AI8: Z | AJ8: Z | AS8: =COUNTIF($W8:$AR8,AS$1) -> 4 | AT8: =COUNTIF($W8:$AR8,AT$1) -> 0 | AU8: =COUNTIF($W8:$AR8,AU$1) -> 0 | AV8: =COUNTIF($W8:$AR8,AV$1) -> 0 | AW8: =COUNTIF($W8:$AR8,AW$1) -> 0 | AX8: =COUNTIF($W8:$AR8,AX$1) -> 0 | AY8: =COUNTIF($W8:$AR8,AY$1) -> 2 | AZ8: =COUNTIF($W8:$AR8,AZ$1) -> 0 | ... BB8: =COUNTIF($W8:$AR8,BB$1) -> 0 | BC8: =SUM(AS8:AY8) -> 6 | BD8: =IF(BC8>3,1,0) -> 1 | BE8: =IF(BC8>4,1,0) -> 1 | BF8: =SUM(AS8:AT8)/BC8 -> 0.66666667 | BG8: =SUM(AS8:AX8,AZ8:BA8)/SUM(AS8:BB8) -> 0.66666667 | BH8: =COUNT(BL8:BN8) -> 2 | BI8: =IF(BH8>1,SUM(BL8:BN8)/BH8,"") -> 0 | BJ8: =COUNT(BO8:BQ8) -> 2 | BK8: =IF(BJ8>1,SUM(BO8:BQ8)/BJ8,"") -> 0 | BL8: 0 | BM8: 0 | BO8: 0 | BP8: 0
A9: 52 | B9: WTY009 | C9: Nest | D9: 1 | E9: WN202 | H9: =VLOOKUP($E9,wisa_obs_1994_2015d!$B$2:$P$4617,14,FALSE) -> 1503666 | I9: =VLOOKUP($E9,wisa_obs_1994_2015d!$B$2:$P$4617,15,FALSE) -> 501235 | N9: =AVERAGE(H9,J9,L9) -> 1503666 | O9: =AVERAGE(I9,K9,M9) -> 501235 | R9: Ok-Bdy | S9: OBOther | AG9: N | AI9: Z | AJ9: Z | AS9: =COUNTIF($W9:$AR9,AS$1) -> 1 | AT9: =COUNTIF($W9:$AR9,AT$1) -> 0 | AU9: =COUNTIF($W9:$AR9,AU$1) -> 0 | AV9: =COUNTIF($W9:$AR9,AV$1) -> 0 | AW9: =COUNTIF($W9:$AR9,AW$1) -> 0 | AX9: =COUNTIF($W9:$AR9,AX$1) -> 0 | AY9: =COUNTIF($W9:$AR9,AY$1) -> 2 | AZ9: =COUNTIF($W9:$AR9,AZ$1) -> 0 | ... BB9: =COUNTIF($W9:$AR9,BB$1) -> 0 | BC9: =SUM(AS9:AY9) -> 3 | BD9: =IF(BC9>3,1,0) -> 0 | BE9: =IF(BC9>4,1,0) -> 0 | BF9: =SUM(AS9:AT9)/BC9 -> 0.33333333 | BG9: =SUM(AS9:AX9,AZ9:BA9)/SUM(AS9:BB9) -> 0.33333333 | BH9: =COUNT(BL9:BN9) -> 2 | BI9: =IF(BH9>1,SUM(BL9:BN9)/BH9,"") -> 0 | BJ9: =COUNT(BO9:BQ9) -> 2 | BK9: =IF(BJ9>1,SUM(BO9:BQ9)/BJ9,"") -> 0 | BL9: 0 | BM9: 0 | BO9: 0 | BP9: 0
A10: 56 | B10: WTY011 | C10: Nest | D10: 2 | E10: WN001 | F10: WN239 | H10: =VLOOKUP($E10,wisa_obs_1994_2015d!$B$2:$P$4617,14,FALSE) -> 1477373 | I10: =VLOOKUP($E10,wisa_obs_1994_2015d!$B$2:$P$4617,15,FALSE) -> 500773 | J10: =VLOOKUP($F10,wisa_obs_1994_2015d!$B$2:$P$4617,14,FALSE) -> 1477372 | K10: =VLOOKUP($F10,wisa_obs_1994_2015d!$B$2:$P$4617,15,FALSE) -> 500756 | N10: =AVERAGE(H10,J10,L10) -> 1477372.5 | O10: =AVERAGE(I10,K10,M10) -> 500764.5 | P10: 3 | Q10: 1 | R10: Ok-Bdy | S10: OBOkFalls | T10: 201Road | V10: 8-106 | W10: N | AF10: Z | AG10: N | AI10: Z | AJ10: Z | AK10: Z | AL10: Z | AM10: Z | AP10: Z | AR10: Z | AS10: =COUNTIF($W10:$AR10,AS$1) -> 2 | AT10: =COUNTIF($W10:$AR10,AT$1) -> 0 | AU10: =COUNTIF($W10:$AR10,AU$1) -> 0 | AV10: =COUNTIF($W10:$AR10,AV$1) -> 0 | AW10: =COUNTIF($W10:$AR10,AW$1) -> 0 | AX10: =COUNTIF($W10:$AR10,AX$1) -> 0 | AY10: =COUNTIF($W10:$AR10,AY$1) -> 8 | AZ10: =COUNTIF($W10:$AR10,AZ$1) -> 0 | ... BB10: =COUNTIF($W10:$AR10,BB$1) -> 0 | BC10: =SUM(AS10:AY10) -> 10 | BD10: =IF(BC10>3,1,0) -> 1 | BE10: =IF(BC10>4,1,0) -> 1 | BF10: =SUM(AS10:AT10)/BC10 -> 0.2 | BG10: =SUM(AS10:AX10,AZ10:BA10)/SUM(AS10:BB10) -> 0.2 | BH10: =COUNT(BL10:BN10) -> 3 | BI10: =IF(BH10>1,SUM(BL10:BN10)/BH10,"") -> 0 | BJ10: =COUNT(BO10:BQ10) -> 3 | BK10: =IF(BJ10>1,SUM(BO10:BQ10)/BJ10,"") -> 0 | BL10: 0 | BM10: 0 | BN10: 0 | BO10: 0 | BP10: 0 | BQ10: 0
A11: 61 | B11: WTY012 | C11: Nest | D11: 1 | E11: WN327 | H11: =VLOOKUP($E11,wisa_obs_1994_2015d!$B$2:$P$4617,14,FALSE) -> 1477491 | I11: =VLOOKUP($E11,wisa_obs_1994_2015d!$B$2:$P$4617,15,FALSE) -> 499712 | N11: =AVERAGE(H11,J11,L11) -> 1477491 | O11: =AVERAGE(I11,K11,M11) -> 499712 | P11: 4 | Q11: 3 | R11: Ok-Bdy | S11: OBOkFalls | T11: 201Road | AF11: Z | AG11: BZ | AH11: N | AI11: BZ | AJ11: Z | AK11: Z | AL11: Z | AM11: Z | AP11: Z | AR11: Z | AS11: =COUNTIF($W11:$AR11,AS$1) -> 1 | AT11: =COUNTIF($W11:$AR11,AT$1) -> 0 | AU11: =COUNTIF($W11:$AR11,AU$1) -> 0 | AV11: =COUNTIF($W11:$AR11,AV$1) -> 0 | AW11: =COUNTIF($W11:$AR11,AW$1) -> 0 | AX11: =COUNTIF($W11:$AR11,AX$1) -> 2 | AY11: =COUNTIF($W11:$AR11,AY$1) -> 7 | AZ11: =COUNTIF($W11:$AR11,AZ$1) -> 0 | ... BB11: =COUNTIF($W11:$AR11,BB$1) -> 0 | BC11: =SUM(AS11:AY11) -> 10 | BD11: =IF(BC11>3,1,0) -> 1 | BE11: =IF(BC11>4,1,0) -> 1 | BF11: =SUM(AS11:AT11)/BC11 -> 0.1 | BG11: =SUM(AS11:AX11,AZ11:BA11)/SUM(AS11:BB11) -> 0.3 | BH11: =COUNT(BL11:BN11) -> 3 | BI11: =IF(BH11>1,SUM(BL11:BN11)/BH11,"") -> 0 | BJ11: =COUNT(BO11:BQ11) -> 3 | BK11: =IF(BJ11>1,SUM(BO11:BQ11)/BJ11,"") -> 0.33333333 | BL11: 0 | BM11: 0 | BN11: 0 | BO11: 1 | BP11: 0 | BQ11: 0
A12: 70 | B12: WTY013 | C12: Nest | D12: 1 | E12: WN053 | H12: =VLOOKUP($E12,wisa_obs_1994_2015d!$B$2:$P$4617,14,FALSE) -> 1477916 | I12: =VLOOKUP($E12,wisa_obs_1994_2015d!$B$2:$P$4617,15,FALSE) -> 500664 | N12: =AVERAGE(H12,J12,L12) -> 1477916 | O12: =AVERAGE(I12,K12,M12) -> 500664 | P12: 3 | Q12: 1 | R12: Ok-Bdy | S12: OBOkFalls | T12: 201Road | V12: 8-106 | AF12: N | AG12: N | AI12: BZ | AJ12: Z | AK12: BZ | AL12: BZ | AM12: Z | AP12: Z | AR12: Z | AS12: =COUNTIF($W12:$AR12,AS$1) -> 2 | AT12: =COUNTIF($W12:$AR12,AT$1) -> 0 | AU12: =COUNTIF($W12:$AR12,AU$1) -> 0 | AV12: =COUNTIF($W12:$AR12,AV$1) -> 0 | AW12: =COUNTIF($W12:$AR12,AW$1) -> 0 | AX12: =COUNTIF($W12:$AR12,AX$1) -> 3 | AY12: =COUNTIF($W12:$AR12,AY$1) -> 4 | AZ12: =COUNTIF($W12:$AR12,AZ$1) -> 0 | ... BB12: =COUNTIF($W12:$AR12,BB$1) -> 0 | BC12: =SUM(AS12:AY12) -> 9 | BD12: =IF(BC12>3,1,0) -> 1 | BE12: =IF(BC12>4,1,0) -> 1 | BF12: =SUM(AS12:AT12)/BC12 -> 0.22222222 | BG12: =SUM(AS12:AX12,AZ12:BA12)/SUM(AS12:BB12) -> 0.55555556 | BH12: =COUNT(BL12:BN12) -> 3 | BI12: =IF(BH12>1,SUM(BL12:BN12)/BH12,"") -> 0 | BJ12: =COUNT(BO12:BQ12) -> 3 | BK12: =IF(BJ12>1,SUM(BO12:BQ12)/BJ12,"") -> 0.66666667 | BL12: 0 | BM12: 0 | BN12: 0 | BO12: 1 | BP12: 0 | BQ12: 1
A13: 74 | B13: WTY014 | C13: Nest | D13: 2 | E13: WN003 | F13: WN203 | H13: =VLOOKUP($E13,wisa_obs_1994_2015d!$B$2:$P$4617,14,FALSE) -> 1477626 | I13: =VLOOKUP($E13,wisa_obs_1994_2015d!$B$2:$P$4617,15,FALSE) -> 500540 | J13: =VLOOKUP($F13,wisa_obs_1994_2015d!$B$2:$P$4617,14,FALSE) -> 1477517 | K13: =VLOOKUP($F13,wisa_obs_1994_2015d!$B$2:$P$4617,15,FALSE) -> 500383 | N13: =AVERAGE(H13,J13,L13) -> 1477571.5 | O13: =AVERAGE(I13,K13,M13) -> 500461.5 | P13: 3 | Q13: 1 | R13: Ok-Bdy | S13: OBOkFalls | T13: 201Road | V13: 8-106 | W13: N | AF13: Z | AG13: N | AH13: N | AI13: N | AJ13: Z | AK13: Z | AL13: Z | AM13: Z | AP13: Z | AR13: Z | AS13: =COUNTIF($W13:$AR13,AS$1) -> 4 | AT13: =COUNTIF($W13:$AR13,AT$1) -> 0 | AU13: =COUNTIF($W13:$AR13,AU$1) -> 0 | AV13: =COUNTIF($W13:$AR13,AV$1) -> 0 | AW13: =COUNTIF($W13:$AR13,AW$1) -> 0 | AX13: =COUNTIF($W13:$AR13,AX$1) -> 0 | AY13: =COUNTIF($W13:$AR13,AY$1) -> 7 | AZ13: =COUNTIF($W13:$AR13,AZ$1) -> 0 | ... BB13: =COUNTIF($W13:$AR13,BB$1) -> 0 | BC13: =SUM(AS13:AY13) -> 11 | BD13: =IF(BC13>3,1,0) -> 1 | BE13: =IF(BC13>4,1,0) -> 1 | BF13: =SUM(AS13:AT13)/BC13 -> 0.36363636 | BG13: =SUM(AS13:AX13,AZ13:BA13)/SUM(AS13:BB13) -> 0.36363636 | BH13: =COUNT(BL13:BN13) -> 3 | BI13: =IF(BH13>1,SUM(BL13:BN13)/BH13,"") -> 0.33333333 | BJ13: =COUNT(BO13:BQ13) -> 3 | BK13: =IF(BJ13>1,SUM(BO13:BQ13)/BJ13,"") -> 0.33333333 | BL13: 1 | BM13: 0 | BN13: 0 | BO13: 1 | BP13: 0 | BQ13: 0
A14: 85 | B14: WTY015 | C14: Nest | D14: 2 | E14: WN052 | F14: WNK010 | H14: =VLOOKUP($E14,wisa_obs_1994_2015d!$B$2:$P$4617,14,FALSE) -> 1477764 | I14: =VLOOKUP($E14,wisa_obs_1994_2015d!$B$2:$P$4617,15,FALSE) -> 499849 | J14: =VLOOKUP($F14,wisa_obs_1994_2015d!$B$2:$P$4617,14,FALSE) -> 1477764 | K14: =VLOOKUP($F14,wisa_obs_1994_2015d!$B$2:$P$4617,15,FALSE) -> 499911 | N14: =AVERAGE(H14,J14,L14) -> 1477764 | O14: =AVERAGE(I14,K14,M14) -> 499880 | P14: 3 | Q14: 1 | R14: Ok-Bdy | S14: OBOkFalls | T14: 201Road | AF14: N | AG14: Y | AI14: N | AJ14: N | AK14: N | AL14: BZ | AM14: N | AP14: Z | AR14: Z | AS14: =COUNTIF($W14:$AR14,AS$1) -> 5 | AT14: =COUNTIF($W14:$AR14,AT$1) -> 1 | AU14: =COUNTIF($W14:$AR14,AU$1) -> 0 | AV14: =COUNTIF($W14:$AR14,AV$1) -> 0 | AW14: =COUNTIF($W14:$AR14,AW$1) -> 0 | AX14: =COUNTIF($W14:$AR14,AX$1) -> 1 | AY14: =COUNTIF($W14:$AR14,AY$1) -> 2 | AZ14: =COUNTIF($W14:$AR14,AZ$1) -> 0 | ... BB14: =COUNTIF($W14:$AR14,BB$1) -> 0 | BC14: =SUM(AS14:AY14) -> 9 | BD14: =IF(BC14>3,1,0) -> 1 | BE14: =IF(BC14>4,1,0) -> 1 | BF14: =SUM(AS14:AT14)/BC14 -> 0.66666667 | BG14: =SUM(AS14:AX14,AZ14:BA14)/SUM(AS14:BB14) -> 0.77777778 | BH14: =COUNT(BL14:BN14) -> 3 | BI14: =IF(BH14>1,SUM(BL14:BN14)/BH14,"") -> 1 | BJ14: =COUNT(BO14:BQ14) -> 3 | BK14: =IF(BJ14>1,SUM(BO14:BQ14)/BJ14,"") -> 1 | BL14: 1 | BM14: 1 | BN14: 1 | BO14: 1 | BP14: 1 | BQ14: 1
A15: 88 | B15: WTY016 | C15: Nest | D15: 1 | E15: WN048 | H15: =VLOOKUP($E15,wisa_obs_1994_2015d!$B$2:$P$4617,14,FALSE) -> 1478170 | I15: =VLOOKUP($E15,wisa_obs_1994_2015d!$B$2:$P$4617,15,FALSE) -> 499600 | N15: =AVERAGE(H15,J15,L15) -> 1478170 | O15: =AVERAGE(I15,K15,M15) -> 499600 | P15: 3 | Q15: 1 | R15: Ok-Bdy | S15: OBOkFalls | T15: 201Road | V15: 8-108 | AF15: N | AG15: Z | AI15: Z | AJ15: Z | AK15: Z | AL15: Z | AM15: Z | AP15: Z | AR15: Z | AS15: =COUNTIF($W15:$AR15,AS$1) -> 1 | AT15: =COUNTIF($W15:$AR15,AT$1) -> 0 | AU15: =COUNTIF($W15:$AR15,AU$1) -> 0 | AV15: =COUNTIF($W15:$AR15,AV$1) -> 0 | AW15: =COUNTIF($W15:$AR15,AW$1) -> 0 | AX15: =COUNTIF($W15:$AR15,AX$1) -> 0 | AY15: =COUNTIF($W15:$AR15,AY$1) -> 8 | AZ15: =COUNTIF($W15:$AR15,AZ$1) -> 0 | ... BB15: =COUNTIF($W15:$AR15,BB$1) -> 0 | BC15: =SUM(AS15:AY15) -> 9 | BD15: =IF(BC15>3,1,0) -> 1 | BE15: =IF(BC15>4,1,0) -> 1 | BF15: =SUM(AS15:AT15)/BC15 -> 0.11111111 | BG15: =SUM(AS15:AX15,AZ15:BA15)/SUM(AS15:BB15) -> 0.11111111 | BH15: =COUNT(BL15:BN15) -> 3 | BI15: =IF(BH15>1,SUM(BL15:BN15)/BH15,"") -> 0 | BJ15: =COUNT(BO15:BQ15) -> 3 | BK15: =IF(BJ15>1,SUM(BO15:BQ15)/BJ15,"") -> 0 | BL15: 0 | BM15: 0 | BN15: 0 | BO15: 0 | BP15: 0 | BQ15: 0
A16: 93 | B16: WTY017 | C16: Nest | D16: 1 | E16: WN051 | H16: =VLOOKUP($E16,wisa_obs_1994_2015d!$B$2:$P$4617,14,FALSE) -> 1477803 | I16: =VLOOKUP($E16,wisa_obs_1994_2015d!$B$2:$P$4617,15,FALSE) -> 499397 | N16: =AVERAGE(H16,J16,L16) -> 1477803 | O16: =AVERAGE(I16,K16,M16) -> 499397 | P16: 4 | Q16: 1 | R16: Ok-Bdy | S16: OBOkFalls | T16: 201Road | V16: 8-107 | AF16: N | AG16: N | AI16: N | AJ16: N | AK16: N | AL16: N | AM16: Z | AN16: BX | AP16: N | AR16: Z | AS16: =COUNTIF($W16:$AR16,AS$1) -> 7 | AT16: =COUNTIF($W16:$AR16,AT$1) -> 0 | AU16: =COUNTIF($W16:$AR16,AU$1) -> 0 | AV16: =COUNTIF($W16:$AR16,AV$1) -> 0 | AW16: =COUNTIF($W16:$AR16,AW$1) -> 0 | AX16: =COUNTIF($W16:$AR16,AX$1) -> 0 | AY16: =COUNTIF($W16:$AR16,AY$1) -> 2 | AZ16: =COUNTIF($W16:$AR16,AZ$1) -> 0 | ... BB16: =COUNTIF($W16:$AR16,BB$1) -> 0 | BC16: =SUM(AS16:AY16) -> 9 | BD16: =IF(BC16>3,1,0) -> 1 | BE16: =IF(BC16>4,1,0) -> 1 | BF16: =SUM(AS16:AT16)/BC16 -> 0.77777778 | BG16: =SUM(AS16:AX16,AZ16:BA16)/SUM(AS16:BB16) -> 0.8 | BH16: =COUNT(BL16:BN16) -> 3 | BI16: =IF(BH16>1,SUM(BL16:BN16)/BH16,"") -> 1 | BJ16: =COUNT(BO16:BQ16) -> 3 | BK16: =IF(BJ16>1,SUM(BO16:BQ16)/BJ16,"") -> 1 | BL16: 1 | BM16: 1 | BN16: 1 | BO16: 1 | BP16: 1 | BQ16: 1
A17: 102 | B17: WTY018 | C17: Nest | D17: 1 | E17: WN050 | H17: =VLOOKUP($E17,wisa_obs_1994_2015d!$B$2:$P$4617,14,FALSE) -> 1478162 | I17: =VLOOKUP($E17,wisa_obs_1994_2015d!$B$2:$P$4617,15,FALSE) -> 498962 | N17: =AVERAGE(H17,J17,L17) -> 1478162 | O17: =AVERAGE(I17,K17,M17) -> 498962 | P17: 3 | Q17: 1 | R17: Ok-Bdy | S17: OBOkFalls | T17: 201Road | V17: 8-108 | AF17: N | AG17: N | AI17: N | AJ17: BZ | AK17: N | AL17: N | AM17: N | AN17: BX | AP17: Z | AR17: Z | AS17: =COUNTIF($W17:$AR17,AS$1) -> 6 | AT17: =COUNTIF($W17:$AR17,AT$1) -> 0 | AU17: =COUNTIF($W17:$AR17,AU$1) -> 0 | AV17: =COUNTIF($W17:$AR17,AV$1) -> 0 | AW17: =COUNTIF($W17:$AR17,AW$1) -> 0 | AX17: =COUNTIF($W17:$AR17,AX$1) -> 1 | AY17: =COUNTIF($W17:$AR17,AY$1) -> 2 | AZ17: =COUNTIF($W17:$AR17,AZ$1) -> 0 | ... BB17: =COUNTIF($W17:$AR17,BB$1) -> 0 | BC17: =SUM(AS17:AY17) -> 9 | BD17: =IF(BC17>3,1,0) -> 1 | BE17: =IF(BC17>4,1,0) -> 1 | BF17: =SUM(AS17:AT17)/BC17 -> 0.66666667 | BG17: =SUM(AS17:AX17,AZ17:BA17)/SUM(AS17:BB17) -> 0.8 | BH17: =COUNT(BL17:BN17) -> 3 | BI17: =IF(BH17>1,SUM(BL17:BN17)/BH17,"") -> 0.66666667 | BJ17: =COUNT(BO17:BQ17) -> 3 | BK17: =IF(BJ17>1,SUM(BO17:BQ17)/BJ17,"") -> 1 | BL17: 1 | BM17: 0 | BN17: 1 | BO17: 1 | BP17: 1 | BQ17: 1
A18: 107 | B18: WTY019 | C18: Nest | D18: 3 | E18: WN049 | F18: WNK008 | G18: WNK015 | H18: =VLOOKUP($E18,wisa_obs_1994_2015d!$B$2:$P$4617,14,FALSE) -> 1478537 | I18: =VLOOKUP($E18,wisa_obs_1994_2015d!$B$2:$P$4617,15,FALSE) -> 498812 | J18: =VLOOKUP($F18,wisa_obs_1994_2015d!$B$2:$P$4617,14,FALSE) -> 1478528 | K18: =VLOOKUP($F18,wisa_obs_1994_2015d!$B$2:$P$4617,15,FALSE) -> 498824 | L18: =VLOOKUP($G18,wisa_obs_1994_2015d!$B$2:$P$4617,14,FALSE) -> 1478586 | M18: =VLOOKUP($G18,wisa_obs_1994_2015d!$B$2:$P$4617,15,FALSE) -> 498729 | N18: =AVERAGE(H18,J18,L18) -> 1478550.3 | O18: =AVERAGE(I18,K18,M18) -> 498788.33 | P18: 3 | Q18: 1 | R18: Ok-Bdy | S18: OBOkFalls | T18: 201Road | V18: 8-108 | AF18: N | AG18: BZ | AI18: N | AJ18: N | AK18: N | AL18: BZ | AM18: BZ | AP18: Z | AR18: Z | AS18: =COUNTIF($W18:$AR18,AS$1) -> 4 | AT18: =COUNTIF($W18:$AR18,AT$1) -> 0 | AU18: =COUNTIF($W18:$AR18,AU$1) -> 0 | AV18: =COUNTIF($W18:$AR18,AV$1) -> 0 | AW18: =COUNTIF($W18:$AR18,AW$1) -> 0 | AX18: =COUNTIF($W18:$AR18,AX$1) -> 3 | AY18: =COUNTIF($W18:$AR18,AY$1) -> 2 | AZ18: =COUNTIF($W18:$AR18,AZ$1) -> 0 | ... BB18: =COUNTIF($W18:$AR18,BB$1) -> 0 | BC18: =SUM(AS18:AY18) -> 9 | BD18: =IF(BC18>3,1,0) -> 1 | BE18: =IF(BC18>4,1,0) -> 1 | BF18: =SUM(AS18:AT18)/BC18 -> 0.44444444 | BG18: =SUM(AS18:AX18,AZ18:BA18)/SUM(AS18:BB18) -> 0.77777778 | BH18: =COUNT(BL18:BN18) -> 3 | BI18: =IF(BH18>1,SUM(BL18:BN18)/BH18,"") -> 1 | BJ18: =COUNT(BO18:BQ18) -> 3 | BK18: =IF(BJ18>1,SUM(BO18:BQ18)/BJ18,"") -> 1 | BL18: 1 | BM18: 1 | BN18: 1 | BO18: 1 | BP18: 1 | BQ18: 1
A19: 128 | B19: WTY020 | C19: Nest | D19: 1 | E19: WN228 | H19: =VLOOKUP($E19,wisa_obs_1994_2015d!$B$2:$P$4617,14,FALSE) -> 1477835 | I19: =VLOOKUP($E19,wisa_obs_1994_2015d!$B$2:$P$4617,15,FALSE) -> 498791 | N19: =AVERAGE(H19,J19,L19) -> 1477835 | O19: =AVERAGE(I19,K19,M19) -> 498791 | P19: 3 | Q19: 1 | R19: Ok-Bdy | S19: OBOkFalls | T19: 201Road | V19: Proposed 8-109 | AF19: BZ | AG19: N | AI19: BZ | AJ19: Z | AK19: N | AL19: BZ | AM19: Z | AN19: BZ | AP19: Z | AR19: Z | AS19: =COUNTIF($W19:$AR19,AS$1) -> 2 | AT19: =COUNTIF($W19:$AR19,AT$1) -> 0 | AU19: =COUNTIF($W19:$AR19,AU$1) -> 0 | AV19: =COUNTIF($W19:$AR19,AV$1) -> 0 | AW19: =COUNTIF($W19:$AR19,AW$1) -> 0 | AX19: =COUNTIF($W19:$AR19,AX$1) -> 4 | AY19: =COUNTIF($W19:$AR19,AY$1) -> 4 | AZ19: =COUNTIF($W19:$AR19,AZ$1) -> 0 | ... BB19: =COUNTIF($W19:$AR19,BB$1) -> 0 | BC19: =SUM(AS19:AY19) -> 10 | BD19: =IF(BC19>3,1,0) -> 1 | BE19: =IF(BC19>4,1,0) -> 1 | BF19: =SUM(AS19:AT19)/BC19 -> 0.2 | BG19: =SUM(AS19:AX19,AZ19:BA19)/SUM(AS19:BB19) -> 0.6 | BH19: =COUNT(BL19:BN19) -> 3 | BI19: =IF(BH19>1,SUM(BL19:BN19)/BH19,"") -> 0.33333333 | BJ19: =COUNT(BO19:BQ19) -> 3 | BK19: =IF(BJ19>1,SUM(BO19:BQ19)/BJ19,"") -> 0.66666667 | BL19: 0 | BM19: 0 | BN19: 1 | BO19: 1 | BP19: 0 | BQ19: 1
A20: 136 | B20: WTY021 | C20: Nest | D20: 3 | E20: WN227 | F20: WN322 | G20: WNK031 | H20: =VLOOKUP($E20,wisa_obs_1994_2015d!$B$2:$P$4617,14,FALSE) -> 1477352 | I20: =VLOOKUP($E20,wisa_obs_1994_2015d!$B$2:$P$4617,15,FALSE) -> 498225 | J20: =VLOOKUP($F20,wisa_obs_1994_2015d!$B$2:$P$4617,14,FALSE) -> 1477341 | K20: =VLOOKUP($F20,wisa_obs_1994_2015d!$B$2:$P$4617,15,FALSE) -> 498208 | L20: =VLOOKUP($G20,wisa_obs_1994_2015d!$B$2:$P$4617,14,FALSE) -> 1477275 | M20: =VLOOKUP($G20,wisa_obs_1994_2015d!$B$2:$P$4617,15,FALSE) -> 498241 | N20: =AVERAGE(H20,J20,L20) -> 1477322.7 | O20: =AVERAGE(I20,K20,M20) -> 498224.67 | P20: 4 | Q20: 2 | R20: Ok-Bdy | S20: OBOkFalls | T20: 201Road | V20: 8-110 | AF20: Y | AG20: N | AH20: N | AI20: Z | AJ20: BZ | AK20: Z | AL20: BZ | AM20: N | AP20: Z | AQ20: BX | AR20: Z | AS20: =COUNTIF($W20:$AR20,AS$1) -> 3 | AT20: =COUNTIF($W20:$AR20,AT$1) -> 1 | AU20: =COUNTIF($W20:$AR20,AU$1) -> 0 | AV20: =COUNTIF($W20:$AR20,AV$1) -> 0 | AW20: =COUNTIF($W20:$AR20,AW$1) -> 0 | AX20: =COUNTIF($W20:$AR20,AX$1) -> 2 | AY20: =COUNTIF($W20:$AR20,AY$1) -> 4 | AZ20: =COUNTIF($W20:$AR20,AZ$1) -> 0 | ... BB20: =COUNTIF($W20:$AR20,BB$1) -> 0 | BC20: =SUM(AS20:AY20) -> 10 | BD20: =IF(BC20>3,1,0) -> 1 | BE20: =IF(BC20>4,1,0) -> 1 | BF20: =SUM(AS20:AT20)/BC20 -> 0.4 | BG20: =SUM(AS20:AX20,AZ20:BA20)/SUM(AS20:BB20) -> 0.63636364 | BH20: =COUNT(BL20:BN20) -> 3 | BI20: =IF(BH20>1,SUM(BL20:BN20)/BH20,"") -> 0 | BJ20: =COUNT(BO20:BQ20) -> 3 | BK20: =IF(BJ20>1,SUM(BO20:BQ20)/BJ20,"") -> 0.33333333 | BL20: 0 | BM20: 0 | BN20: 0 | BO20: 0 | BP20: 1 | BQ20: 0
A21: 155 | B21: WTY022 | C21: Nest | D21: 2 | E21: WNK006 | F21: WNK046 | H21: =VLOOKUP($E21,wisa_obs_1994_2015d!$B$2:$P$4617,14,FALSE) -> 1476860 | I21: =VLOOKUP($E21,wisa_obs_1994_2015d!$B$2:$P$4617,15,FALSE) -> 497890 | J21: =VLOOKUP($F21,wisa_obs_1994_2015d!$B$2:$P$4617,14,FALSE) -> 1476870 | K21: =VLOOKUP($F21,wisa_obs_1994_2015d!$B$2:$P$4617,15,FALSE) -> 498069 | N21: =AVERAGE(H21,J21,L21) -> 1476865 | O21: =AVERAGE(I21,K21,M21) -> 497979.5 | P21: 4 | Q21: 2 | R21: Ok-Bdy | S21: OBOkFalls | AH21: BZ | AI21: N | AJ21: BZ | AK21: BZ | AN21: BX | AQ21: BX | AR21: N | AS21: =COUNTIF($W21:$AR21,AS$1) -> 2 | AT21: =COUNTIF($W21:$AR21,AT$1) -> 0 | AU21: =COUNTIF($W21:$AR21,AU$1) -> 0 | AV21: =COUNTIF($W21:$AR21,AV$1) -> 0 | AW21: =COUNTIF($W21:$AR21,AW$1) -> 0 | AX21: =COUNTIF($W21:$AR21,AX$1) -> 3 | AY21: =COUNTIF($W21:$AR21,AY$1) -> 0 | AZ21: =COUNTIF($W21:$AR21,AZ$1) -> 0 | ... BB21: =COUNTIF($W21:$AR21,BB$1) -> 0 | BC21: =SUM(AS21:AY21) -> 5 | BD21: =IF(BC21>3,1,0) -> 1 | BE21: =IF(BC21>4,1,0) -> 1 | BF21: =SUM(AS21:AT21)/BC21 -> 0.4 | BG21: =SUM(AS21:AX21,AZ21:BA21)/SUM(AS21:BB21) -> 1 | BH21: =COUNT(BL21:BN21) -> 3 | BI21: =IF(BH21>1,SUM(BL21:BN21)/BH21,"") -> 0.33333333 | BJ21: =COUNT(BO21:BQ21) -> 3 | BK21: =IF(BJ21>1,SUM(BO21:BQ21)/BJ21,"") -> 1 | BL21: 1 | BM21: 0 | BN21: 0 | BO21: 1 | BP21: 1 | BQ21: 1
A22: 161 | B22: WTY023 | C22: Nest | D22: 1 | E22: WN314 | H22: =VLOOKUP($E22,wisa_obs_1994_2015d!$B$2:$P$4617,14,FALSE) -> 1478570 | I22: =VLOOKUP($E22,wisa_obs_1994_2015d!$B$2:$P$4617,15,FALSE) -> 496511 | N22: =AVERAGE(H22,J22,L22) -> 1478570 | O22: =AVERAGE(I22,K22,M22) -> 496511 | P22: 4 | Q22: 3 | R22: Ok-Bdy | S22: OBOkFalls | V22: 8-113 | AH22: N | AI22: Z | AJ22: N | AK22: N | AM22: Z | AS22: =COUNTIF($W22:$AR22,AS$1) -> 3 | AT22: =COUNTIF($W22:$AR22,AT$1) -> 0 | AU22: =COUNTIF($W22:$AR22,AU$1) -> 0 | AV22: =COUNTIF($W22:$AR22,AV$1) -> 0 | AW22: =COUNTIF($W22:$AR22,AW$1) -> 0 | AX22: =COUNTIF($W22:$AR22,AX$1) -> 0 | AY22: =COUNTIF($W22:$AR22,AY$1) -> 2 | AZ22: =COUNTIF($W22:$AR22,AZ$1) -> 0 | ... BB22: =COUNTIF($W22:$AR22,BB$1) -> 0 | BC22: =SUM(AS22:AY22) -> 5 | BD22: =IF(BC22>3,1,0) -> 1 | BE22: =IF(BC22>4,1,0) -> 1 | BF22: =SUM(AS22:AT22)/BC22 -> 0.6 | BG22: =SUM(AS22:AX22,AZ22:BA22)/SUM(AS22:BB22) -> 0.6 | BH22: =COUNT(BL22:BN22) -> 3 | BI22: =IF(BH22>1,SUM(BL22:BN22)/BH22,"") -> 0.66666667 | BJ22: =COUNT(BO22:BQ22) -> 3 | BK22: =IF(BJ22>1,SUM(BO22:BQ22)/BJ22,"") -> 0.66666667 | BL22: 0 | BM22: 1 | BN22: 1 | BO22: 0 | BP22: 1 | BQ22: 1
A23: 163 | B23: WTY024 | C23: Nest | D23: 1 | E23: WN027 | H23: =VLOOKUP($E23,wisa_obs_1994_2015d!$B$2:$P$4617,14,FALSE) -> 1477375 | I23: =VLOOKUP($E23,wisa_obs_1994_2015d!$B$2:$P$4617,15,FALSE) -> 496211 | N23: =AVERAGE(H23,J23,L23) -> 1477375 | O23: =AVERAGE(I23,K23,M23) -> 496211 | P23: 4 | Q23: 3 | R23: Ok-Bdy | S23: OBOkFalls | U23: 1996-2000 | V23: Proposed 8-111 | AA23: N | AB23: Z | AC23: Z | AF23: N | AG23: N | AH23: Z | AI23: Z | AJ23: Z | AK23: Z | AS23: =COUNTIF($W23:$AR23,AS$1) -> 3 | AT23: =COUNTIF($W23:$AR23,AT$1) -> 0 | AU23: =COUNTIF($W23:$AR23,AU$1) -> 0 | AV23: =COUNTIF($W23:$AR23,AV$1) -> 0 | AW23: =COUNTIF($W23:$AR23,AW$1) -> 0 | AX23: =COUNTIF($W23:$AR23,AX$1) -> 0 | AY23: =COUNTIF($W23:$AR23,AY$1) -> 6 | AZ23: =COUNTIF($W23:$AR23,AZ$1) -> 0 | ... BB23: =COUNTIF($W23:$AR23,BB$1) -> 0 | BC23: =SUM(AS23:AY23) -> 9 | BD23: =IF(BC23>3,1,0) -> 1 | BE23: =IF(BC23>4,1,0) -> 1 | BF23: =SUM(AS23:AT23)/BC23 -> 0.33333333 | BG23: =SUM(AS23:AX23,AZ23:BA23)/SUM(AS23:BB23) -> 0.33333333 | BH23: =COUNT(BL23:BN23) -> 3 | BI23: =IF(BH23>1,SUM(BL23:BN23)/BH23,"") -> 0 | BJ23: =COUNT(BO23:BQ23) -> 3 | BK23: =IF(BJ23>1,SUM(BO23:BQ23)/BJ23,"") -> 0 | BL23: 0 | BM23: 0 | BN23: 0 | BO23: 0 | BP23: 0 | BQ23: 0
A24: 165 | B24: WTY025 | C24: Nest | D24: 1 | E24: WN009 | H24: =VLOOKUP($E24,wisa_obs_1994_2015d!$B$2:$P$4617,14,FALSE) -> 1478138 | I24: =VLOOKUP($E24,wisa_obs_1994_2015d!$B$2:$P$4617,15,FALSE) -> 494932 | N24: =AVERAGE(H24,J24,L24) -> 1478138 | O24: =AVERAGE(I24,K24,M24) -> 494932 | P24: 4 | Q24: 1 | R24: Ok-Bdy | S24: OBOkFalls | U24: 1996-2000 | V24: Proposed 8-112 | Y24: N | AA24: Z | AB24: Z | AC24: Z | AG24: Z | AH24: Z | AI24: Z | AJ24: Z | AK24: Z | AS24: =COUNTIF($W24:$AR24,AS$1) -> 1 | AT24: =COUNTIF($W24:$AR24,AT$1) -> 0 | AU24: =COUNTIF($W24:$AR24,AU$1) -> 0 | AV24: =COUNTIF($W24:$AR24,AV$1) -> 0 | AW24: =COUNTIF($W24:$AR24,AW$1) -> 0 | AX24: =COUNTIF($W24:$AR24,AX$1) -> 0 | AY24: =COUNTIF($W24:$AR24,AY$1) -> 8 | AZ24: =COUNTIF($W24:$AR24,AZ$1) -> 0 | ... BB24: =COUNTIF($W24:$AR24,BB$1) -> 0 | BC24: =SUM(AS24:AY24) -> 9 | BD24: =IF(BC24>3,1,0) -> 1 | BE24: =IF(BC24>4,1,0) -> 1 | BF24: =SUM(AS24:AT24)/BC24 -> 0.11111111 | BG24: =SUM(AS24:AX24,AZ24:BA24)/SUM(AS24:BB24) -> 0.11111111 | BH24: =COUNT(BL24:BN24) -> 3 | BI24: =IF(BH24>1,SUM(BL24:BN24)/BH24,"") -> 0 | BJ24: =COUNT(BO24:BQ24) -> 3 | BK24: =IF(BJ24>1,SUM(BO24:BQ24)/BJ24,"") -> 0 | BL24: 0 | BM24: 0 | BN24: 0 | BO24: 0 | BP24: 0 | BQ24: 0
A25: 167 | B25: WTY026 | C25: Nest | D25: 1 | E25: WN315 | H25: =VLOOKUP($E25,wisa_obs_1994_2015d!$B$2:$P$4617,14,FALSE) -> 1478816 | I25: =VLOOKUP($E25,wisa_obs_1994_2015d!$B$2:$P$4617,15,FALSE) -> 494958 | N25: =AVERAGE(H25,J25,L25) -> 1478816 | O25: =AVERAGE(I25,K25,M25) -> 494958 | P25: 4 | Q25: 1 | R25: Ok-Bdy | S25: OBOkFalls | V25: Proposed 8-114 | AH25: N | AI25: Z | AJ25: Z | AS25: =COUNTIF($W25:$AR25,AS$1) -> 1 | AT25: =COUNTIF($W25:$AR25,AT$1) -> 0 | AU25: =COUNTIF($W25:$AR25,AU$1) -> 0 | AV25: =COUNTIF($W25:$AR25,AV$1) -> 0 | AW25: =COUNTIF($W25:$AR25,AW$1) -> 0 | AX25: =COUNTIF($W25:$AR25,AX$1) -> 0 | AY25: =COUNTIF($W25:$AR25,AY$1) -> 2 | AZ25: =COUNTIF($W25:$AR25,AZ$1) -> 0 | ... BB25: =COUNTIF($W25:$AR25,BB$1) -> 0 | BC25: =SUM(AS25:AY25) -> 3 | BD25: =IF(BC25>3,1,0) -> 0 | BE25: =IF(BC25>4,1,0) -> 0 | BF25: =SUM(AS25:AT25)/BC25 -> 0.33333333 | BG25: =SUM(AS25:AX25,AZ25:BA25)/SUM(AS25:BB25) -> 0.33333333 | BH25: =COUNT(BL25:BN25) -> 2 | BI25: =IF(BH25>1,SUM(BL25:BN25)/BH25,"") -> 0 | BJ25: =COUNT(BO25:BQ25) -> 2 | BK25: =IF(BJ25>1,SUM(BO25:BQ25)/BJ25,"") -> 0 | BL25: 0 | BM25: 0 | BO25: 0 | BP25: 0
A26: 170 | B26: WTY027 | C26: Nest | D26: 1 | E26: WN313 | H26: =VLOOKUP($E26,wisa_obs_1994_2015d!$B$2:$P$4617,14,FALSE) -> 1485837 | I26: =VLOOKUP($E26,wisa_obs_1994_2015d!$B$2:$P$4617,15,FALSE) -> 492746 | N26: =AVERAGE(H26,J26,L26) -> 1485837 | O26: =AVERAGE(I26,K26,M26) -> 492746 | P26: 4 | Q26: 3 | R26: Ok-Bdy | S26: OBOkFalls | V26: Proposed 8-115 | AH26: N | AI26: Z | AJ26: Z | AK26: Z | AS26: =COUNTIF($W26:$AR26,AS$1) -> 1 | AT26: =COUNTIF($W26:$AR26,AT$1) -> 0 | AU26: =COUNTIF($W26:$AR26,AU$1) -> 0 | AV26: =COUNTIF($W26:$AR26,AV$1) -> 0 | AW26: =COUNTIF($W26:$AR26,AW$1) -> 0 | AX26: =COUNTIF($W26:$AR26,AX$1) -> 0 | AY26: =COUNTIF($W26:$AR26,AY$1) -> 3 | AZ26: =COUNTIF($W26:$AR26,AZ$1) -> 0 | ... BB26: =COUNTIF($W26:$AR26,BB$1) -> 0 | BC26: =SUM(AS26:AY26) -> 4 | BD26: =IF(BC26>3,1,0) -> 1 | BE26: =IF(BC26>4,1,0) -> 0 | BF26: =SUM(AS26:AT26)/BC26 -> 0.25 | BG26: =SUM(AS26:AX26,AZ26:BA26)/SUM(AS26:BB26) -> 0.25 | BH26: =COUNT(BL26:BN26) -> 3 | BI26: =IF(BH26>1,SUM(BL26:BN26)/BH26,"") -> 0 | BJ26: =COUNT(BO26:BQ26) -> 3 | BK26: =IF(BJ26>1,SUM(BO26:BQ26)/BJ26,"") -> 0 | BL26: 0 | BM26: 0 | BN26: 0 | BO26: 0 | BP26: 0 | BQ26: 0
A27: 175 | B27: WTY028 | C27: Nest | D27: 1 | E27: WN039 | H27: =VLOOKUP($E27,wisa_obs_1994_2015d!$B$2:$P$4617,14,FALSE) -> 1477394 | I27: =VLOOKUP($E27,wisa_obs_1994_2015d!$B$2:$P$4617,15,FALSE) -> 487108 | N27: =AVERAGE(H27,J27,L27) -> 1477394 | O27: =AVERAGE(I27,K27,M27) -> 487108 | P27: 4 | Q27: 1 | R27: Ok-Bdy | S27: OBOliver | V27: Proposed 8-116 | AF27: N | AI27: Z | AJ27: Z | AS27: =COUNTIF($W27:$AR27,AS$1) -> 1 | AT27: =COUNTIF($W27:$AR27,AT$1) -> 0 | AU27: =COUNTIF($W27:$AR27,AU$1) -> 0 | AV27: =COUNTIF($W27:$AR27,AV$1) -> 0 | AW27: =COUNTIF($W27:$AR27,AW$1) -> 0 | AX27: =COUNTIF($W27:$AR27,AX$1) -> 0 | AY27: =COUNTIF($W27:$AR27,AY$1) -> 2 | AZ27: =COUNTIF($W27:$AR27,AZ$1) -> 0 | ... BB27: =COUNTIF($W27:$AR27,BB$1) -> 0 | BC27: =SUM(AS27:AY27) -> 3 | BD27: =IF(BC27>3,1,0) -> 0 | BE27: =IF(BC27>4,1,0) -> 0 | BF27: =SUM(AS27:AT27)/BC27 -> 0.33333333 | BG27: =SUM(AS27:AX27,AZ27:BA27)/SUM(AS27:BB27) -> 0.33333333 | BH27: =COUNT(BL27:BN27) -> 2 | BI27: =IF(BH27>1,SUM(BL27:BN27)/BH27,"") -> 0 | BJ27: =COUNT(BO27:BQ27) -> 2 | BK27: =IF(BJ27>1,SUM(BO27:BQ27)/BJ27,"") -> 0 | BL27: 0 | BM27: 0 | BO27: 0 | BP27: 0
A28: 179 | B28: WTY029 | C28: Nest | D28: 1 | E28: WN040 | H28: =VLOOKUP($E28,wisa_obs_1994_2015d!$B$2:$P$4617,14,FALSE) -> 1478147 | I28: =VLOOKUP($E28,wisa_obs_1994_2015d!$B$2:$P$4617,15,FALSE) -> 486619 | N28: =AVERAGE(H28,J28,L28) -> 1478147 | O28: =AVERAGE(I28,K28,M28) -> 486619 | P28: 3 | Q28: 3 | R28: Ok-Bdy | S28: OBOliver | V28: Proposed 8-117 | AF28: N | AI28: N | AJ28: N | AQ28: BX | AR28: Z | AS28: =COUNTIF($W28:$AR28,AS$1) -> 3 | AT28: =COUNTIF($W28:$AR28,AT$1) -> 0 | AU28: =COUNTIF($W28:$AR28,AU$1) -> 0 | AV28: =COUNTIF($W28:$AR28,AV$1) -> 0 | AW28: =COUNTIF($W28:$AR28,AW$1) -> 0 | AX28: =COUNTIF($W28:$AR28,AX$1) -> 0 | AY28: =COUNTIF($W28:$AR28,AY$1) -> 1 | AZ28: =COUNTIF($W28:$AR28,AZ$1) -> 0 | ... BB28: =COUNTIF($W28:$AR28,BB$1) -> 0 | BC28: =SUM(AS28:AY28) -> 4 | BD28: =IF(BC28>3,1,0) -> 1 | BE28: =IF(BC28>4,1,0) -> 0 | BF28: =SUM(AS28:AT28)/BC28 -> 0.75 | BG28: =SUM(AS28:AX28,AZ28:BA28)/SUM(AS28:BB28) -> 0.8 | BH28: =COUNT(BL28:BN28) -> 2 | BI28: =IF(BH28>1,SUM(BL28:BN28)/BH28,"") -> 1 | BJ28: =COUNT(BO28:BQ28) -> 2 | BK28: =IF(BJ28>1,SUM(BO28:BQ28)/BJ28,"") -> 1 | BL28: 1 | BM28: 1 | BO28: 1 | BP28: 1
A29: 182 | B29: WTY031 | C29: Nest | D29: 2 | E29: WN236 | F29: WNK016 | H29: =VLOOKUP($E29,wisa_obs_1994_2015d!$B$2:$P$4617,14,FALSE) -> 1480350 | I29: =VLOOKUP($E29,wisa_obs_1994_2015d!$B$2:$P$4617,15,FALSE) -> 486163 | J29: =VLOOKUP($F29,wisa_obs_1994_2015d!$B$2:$P$4617,14,FALSE) -> 1480447 | K29: =VLOOKUP($F29,wisa_obs_1994_2015d!$B$2:$P$4617,15,FALSE) -> 486251 | N29: =AVERAGE(H29,J29,L29) -> 1480398.5 | O29: =AVERAGE(I29,K29,M29) -> 486207 | P29: 4 | Q29: 4 | R29: Ok-Bdy | S29: OBOliver | V29: Proposed 8-120 | AG29: N | AI29: N | AJ29: N | AK29: Z | AS29: =COUNTIF($W29:$AR29,AS$1) -> 3 | AT29: =COUNTIF($W29:$AR29,AT$1) -> 0 | AU29: =COUNTIF($W29:$AR29,AU$1) -> 0 | AV29: =COUNTIF($W29:$AR29,AV$1) -> 0 | AW29: =COUNTIF($W29:$AR29,AW$1) -> 0 | AX29: =COUNTIF($W29:$AR29,AX$1) -> 0 | AY29: =COUNTIF($W29:$AR29,AY$1) -> 1 | AZ29: =COUNTIF($W29:$AR29,AZ$1) -> 0 | ... BB29: =COUNTIF($W29:$AR29,BB$1) -> 0 | BC29: =SUM(AS29:AY29) -> 4 | BD29: =IF(BC29>3,1,0) -> 1 | BE29: =IF(BC29>4,1,0) -> 0 | BF29: =SUM(AS29:AT29)/BC29 -> 0.75 | BG29: =SUM(AS29:AX29,AZ29:BA29)/SUM(AS29:BB29) -> 0.75 | BH29: =COUNT(BL29:BN29) -> 3 | BI29: =IF(BH29>1,SUM(BL29:BN29)/BH29,"") -> 0.66666667 | BJ29: =COUNT(BO29:BQ29) -> 3 | BK29: =IF(BJ29>1,SUM(BO29:BQ29)/BJ29,"") -> 0.66666667 | BL29: 1 | BM29: 1 | BN29: 0 | BO29: 1 | BP29: 1 | BQ29: 0
A30: 186 | B30: WTY032 | C30: Nest | D30: 1 | E30: WN043 | H30: =VLOOKUP($E30,wisa_obs_1994_2015d!$B$2:$P$4617,14,FALSE) -> 1480828 | I30: =VLOOKUP($E30,wisa_obs_1994_2015d!$B$2:$P$4617,15,FALSE) -> 486205 | N30: =AVERAGE(H30,J30,L30) -> 1480828 | O30: =AVERAGE(I30,K30,M30) -> 486205 | P30: 5 | Q30: 4 | R30: Ok-Bdy | S30: OBOliver | V30: Proposed 8-118 | AF30: N | AI30: N | AJ30: N | AS30: =COUNTIF($W30:$AR30,AS$1) -> 3 | AT30: =COUNTIF($W30:$AR30,AT$1) -> 0 | AU30: =COUNTIF($W30:$AR30,AU$1) -> 0 | AV30: =COUNTIF($W30:$AR30,AV$1) -> 0 | AW30: =COUNTIF($W30:$AR30,AW$1) -> 0 | AX30: =COUNTIF($W30:$AR30,AX$1) -> 0 | AY30: =COUNTIF($W30:$AR30,AY$1) -> 0 | AZ30: =COUNTIF($W30:$AR30,AZ$1) -> 0 | ... BB30: =COUNTIF($W30:$AR30,BB$1) -> 0 | BC30: =SUM(AS30:AY30) -> 3 | BD30: =IF(BC30>3,1,0) -> 0 | BE30: =IF(BC30>4,1,0) -> 0 | BF30: =SUM(AS30:AT30)/BC30 -> 1 | BG30: =SUM(AS30:AX30,AZ30:BA30)/SUM(AS30:BB30) -> 1 | BH30: =COUNT(BL30:BN30) -> 2 | BI30: =IF(BH30>1,SUM(BL30:BN30)/BH30,"") -> 1 | BJ30: =COUNT(BO30:BQ30) -> 2 | BK30: =IF(BJ30>1,SUM(BO30:BQ30)/BJ30,"") -> 1 | BL30: 1 | BM30: 1 | BO30: 1 | BP30: 1
A31: 192 | B31: WTY033 | C31: Nest | D31: 1 | E31: WN305 | H31: =VLOOKUP($E31,wisa_obs_1994_2015d!$B$2:$P$4617,14,FALSE) -> 1482959 | I31: =VLOOKUP($E31,wisa_obs_1994_2015d!$B$2:$P$4617,15,FALSE) -> 486160 | N31: =AVERAGE(H31,J31,L31) -> 1482959 | O31: =AVERAGE(I31,K31,M31) -> 486160 | P31: 4 | Q31: 3 | R31: Ok-Bdy | S31: OBOliver | V31: Proposed 8-198 | AH31: N | AI31: N | AJ31: Z | AK31: BZ | AS31: =COUNTIF($W31:$AR31,AS$1) -> 2 | AT31: =COUNTIF($W31:$AR31,AT$1) -> 0 | AU31: =COUNTIF($W31:$AR31,AU$1) -> 0 | AV31: =COUNTIF($W31:$AR31,AV$1) -> 0 | AW31: =COUNTIF($W31:$AR31,AW$1) -> 0 | AX31: =COUNTIF($W31:$AR31,AX$1) -> 1 | AY31: =COUNTIF($W31:$AR31,AY$1) -> 1 | AZ31: =COUNTIF($W31:$AR31,AZ$1) -> 0 | ... BB31: =COUNTIF($W31:$AR31,BB$1) -> 0 | BC31: =SUM(AS31:AY31) -> 4 | BD31: =IF(BC31>3,1,0) -> 1 | BE31: =IF(BC31>4,1,0) -> 0 | BF31: =SUM(AS31:AT31)/BC31 -> 0.5 | BG31: =SUM(AS31:AX31,AZ31:BA31)/SUM(AS31:BB31) -> 0.75 | BH31: =COUNT(BL31:BN31) -> 3 | BI31: =IF(BH31>1,SUM(BL31:BN31)/BH31,"") -> 0.33333333 | BJ31: =COUNT(BO31:BQ31) -> 3 | BK31: =IF(BJ31>1,SUM(BO31:BQ31)/BJ31,"") -> 0.66666667 | BL31: 1 | BM31: 0 | BN31: 0 | BO31: 1 | BP31: 0 | BQ31: 1
A32: 195 | B32: WTY034 | C32: Nest | D32: 1 | E32: WN233 | H32: =VLOOKUP($E32,wisa_obs_1994_2015d!$B$2:$P$4617,14,FALSE) -> 1480718 | I32: =VLOOKUP($E32,wisa_obs_1994_2015d!$B$2:$P$4617,15,FALSE) -> 484995 | N32: =AVERAGE(H32,J32,L32) -> 1480718 | O32: =AVERAGE(I32,K32,M32) -> 484995 | P32: 4 | Q32: 3 | R32: Ok-Bdy | S32: OBOliver | V32: 8-190 | AG32: N | AI32: Z | AJ32: Z | AK32: Z | AS32: =COUNTIF($W32:$AR32,AS$1) -> 1 | AT32: =COUNTIF($W32:$AR32,AT$1) -> 0 | AU32: =COUNTIF($W32:$AR32,AU$1) -> 0 | AV32: =COUNTIF($W32:$AR32,AV$1) -> 0 | AW32: =COUNTIF($W32:$AR32,AW$1) -> 0 | AX32: =COUNTIF($W32:$AR32,AX$1) -> 0 | AY32: =COUNTIF($W32:$AR32,AY$1) -> 3 | AZ32: =COUNTIF($W32:$AR32,AZ$1) -> 0 | ... BB32: =COUNTIF($W32:$AR32,BB$1) -> 0 | BC32: =SUM(AS32:AY32) -> 4 | BD32: =IF(BC32>3,1,0) -> 1 | BE32: =IF(BC32>4,1,0) -> 0 | BF32: =SUM(AS32:AT32)/BC32 -> 0.25 | BG32: =SUM(AS32:AX32,AZ32:BA32)/SUM(AS32:BB32) -> 0.25 | BH32: =COUNT(BL32:BN32) -> 3 | BI32: =IF(BH32>1,SUM(BL32:BN32)/BH32,"") -> 0 | BJ32: =COUNT(BO32:BQ32) -> 3 | BK32: =IF(BJ32>1,SUM(BO32:BQ32)/BJ32,"") -> 0 | BL32: 0 | BM32: 0 | BN32: 0 | BO32: 0 | BP32: 0 | BQ32: 0
A33: 202 | B33: WTY035 | C33: Nest | D33: 1 | E33: WN306 | H33: =VLOOKUP($E33,wisa_obs_1994_2015d!$B$2:$P$4617,14,FALSE) -> 1480909 | I33: =VLOOKUP($E33,wisa_obs_1994_2015d!$B$2:$P$4617,15,FALSE) -> 484758 | N33: =AVERAGE(H33,J33,L33) -> 1480909 | O33: =AVERAGE(I33,K33,M33) -> 484758 | P33: 4 | Q33: 3 | R33: Ok-Bdy | S33: OBOliver | V33: 8-190 | AG33: P | AH33: N | AI33: Z | AJ33: Z | AK33: Z | AS33: =COUNTIF($W33:$AR33,AS$1) -> 1 | AT33: =COUNTIF($W33:$AR33,AT$1) -> 0 | AU33: =COUNTIF($W33:$AR33,AU$1) -> 1 | AV33: =COUNTIF($W33:$AR33,AV$1) -> 0 | AW33: =COUNTIF($W33:$AR33,AW$1) -> 0 | AX33: =COUNTIF($W33:$AR33,AX$1) -> 0 | AY33: =COUNTIF($W33:$AR33,AY$1) -> 3 | AZ33: =COUNTIF($W33:$AR33,AZ$1) -> 0 | ... BB33: =COUNTIF($W33:$AR33,BB$1) -> 0 | BC33: =SUM(AS33:AY33) -> 5 | BD33: =IF(BC33>3,1,0) -> 1 | BE33: =IF(BC33>4,1,0) -> 1 | BF33: =SUM(AS33:AT33)/BC33 -> 0.2 | BG33: =SUM(AS33:AX33,AZ33:BA33)/SUM(AS33:BB33) -> 0.4 | BH33: =COUNT(BL33:BN33) -> 3 | BI33: =IF(BH33>1,SUM(BL33:BN33)/BH33,"") -> 0 | BJ33: =COUNT(BO33:BQ33) -> 3 | BK33: =IF(BJ33>1,SUM(BO33:BQ33)/BJ33,"") -> 0 | BL33: 0 | BM33: 0 | BN33: 0 | BO33: 0 | BP33: 0 | BQ33: 0
A34: 216 | B34: WTY036 | C34: Nest | D34: 1 | E34: WNK013 | H34: =VLOOKUP($E34,wisa_obs_1994_2015d!$B$2:$P$4617,14,FALSE) -> 1481520 | I34: =VLOOKUP($E34,wisa_obs_1994_2015d!$B$2:$P$4617,15,FALSE) -> 484805 | N34: =AVERAGE(H34,J34,L34) -> 1481520 | O34: =AVERAGE(I34,K34,M34) -> 484805 | P34: 4 | Q34: 2 | R34: Ok-Bdy | S34: OBOliver | AG34: P | AH34: B | AI34: P | AJ34: N | AK34: N | AS34: =COUNTIF($W34:$AR34,AS$1) -> 2 | AT34: =COUNTIF($W34:$AR34,AT$1) -> 0 | AU34: =COUNTIF($W34:$AR34,AU$1) -> 2 | AV34: =COUNTIF($W34:$AR34,AV$1) -> 1 | AW34: =COUNTIF($W34:$AR34,AW$1) -> 0 | AX34: =COUNTIF($W34:$AR34,AX$1) -> 0 | AY34: =COUNTIF($W34:$AR34,AY$1) -> 0 | AZ34: =COUNTIF($W34:$AR34,AZ$1) -> 0 | ... BB34: =COUNTIF($W34:$AR34,BB$1) -> 0 | BC34: =SUM(AS34:AY34) -> 5 | BD34: =IF(BC34>3,1,0) -> 1 | BE34: =IF(BC34>4,1,0) -> 1 | BF34: =SUM(AS34:AT34)/BC34 -> 0.4 | BG34: =SUM(AS34:AX34,AZ34:BA34)/SUM(AS34:BB34) -> 1 | BH34: =COUNT(BL34:BN34) -> 3 | BI34: =IF(BH34>1,SUM(BL34:BN34)/BH34,"") -> 0.66666667 | BJ34: =COUNT(BO34:BQ34) -> 3 | BK34: =IF(BJ34>1,SUM(BO34:BQ34)/BJ34,"") -> 1 | BL34: 0 | BM34: 1 | BN34: 1 | BO34: 1 | BP34: 1 | BQ34: 1
A35: 222 | B35: WTY037 | C35: Nest | D35: 2 | E35: WN042 | F35: WNK014 | H35: =VLOOKUP($E35,wisa_obs_1994_2015d!$B$2:$P$4617,14,FALSE) -> 1481620 | I35: =VLOOKUP($E35,wisa_obs_1994_2015d!$B$2:$P$4617,15,FALSE) -> 483009 | J35: =VLOOKUP($F35,wisa_obs_1994_2015d!$B$2:$P$4617,14,FALSE) -> 1481948 | K35: =VLOOKUP($F35,wisa_obs_1994_2015d!$B$2:$P$4617,15,FALSE) -> 483005 | N35: =AVERAGE(H35,J35,L35) -> 1481784 | O35: =AVERAGE(I35,K35,M35) -> 483007 | P35: 3 | Q35: 2 | R35: Ok-Bdy | S35: OBOliver | V35: Proposed 8-119 | AF35: N | AG35: BZ | AH35: BZ | AI35: Z | AJ35: N | AK35: N | AS35: =COUNTIF($W35:$AR35,AS$1) -> 3 | AT35: =COUNTIF($W35:$AR35,AT$1) -> 0 | AU35: =COUNTIF($W35:$AR35,AU$1) -> 0 | AV35: =COUNTIF($W35:$AR35,AV$1) -> 0 | AW35: =COUNTIF($W35:$AR35,AW$1) -> 0 | AX35: =COUNTIF($W35:$AR35,AX$1) -> 2 | AY35: =COUNTIF($W35:$AR35,AY$1) -> 1 | AZ35: =COUNTIF($W35:$AR35,AZ$1) -> 0 | ... BB35: =COUNTIF($W35:$AR35,BB$1) -> 0 | BC35: =SUM(AS35:AY35) -> 6 | BD35: =IF(BC35>3,1,0) -> 1 | BE35: =IF(BC35>4,1,0) -> 1 | BF35: =SUM(AS35:AT35)/BC35 -> 0.5 | BG35: =SUM(AS35:AX35,AZ35:BA35)/SUM(AS35:BB35) -> 0.83333333 | BH35: =COUNT(BL35:BN35) -> 3 | BI35: =IF(BH35>1,SUM(BL35:BN35)/BH35,"") -> 0.66666667 | BJ35: =COUNT(BO35:BQ35) -> 3 | BK35: =IF(BJ35>1,SUM(BO35:BQ35)/BJ35,"") -> 0.66666667 | BL35: 0 | BM35: 1 | BN35: 1 | BO35: 0 | BP35: 1 | BQ35: 1
A36: 229 | B36: WTY038 | C36: Nest | D36: 1 | E36: WN232 | H36: =VLOOKUP($E36,wisa_obs_1994_2015d!$B$2:$P$4617,14,FALSE) -> 1482898 | I36: =VLOOKUP($E36,wisa_obs_1994_2015d!$B$2:$P$4617,15,FALSE) -> 482216 | N36: =AVERAGE(H36,J36,L36) -> 1482898 | O36: =AVERAGE(I36,K36,M36) -> 482216 | P36: 4 | Q36: 4 | R36: Ok-Bdy | S36: OBOliver | V36: 8-191 | AG36: N | AH36: N | AI36: N | AJ36: N | AK36: Z | AS36: =COUNTIF($W36:$AR36,AS$1) -> 4 | AT36: =COUNTIF($W36:$AR36,AT$1) -> 0 | AU36: =COUNTIF($W36:$AR36,AU$1) -> 0 | AV36: =COUNTIF($W36:$AR36,AV$1) -> 0 | AW36: =COUNTIF($W36:$AR36,AW$1) -> 0 | AX36: =COUNTIF($W36:$AR36,AX$1) -> 0 | AY36: =COUNTIF($W36:$AR36,AY$1) -> 1 | AZ36: =COUNTIF($W36:$AR36,AZ$1) -> 0 | ... BB36: =COUNTIF($W36:$AR36,BB$1) -> 0 | BC36: =SUM(AS36:AY36) -> 5 | BD36: =IF(BC36>3,1,0) -> 1 | BE36: =IF(BC36>4,1,0) -> 1 | BF36: =SUM(AS36:AT36)/BC36 -> 0.8 | BG36: =SUM(AS36:AX36,AZ36:BA36)/SUM(AS36:BB36) -> 0.8 | BH36: =COUNT(BL36:BN36) -> 3 | BI36: =IF(BH36>1,SUM(BL36:BN36)/BH36,"") -> 0.66666667 | BJ36: =COUNT(BO36:BQ36) -> 3 | BK36: =IF(BJ36>1,SUM(BO36:BQ36)/BJ36,"") -> 0.66666667 | BL36: 1 | BM36: 1 | BN36: 0 | BO36: 1 | BP36: 1 | BQ36: 0
A37: 233 | B37: WTY039 | C37: Nest | D37: 1 | E37: WN325 | H37: =VLOOKUP($E37,wisa_obs_1994_2015d!$B$2:$P$4617,14,FALSE) -> 1481749 | I37: =VLOOKUP($E37,wisa_obs_1994_2015d!$B$2:$P$4617,15,FALSE) -> 480795 | N37: =AVERAGE(H37,J37,L37) -> 1481749 | O37: =AVERAGE(I37,K37,M37) -> 480795 | P37: 3 | Q37: 3 | R37: Ok-Bdy | S37: OBOliver | V37: Proposed 8-212 | AH37: N | AI37: Z | AJ37: Z | AS37: =COUNTIF($W37:$AR37,AS$1) -> 1 | AT37: =COUNTIF($W37:$AR37,AT$1) -> 0 | AU37: =COUNTIF($W37:$AR37,AU$1) -> 0 | AV37: =COUNTIF($W37:$AR37,AV$1) -> 0 | AW37: =COUNTIF($W37:$AR37,AW$1) -> 0 | AX37: =COUNTIF($W37:$AR37,AX$1) -> 0 | AY37: =COUNTIF($W37:$AR37,AY$1) -> 2 | AZ37: =COUNTIF($W37:$AR37,AZ$1) -> 0 | ... BB37: =COUNTIF($W37:$AR37,BB$1) -> 0 | BC37: =SUM(AS37:AY37) -> 3 | BD37: =IF(BC37>3,1,0) -> 0 | BE37: =IF(BC37>4,1,0) -> 0 | BF37: =SUM(AS37:AT37)/BC37 -> 0.33333333 | BG37: =SUM(AS37:AX37,AZ37:BA37)/SUM(AS37:BB37) -> 0.33333333 | BH37: =COUNT(BL37:BN37) -> 2 | BI37: =IF(BH37>1,SUM(BL37:BN37)/BH37,"") -> 0 | BJ37: =COUNT(BO37:BQ37) -> 2 | BK37: =IF(BJ37>1,SUM(BO37:BQ37)/BJ37,"") -> 0 | BL37: 0 | BM37: 0 | BO37: 0 | BP37: 0
A38: 245 | B38: WTY042 | C38: Nest | D38: 1 | E38: WN307 | H38: =VLOOKUP($E38,wisa_obs_1994_2015d!$B$2:$P$4617,14,FALSE) -> 1483908 | I38: =VLOOKUP($E38,wisa_obs_1994_2015d!$B$2:$P$4617,15,FALSE) -> 481692 | N38: =AVERAGE(H38,J38,L38) -> 1483908 | O38: =AVERAGE(I38,K38,M38) -> 481692 | P38: 3 | Q38: 2 | R38: Ok-Bdy | S38: OBOliver | V38: 8-199 | AG38: Y | AH38: N | AI38: Z | AJ38: BZ | AK38: Z | AM38: PX | AQ38: N | AS38: =COUNTIF($W38:$AR38,AS$1) -> 2 | AT38: =COUNTIF($W38:$AR38,AT$1) -> 1 | AU38: =COUNTIF($W38:$AR38,AU$1) -> 0 | AV38: =COUNTIF($W38:$AR38,AV$1) -> 0 | AW38: =COUNTIF($W38:$AR38,AW$1) -> 0 | AX38: =COUNTIF($W38:$AR38,AX$1) -> 1 | AY38: =COUNTIF($W38:$AR38,AY$1) -> 2 | AZ38: =COUNTIF($W38:$AR38,AZ$1) -> 1 | ... BB38: =COUNTIF($W38:$AR38,BB$1) -> 0 | BC38: =SUM(AS38:AY38) -> 6 | BD38: =IF(BC38>3,1,0) -> 1 | BE38: =IF(BC38>4,1,0) -> 1 | BF38: =SUM(AS38:AT38)/BC38 -> 0.5 | BG38: =SUM(AS38:AX38,AZ38:BA38)/SUM(AS38:BB38) -> 0.71428571 | BH38: =COUNT(BL38:BN38) -> 3 | BI38: =IF(BH38>1,SUM(BL38:BN38)/BH38,"") -> 0 | BJ38: =COUNT(BO38:BQ38) -> 3 | BK38: =IF(BJ38>1,SUM(BO38:BQ38)/BJ38,"") -> 0.33333333 | BL38: 0 | BM38: 0 | BN38: 0 | BO38: 0 | BP38: 1 | BQ38: 0
A39: 249 | B39: WTY044 | C39: Nest | D39: 2 | E39: WN308 | F39: WNK025 | H39: =VLOOKUP($E39,wisa_obs_1994_2015d!$B$2:$P$4617,14,FALSE) -> 1484473 | I39: =VLOOKUP($E39,wisa_obs_1994_2015d!$B$2:$P$4617,15,FALSE) -> 482006 | J39: =VLOOKUP($F39,wisa_obs_1994_2015d!$B$2:$P$4617,14,FALSE) -> 1484440 | K39: =VLOOKUP($F39,wisa_obs_1994_2015d!$B$2:$P$4617,15,FALSE) -> 481956 | N39: =AVERAGE(H39,J39,L39) -> 1484456.5 | O39: =AVERAGE(I39,K39,M39) -> 481981 | P39: 3 | Q39: 3 | R39: Ok-Bdy | S39: OBOliver | V39: Proposed 8-200 | AG39: Y | AH39: N | AI39: PZ | AJ39: Z | AK39: N | AS39: =COUNTIF($W39:$AR39,AS$1) -> 2 | AT39: =COUNTIF($W39:$AR39,AT$1) -> 1 | AU39: =COUNTIF($W39:$AR39,AU$1) -> 0 | AV39: =COUNTIF($W39:$AR39,AV$1) -> 0 | AW39: =COUNTIF($W39:$AR39,AW$1) -> 1 | AX39: =COUNTIF($W39:$AR39,AX$1) -> 0 | AY39: =COUNTIF($W39:$AR39,AY$1) -> 1 | AZ39: =COUNTIF($W39:$AR39,AZ$1) -> 0 | ... BB39: =COUNTIF($W39:$AR39,BB$1) -> 0 | BC39: =SUM(AS39:AY39) -> 5 | BD39: =IF(BC39>3,1,0) -> 1 | BE39: =IF(BC39>4,1,0) -> 1 | BF39: =SUM(AS39:AT39)/BC39 -> 0.6 | BG39: =SUM(AS39:AX39,AZ39:BA39)/SUM(AS39:BB39) -> 0.8 | BH39: =COUNT(BL39:BN39) -> 3 | BI39: =IF(BH39>1,SUM(BL39:BN39)/BH39,"") -> 0.33333333 | BJ39: =COUNT(BO39:BQ39) -> 3 | BK39: =IF(BJ39>1,SUM(BO39:BQ39)/BJ39,"") -> 0.66666667 | BL39: 0 | BM39: 0 | BN39: 1 | BO39: 1 | BP39: 0 | BQ39: 1
