Workbook

Sheet Metadata
A1: For Nest WTYs
A2: N | B2: Nest known occupied
A3: Z | B3: Nest not occupied
A4: B | B4: Bird in WTY but not at nest; possibility nest was occupied but not sure
A5: BX | B5: Bird in WTY but no nest search ever done
A6: BZ | B6: Nest known not occupied but bird detected within WTY
A7: BP | B7: Birdsin WTY; Pair seen
A8: X | B8: CPB done <200 m from old nest but no WISA responded
A9: Y | B9: Young seen, so WTY occupied
A11: WTY by year sheet has separate line for every nest, and therefore >1 line per WTY if there were >1 nests.

Sheet Nest Suit
A1: WTY | B1: N Nests | C1: Nest1 | D1: Nest2 | E1: Nest3 | F1: AveSuit300-1 | G1: AveSuit300-2 | H1: AveSuit300-3 | I1: AveSuit225-1 | J1: AveSuit225-2 | K1: AveSuit225-3 | L1: MaxSuit300-1 | M1: MaxSuit300-2 | N1: MaxSuit300-3 | O1: MaxSuit225-1 | P1: MaxSuit225-2 | Q1: MaxSuit225-3 | R1: AveSuit300 | S1: AveSuit300 | T1: AveSuit225 | U1: AveSuit225 | V1: MaxSuit300 | W1: MaxSuit300 | X1: MaxSuit225 | Y1: MaxSuit225
A2: WTY001 | B2: 1 | C2: WN226 | F2: 19.8758 | I2: 15.773 | L2: 88 | O2: 88 | R2: =AVERAGE(F2:H2)/100 -> 0.198758 | S2: 4 | T2: =AVERAGE(I2:K2)/100 -> 0.15773 | U2: 4 | V2: =MAX(L2:N2)/100 -> 0.88 | W2: 1 | X2: =MAX(O2:Q2)/100 -> 0.88 | Y2: 1
A3: WTY002 | B3: 1 | C3: WN041 | F3: 24.2188 | I3: 20.4152 | L3: 88 | O3: 88 | R3: =AVERAGE(F3:H3)/100 -> 0.242188 | S3: 4 | T3: =AVERAGE(I3:K3)/100 -> 0.204152 | U3: 4 | V3: =MAX(L3:N3)/100 -> 0.88 | W3: 1 | X3: =MAX(O3:Q3)/100 -> 0.88 | Y3: 1
A4: WTY003 | B4: 2 | C4: WN038 | D4: WNK002 | F4: 25.0662 | G4: 31.9267 | I4: 23.8087 | J4: 37.2053 | L4: 63 | M4: 63 | O4: 63 | P4: 63 | R4: =AVERAGE(F4:H4)/100 -> 0.2849645 | S4: 3 | T4: =AVERAGE(I4:K4)/100 -> 0.30507 | U4: 3 | V4: =MAX(L4:N4)/100 -> 0.63 | W4: 2 | X4: =MAX(O4:Q4)/100 -> 0.63 | Y4: 2
A5: WTY004 | B5: 2 | C5: WN225 | D5: WNK003 | F5: 24.6454 | G5: 28.1091 | I5: 23.3016 | J5: 28.2542 | L5: 38 | M5: 38 | O5: 38 | P5: 38 | R5: =AVERAGE(F5:H5)/100 -> 0.2637725 | S5: 3 | T5: =AVERAGE(I5:K5)/100 -> 0.257779 | U5: 3 | V5: =MAX(L5:N5)/100 -> 0.38 | W5: 3 | X5: =MAX(O5:Q5)/100 -> 0.38 | Y5: 3
A6: WTY005 | B6: 1 | C6: WNK001 | F6: 28.9261 | I6: 30.0997 | L6: 38 | O6: 38 | R6: =AVERAGE(F6:H6)/100 -> 0.289261 | S6: 3 | T6: =AVERAGE(I6:K6)/100 -> 0.300997 | U6: 3 | V6: =MAX(L6:N6)/100 -> 0.38 | W6: 3 | X6: =MAX(O6:Q6)/100 -> 0.38 | Y6: 3
A7: WTY006 | B7: 1 | C7: WNK004 | F7: 25.0195 | I7: 23.8159 | L7: 38 | O7: 38 | R7: =AVERAGE(F7:H7)/100 -> 0.250195 | S7: 3 | T7: =AVERAGE(I7:K7)/100 -> 0.238159 | U7: 4 | V7: =MAX(L7:N7)/100 -> 0.38 | W7: 3 | X7: =MAX(O7:Q7)/100 -> 0.38 | Y7: 3
A8: WTY008 | B8: 1 | C8: WN023 | F8: 13.9116 | I8: 14.183 | L8: 16 | O8: 16 | R8: =AVERAGE(F8:H8)/100 -> 0.139116 | S8: 4 | T8: =AVERAGE(I8:K8)/100 -> 0.14183 | U8: 4 | V8: =MAX(L8:N8)/100 -> 0.16 | W8: 4 | X8: =MAX(O8:Q8)/100 -> 0.16 | Y8: 4
A9: WTY009 | B9: 1 | C9: WN202
A10: WTY011 | B10: 2 | C10: WN001 | D10: WN239 | F10: 36.6121 | G10: 36.0168 | I10: 41.4842 | J10: 41.5002 | L10: 88 | M10: 88 | O10: 88 | P10: 88 | R10: =AVERAGE(F10:H10)/100 -> 0.3631445 | S10: 3 | T10: =AVERAGE(I10:K10)/100 -> 0.414922 | U10: 3 | V10: =MAX(L10:N10)/100 -> 0.88 | W10: 1 | X10: =MAX(O10:Q10)/100 -> 0.88 | Y10: 1
A11: WTY012 | B11: 1 | C11: WN327 | F11: 15.7324 | I11: 17.0428 | L11: 38 | O11: 38 | R11: =AVERAGE(F11:H11)/100 -> 0.157324 | S11: 4 | T11: =AVERAGE(I11:K11)/100 -> 0.170428 | U11: 4 | V11: =MAX(L11:N11)/100 -> 0.38 | W11: 3 | X11: =MAX(O11:Q11)/100 -> 0.38 | Y11: 3
A12: WTY013 | B12: 1 | C12: WN053 | F12: 34.3495 | I12: 42.252 | L12: 88 | O12: 88 | R12: =AVERAGE(F12:H12)/100 -> 0.343495 | S12: 3 | T12: =AVERAGE(I12:K12)/100 -> 0.42252 | U12: 3 | V12: =MAX(L12:N12)/100 -> 0.88 | W12: 1 | X12: =MAX(O12:Q12)/100 -> 0.88 | Y12: 1
A13: WTY014 | B13: 2 | C13: WN003 | D13: WN203 | F13: 48.6727 | G13: 37.449 | I13: 49.63 | J13: 38.619 | L13: 88 | M13: 88 | O13: 88 | P13: 88 | R13: =AVERAGE(F13:H13)/100 -> 0.4306085 | S13: 3 | T13: =AVERAGE(I13:K13)/100 -> 0.441245 | U13: 3 | V13: =MAX(L13:N13)/100 -> 0.88 | W13: 1 | X13: =MAX(O13:Q13)/100 -> 0.88 | Y13: 1
A14: WTY015 | B14: 2 | C14: WN052 | D14: WNK010 | F14: 23.0058 | G14: 27.1587 | I14: 19.0292 | J14: 21.641 | L14: 88 | M14: 88 | O14: 88 | P14: 88 | R14: =AVERAGE(F14:H14)/100 -> 0.2508225 | S14: 3 | T14: =AVERAGE(I14:K14)/100 -> 0.203351 | U14: 4 | V14: =MAX(L14:N14)/100 -> 0.88 | W14: 1 | X14: =MAX(O14:Q14)/100 -> 0.88 | Y14: 1
A15: WTY016 | B15: 1 | C15: WN048 | F15: 42.4827 | I15: 52.4965 | L15: 88 | O15: 88 | R15: =AVERAGE(F15:H15)/100 -> 0.424827 | S15: 3 | T15: =AVERAGE(I15:K15)/100 -> 0.524965 | U15: 2 | V15: =MAX(L15:N15)/100 -> 0.88 | W15: 1 | X15: =MAX(O15:Q15)/100 -> 0.88 | Y15: 1
A16: WTY017 | B16: 1 | C16: WN051 | F16: 23.1182 | I16: 31.466 | L16: 88 | O16: 88 | R16: =AVERAGE(F16:H16)/100 -> 0.231182 | S16: 4 | T16: =AVERAGE(I16:K16)/100 -> 0.31466 | U16: 3 | V16: =MAX(L16:N16)/100 -> 0.88 | W16: 1 | X16: =MAX(O16:Q16)/100 -> 0.88 | Y16: 1
A17: WTY018 | B17: 1 | C17: WN050 | F17: 42.6021 | I17: 46.1121 | L17: 88 | O17: 88 | R17: =AVERAGE(F17:H17)/100 -> 0.426021 | S17: 3 | T17: =AVERAGE(I17:K17)/100 -> 0.461121 | U17: 3 | V17: =MAX(L17:N17)/100 -> 0.88 | W17: 1 | X17: =MAX(O17:Q17)/100 -> 0.88 | Y17: 1
A18: WTY019 | B18: 3 | C18: WN049 | D18: WNK008 | E18: WNK015 | F18: 45.926 | G18: 46.4725 | H18: 42.8957 | I18: 45.4532 | J18: 45.669 | K18: 44.8816 | L18: 88 | M18: 88 | N18: 88 | O18: 88 | P18: 88 | Q18: 88 | R18: =AVERAGE(F18:H18)/100 -> 0.45098067 | S18: 3 | T18: =AVERAGE(I18:K18)/100 -> 0.453346 | U18: 3 | V18: =MAX(L18:N18)/100 -> 0.88 | W18: 1 | X18: =MAX(O18:Q18)/100 -> 0.88 | Y18: 1
A19: WTY020 | B19: 1 | C19: WN228 | F19: 31.5607 | I19: 26.2642 | L19: 88 | O19: 88 | R19: =AVERAGE(F19:H19)/100 -> 0.315607 | S19: 3 | T19: =AVERAGE(I19:K19)/100 -> 0.262642 | U19: 3 | V19: =MAX(L19:N19)/100 -> 0.88 | W19: 1 | X19: =MAX(O19:Q19)/100 -> 0.88 | Y19: 1
A20: WTY021 | B20: 3 | C20: WN227 | D20: WN322 | E20: WNK031 | F20: 24.0674 | G20: 23.4122 | H20: 23.6487 | I20: 24.9769 | J20: 24.5142 | K20: 25.2386 | L20: 63 | M20: 63 | N20: 63 | O20: 38 | P20: 38 | Q20: 63 | R20: =AVERAGE(F20:H20)/100 -> 0.23709433 | S20: 4 | T20: =AVERAGE(I20:K20)/100 -> 0.249099 | U20: 4 | V20: =MAX(L20:N20)/100 -> 0.63 | W20: 2 | X20: =MAX(O20:Q20)/100 -> 0.63 | Y20: 2
A21: WTY022 | B21: 2 | C21: WNK006 | D21: WNK046 | F21: 13.0622 | G21: 13.083 | I21: 12.2442 | J21: 12.6936 | L21: 16 | M21: 63 | O21: 16 | P21: 16 | R21: =AVERAGE(F21:H21)/100 -> 0.130726 | S21: 4 | T21: =AVERAGE(I21:K21)/100 -> 0.124689 | U21: 4 | V21: =MAX(L21:N21)/100 -> 0.63 | W21: 2 | X21: =MAX(O21:Q21)/100 -> 0.16 | Y21: 4
A22: WTY023 | B22: 1 | C22: WN314 | F22: 17.2012 | I22: 16.2163 | L22: 38 | O22: 38 | R22: =AVERAGE(F22:H22)/100 -> 0.172012 | S22: 4 | T22: =AVERAGE(I22:K22)/100 -> 0.162163 | U22: 4 | V22: =MAX(L22:N22)/100 -> 0.38 | W22: 3 | X22: =MAX(O22:Q22)/100 -> 0.38 | Y22: 3
A23: WTY024 | B23: 1 | C23: WN027 | F23: 9.1177 | I23: 10.3294 | L23: 38 | O23: 38 | R23: =AVERAGE(F23:H23)/100 -> 0.091177 | S23: 4 | T23: =AVERAGE(I23:K23)/100 -> 0.103294 | U23: 4 | V23: =MAX(L23:N23)/100 -> 0.38 | W23: 3 | X23: =MAX(O23:Q23)/100 -> 0.38 | Y23: 3
A24: WTY025 | B24: 1 | C24: WN009 | F24: 18.5075 | I24: 20.4302 | L24: 88 | O24: 88 | R24: =AVERAGE(F24:H24)/100 -> 0.185075 | S24: 4 | T24: =AVERAGE(I24:K24)/100 -> 0.204302 | U24: 4 | V24: =MAX(L24:N24)/100 -> 0.88 | W24: 1 | X24: =MAX(O24:Q24)/100 -> 0.88 | Y24: 1
A25: WTY026 | B25: 1 | C25: WN315 | F25: 23.6158 | I25: 20.0588 | L25: 88 | O25: 63 | R25: =AVERAGE(F25:H25)/100 -> 0.236158 | S25: 4 | T25: =AVERAGE(I25:K25)/100 -> 0.200588 | U25: 4 | V25: =MAX(L25:N25)/100 -> 0.88 | W25: 1 | X25: =MAX(O25:Q25)/100 -> 0.63 | Y25: 2
A26: WTY027 | B26: 1 | C26: WN313 | F26: 9.1048 | I26: 11.7613 | L26: 38 | O26: 38 | R26: =AVERAGE(F26:H26)/100 -> 0.091048 | S26: 4 | T26: =AVERAGE(I26:K26)/100 -> 0.117613 | U26: 4 | V26: =MAX(L26:N26)/100 -> 0.38 | W26: 3 | X26: =MAX(O26:Q26)/100 -> 0.38 | Y26: 3
A27: WTY028 | B27: 1 | C27: WN039 | F27: 22.0156 | I27: 22.8669 | L27: 88 | O27: 88 | R27: =AVERAGE(F27:H27)/100 -> 0.220156 | S27: 4 | T27: =AVERAGE(I27:K27)/100 -> 0.228669 | U27: 4 | V27: =MAX(L27:N27)/100 -> 0.88 | W27: 1 | X27: =MAX(O27:Q27)/100 -> 0.88 | Y27: 1
A28: WTY029 | B28: 1 | C28: WN040 | F28: 26.9567 | I28: 25.152 | L28: 38 | O28: 38 | R28: =AVERAGE(F28:H28)/100 -> 0.269567 | S28: 3 | T28: =AVERAGE(I28:K28)/100 -> 0.25152 | U28: 3 | V28: =MAX(L28:N28)/100 -> 0.38 | W28: 3 | X28: =MAX(O28:Q28)/100 -> 0.38 | Y28: 3
A29: WTY031 | B29: 2 | C29: WN236 | D29: WNK016 | F29: 12.0404 | G29: 10.299 | I29: 12.4607 | J29: 10.7524 | L29: 16 | M29: 16 | O29: 16 | P29: 16 | R29: =AVERAGE(F29:H29)/100 -> 0.111697 | S29: 4 | T29: =AVERAGE(I29:K29)/100 -> 0.1160655 | U29: 4 | V29: =MAX(L29:N29)/100 -> 0.16 | W29: 4 | X29: =MAX(O29:Q29)/100 -> 0.16 | Y29: 4
A30: WTY032 | B30: 1 | C30: WN043 | F30: 3.787 | I30: 3.2616 | L30: 16 | O30: 16 | R30: =AVERAGE(F30:H30)/100 -> 0.03787 | S30: 5 | T30: =AVERAGE(I30:K30)/100 -> 0.032616 | U30: 5 | V30: =MAX(L30:N30)/100 -> 0.16 | W30: 4 | X30: =MAX(O30:Q30)/100 -> 0.16 | Y30: 4
A31: WTY033 | B31: 1 | C31: WN305 | F31: 17.1333 | I31: 17.2912 | L31: 38 | O31: 38 | R31: =AVERAGE(F31:H31)/100 -> 0.171333 | S31: 4 | T31: =AVERAGE(I31:K31)/100 -> 0.172912 | U31: 4 | V31: =MAX(L31:N31)/100 -> 0.38 | W31: 3 | X31: =MAX(O31:Q31)/100 -> 0.38 | Y31: 3
A32: WTY034 | B32: 1 | C32: WN233 | F32: 9.3793 | I32: 10.9505 | L32: 38 | O32: 16 | R32: =AVERAGE(F32:H32)/100 -> 0.093793 | S32: 4 | T32: =AVERAGE(I32:K32)/100 -> 0.109505 | U32: 4 | V32: =MAX(L32:N32)/100 -> 0.38 | W32: 3 | X32: =MAX(O32:Q32)/100 -> 0.16 | Y32: 4
A33: WTY035 | B33: 1 | C33: WN306 | F33: 10.3331 | I33: 9.4418 | L33: 38 | O33: 38 | R33: =AVERAGE(F33:H33)/100 -> 0.103331 | S33: 4 | T33: =AVERAGE(I33:K33)/100 -> 0.094418 | U33: 4 | V33: =MAX(L33:N33)/100 -> 0.38 | W33: 3 | X33: =MAX(O33:Q33)/100 -> 0.38 | Y33: 3
A34: WTY036 | B34: 1 | C34: WNK013 | F34: 14.6361 | I34: 14.5094 | L34: 63 | O34: 63 | R34: =AVERAGE(F34:H34)/100 -> 0.146361 | S34: 4 | T34: =AVERAGE(I34:K34)/100 -> 0.145094 | U34: 4 | V34: =MAX(L34:N34)/100 -> 0.63 | W34: 2 | X34: =MAX(O34:Q34)/100 -> 0.63 | Y34: 2
A35: WTY037 | B35: 2 | C35: WN042 | D35: WNK014 | F35: 27.0458 | G35: 26.8519 | I35: 24.7167 | J35: 28.378 | L35: 38 | M35: 63 | O35: 38 | P35: 38 | R35: =AVERAGE(F35:H35)/100 -> 0.2694885 | S35: 3 | T35: =AVERAGE(I35:K35)/100 -> 0.2654735 | U35: 3 | V35: =MAX(L35:N35)/100 -> 0.63 | W35: 2 | X35: =MAX(O35:Q35)/100 -> 0.38 | Y35: 3
A36: WTY038 | B36: 1 | C36: WN232 | F36: 13.0027 | I36: 12.3481 | L36: 16 | O36: 16 | R36: =AVERAGE(F36:H36)/100 -> 0.130027 | S36: 4 | T36: =AVERAGE(I36:K36)/100 -> 0.123481 | U36: 4 | V36: =MAX(L36:N36)/100 -> 0.16 | W36: 4 | X36: =MAX(O36:Q36)/100 -> 0.16 | Y36: 4
A37: WTY039 | B37: 1 | C37: WN325 | F37: 25.7841 | I37: 29.2128 | L37: 38 | O37: 38 | R37: =AVERAGE(F37:H37)/100 -> 0.257841 | S37: 3 | T37: =AVERAGE(I37:K37)/100 -> 0.292128 | U37: 3 | V37: =MAX(L37:N37)/100 -> 0.38 | W37: 3 | X37: =MAX(O37:Q37)/100 -> 0.38 | Y37: 3
A38: WTY042 | B38: 1 | C38: WN307 | F38: 29.2721 | I38: 31.2221 | L38: 63 | O38: 63 | R38: =AVERAGE(F38:H38)/100 -> 0.292721 | S38: 3 | T38: =AVERAGE(I38:K38)/100 -> 0.312221 | U38: 3 | V38: =MAX(L38:N38)/100 -> 0.63 | W38: 2 | X38: =MAX(O38:Q38)/100 -> 0.63 | Y38: 2
A39: WTY044 | B39: 2 | C39: WN308 | D39: WNK025 | F39: 27.4178 | G39: 26.2931 | I39: 29.2629 | J39: 27.5348 | L39: 38 | M39: 38 | O39: 38 | P39: 38 | R39: =AVERAGE(F39:H39)/100 -> 0.2685545 | S39: 3 | T39: =AVERAGE(I39:K39)/100 -> 0.2839885 | U39: 3 | V39: =MAX(L39:N39)/100 -> 0.38 | W39: 3 | X39: =MAX(O39:Q39)/100 -> 0.38 | Y39: 3
A40: WTY045 | B40: 1 | C40: WN235 | F40: 19.8417 | I40: 19.0704 | L40: 63 | O40: 63 | R40: =AVERAGE(F40:H40)/100 -> 0.198417 | S40: 4 | T40: =AVERAGE(I40:K40)/100 -> 0.190704 | U40: 4 | V40: =MAX(L40:N40)/100 -> 0.63 | W40: 2 | X40: =MAX(O40:Q40)/100 -> 0.63 | Y40: 2
A41: WTY047 | B41: 1 | C41: WN231 | F41: 26.7995 | I41: 28.1363 | L41: 63 | O41: 63 | R41: =AVERAGE(F41:H41)/100 -> 0.267995 | S41: 3 | T41: =AVERAGE(I41:K41)/100 -> 0.281363 | U41: 3 | V41: =MAX(L41:N41)/100 -> 0.63 | W41: 2 | X41: =MAX(O41:Q41)/100 -> 0.63 | Y41: 2
A42: WTY049 | B42: 1 | C42: WN230 | F42: 15.2509 | I42: 14.1994 | L42: 38 | O42: 38 | R42: =AVERAGE(F42:H42)/100 -> 0.152509 | S42: 4 | T42: =AVERAGE(I42:K42)/100 -> 0.141994 | U42: 4 | V42: =MAX(L42:N42)/100 -> 0.38 | W42: 3 | X42: =MAX(O42:Q42)/100 -> 0.38 | Y42: 3
A43: WTY050 | B43: 1 | C43: WN309 | F43: 26.4943 | I43: 29.9118 | L43: 38 | O43: 38 | R43: =AVERAGE(F43:H43)/100 -> 0.264943 | S43: 3 | T43: =AVERAGE(I43:K43)/100 -> 0.299118 | U43: 3 | V43: =MAX(L43:N43)/100 -> 0.38 | W43: 3 | X43: =MAX(O43:Q43)/100 -> 0.38 | Y43: 3
A44: WTY051 | B44: 1 | C44: WN326 | F44: 33.3469 | I44: 35.8429 | L44: 38 | O44: 38 | R44: =AVERAGE(F44:H44)/100 -> 0.333469 | S44: 3 | T44: =AVERAGE(I44:K44)/100 -> 0.358429 | U44: 3 | V44: =MAX(L44:N44)/100 -> 0.38 | W44: 3 | X44: =MAX(O44:Q44)/100 -> 0.38 | Y44: 3
A45: WTY052 | B45: 1 | C45: WN234 | F45: 31.1064 | I45: 30.5712 | L45: 38 | O45: 38 | R45: =AVERAGE(F45:H45)/100 -> 0.311064 | S45: 3 | T45: =AVERAGE(I45:K45)/100 -> 0.305712 | U45: 3 | V45: =MAX(L45:N45)/100 -> 0.38 | W45: 3 | X45: =MAX(O45:Q45)/100 -> 0.38 | Y45: 3
A46: WTY053 | B46: 1 | C46: WN229 | F46: 14.8265 | I46: 12.4708 | L46: 38 | O46: 38 | R46: =AVERAGE(F46:H46)/100 -> 0.148265 | S46: 4 | T46: =AVERAGE(I46:K46)/100 -> 0.124708 | U46: 4 | V46: =MAX(L46:N46)/100 -> 0.38 | W46: 3 | X46: =MAX(O46:Q46)/100 -> 0.38 | Y46: 3
A47: WTY054 | B47: 1 | C47: WN010 | F47: 13.7822 | I47: 13.3311 | L47: 38 | O47: 38 | R47: =AVERAGE(F47:H47)/100 -> 0.137822 | S47: 4 | T47: =AVERAGE(I47:K47)/100 -> 0.133311 | U47: 4 | V47: =MAX(L47:N47)/100 -> 0.38 | W47: 3 | X47: =MAX(O47:Q47)/100 -> 0.38 | Y47: 3
A48: WTY056 | B48: 1 | C48: WN044 | F48: 19.7809 | I48: 24.6154 | L48: 88 | O48: 88 | R48: =AVERAGE(F48:H48)/100 -> 0.197809 | S48: 4 | T48: =AVERAGE(I48:K48)/100 -> 0.246154 | U48: 4 | V48: =MAX(L48:N48)/100 -> 0.88 | W48: 1 | X48: =MAX(O48:Q48)/100 -> 0.88 | Y48: 1
A49: WTY059 | B49: 1 | C49: WN209 | F49: 24.5567 | I49: 22.9059 | L49: 63 | O49: 63 | R49: =AVERAGE(F49:H49)/100 -> 0.245567 | S49: 4 | T49: =AVERAGE(I49:K49)/100 -> 0.229059 | U49: 4 | V49: =MAX(L49:N49)/100 -> 0.63 | W49: 2 | X49: =MAX(O49:Q49)/100 -> 0.63 | Y49: 2
A50: WTY060 | B50: 1 | C50: WN201 | F50: 3.6906 | I50: 3.0405 | L50: 16 | O50: 3 | R50: =AVERAGE(F50:H50)/100 -> 0.036906 | S50: 5 | T50: =AVERAGE(I50:K50)/100 -> 0.030405 | U50: 5 | V50: =MAX(L50:N50)/100 -> 0.16 | W50: 4 | X50: =MAX(O50:Q50)/100 -> 0.03 | Y50: 5
A51: WTY061 | B51: 1 | C51: WN224 | F51: 14.076 | I51: 13.0295 | L51: 38 | O51: 38 | R51: =AVERAGE(F51:H51)/100 -> 0.14076 | S51: 4 | T51: =AVERAGE(I51:K51)/100 -> 0.130295 | U51: 4 | V51: =MAX(L51:N51)/100 -> 0.38 | W51: 3 | X51: =MAX(O51:Q51)/100 -> 0.38 | Y51: 3
A52: WTY062 | B52: 1 | C52: WN210 | F52: 13.4627 | I52: 14.8246 | L52: 16 | O52: 16 | R52: =AVERAGE(F52:H52)/100 -> 0.134627 | S52: 4 | T52: =AVERAGE(I52:K52)/100 -> 0.148246 | U52: 4 | V52: =MAX(L52:N52)/100 -> 0.16 | W52: 4 | X52: =MAX(O52:Q52)/100 -> 0.16 | Y52: 4
A53: WTY063 | B53: 2 | C53: WN019 | D53: WN047 | F53: 15.1671 | G53: 15.9556 | I53: 15.5804 | J53: 16 | L53: 16 | M53: 16 | O53: 16 | P53: 16 | R53: =AVERAGE(F53:H53)/100 -> 0.1556135 | S53: 4 | T53: =AVERAGE(I53:K53)/100 -> 0.157902 | U53: 4 | V53: =MAX(L53:N53)/100 -> 0.16 | W53: 4 | X53: =MAX(O53:Q53)/100 -> 0.16 | Y53: 4
A54: WTY064 | B54: 2 | C54: WN037 | D54: WNB007 | F54: 2.3999 | G54: 2.3999 | I54: 2.2703 | J54: 2.2703 | L54: 38 | M54: 38 | O54: 16 | P54: 16 | R54: =AVERAGE(F54:H54)/100 -> 0.023999 | S54: 5 | T54: =AVERAGE(I54:K54)/100 -> 0.022703 | U54: 5 | V54: =MAX(L54:N54)/100 -> 0.38 | W54: 3 | X54: =MAX(O54:Q54)/100 -> 0.16 | Y54: 4
A55: WTY065 | B55: 1 | C55: WN310 | F55: 4.998 | I55: 5.8394 | L55: 16 | O55: 16 | R55: =AVERAGE(F55:H55)/100 -> 0.04998 | S55: 5 | T55: =AVERAGE(I55:K55)/100 -> 0.058394 | U55: 4 | V55: =MAX(L55:N55)/100 -> 0.16 | W55: 4 | X55: =MAX(O55:Q55)/100 -> 0.16 | Y55: 4
A56: WTY067 | B56: 1 | C56: WN016 | F56: 22.7783 | I56: 27.5644 | L56: 63 | O56: 63 | R56: =AVERAGE(F56:H56)/100 -> 0.227783 | S56: 4 | T56: =AVERAGE(I56:K56)/100 -> 0.275644 | U56: 3 | V56: =MAX(L56:N56)/100 -> 0.63 | W56: 2 | X56: =MAX(O56:Q56)/100 -> 0.63 | Y56: 2
A57: WTY069 | B57: 1 | C57: WNB038 | F57: 20.9211 | I57: 19.7443 | L57: 38 | O57: 38 | R57: =AVERAGE(F57:H57)/100 -> 0.209211 | S57: 4 | T57: =AVERAGE(I57:K57)/100 -> 0.197443 | U57: 4 | V57: =MAX(L57:N57)/100 -> 0.38 | W57: 3 | X57: =MAX(O57:Q57)/100 -> 0.38 | Y57: 3
A58: WTY070 | B58: 1 | C58: WN311 | F58: 24.1769 | I58: 23.5601 | L58: 38 | O58: 38 | R58: =AVERAGE(F58:H58)/100 -> 0.241769 | S58: 4 | T58: =AVERAGE(I58:K58)/100 -> 0.235601 | U58: 4 | V58: =MAX(L58:N58)/100 -> 0.38 | W58: 3 | X58: =MAX(O58:Q58)/100 -> 0.38 | Y58: 3
A59: WTY071 | B59: 1 | C59: WN312 | F59: 21.939 | I59: 19.7041 | L59: 38 | O59: 38 | R59: =AVERAGE(F59:H59)/100 -> 0.21939 | S59: 4 | T59: =AVERAGE(I59:K59)/100 -> 0.197041 | U59: 4 | V59: =MAX(L59:N59)/100 -> 0.38 | W59: 3 | X59: =MAX(O59:Q59)/100 -> 0.38 | Y59: 3
A60: WTY072 | B60: 1 | C60: WN025 | F60: 15.9711 | I60: 16 | L60: 16 | O60: 16 | R60: =AVERAGE(F60:H60)/100 -> 0.159711 | S60: 4 | T60: =AVERAGE(I60:K60)/100 -> 0.16 | U60: 4 | V60: =MAX(L60:N60)/100 -> 0.16 | W60: 4 | X60: =MAX(O60:Q60)/100 -> 0.16 | Y60: 4
A61: WTY073 | B61: 2 | C61: WN316 | D61: WNB012 | F61: 18.0258 | G61: 17.8453 | I61: 15.3033 | J61: 16.1685 | L61: 38 | M61: 38 | O61: 38 | P61: 38 | R61: =AVERAGE(F61:H61)/100 -> 0.1793555 | S61: 4 | T61: =AVERAGE(I61:K61)/100 -> 0.157359 | U61: 4 | V61: =MAX(L61:N61)/100 -> 0.38 | W61: 3 | X61: =MAX(O61:Q61)/100 -> 0.38 | Y61: 3
A62: WTY075 | B62: 2 | C62: WN317 | D62: WNB013 | F62: 32.1681 | G62: 31.3476 | I62: 34.3245 | J62: 33.7283 | L62: 38 | M62: 38 | O62: 38 | P62: 38 | R62: =AVERAGE(F62:H62)/100 -> 0.3175785 | S62: 3 | T62: =AVERAGE(I62:K62)/100 -> 0.340264 | U62: 3 | V62: =MAX(L62:N62)/100 -> 0.38 | W62: 3 | X62: =MAX(O62:Q62)/100 -> 0.38 | Y62: 3
A63: WTY076 | B63: 1 | C63: WN017 | F63: 26.1535 | I63: 31.2775 | L63: 38 | O63: 38 | R63: =AVERAGE(F63:H63)/100 -> 0.261535 | S63: 3 | T63: =AVERAGE(I63:K63)/100 -> 0.312775 | U63: 3 | V63: =MAX(L63:N63)/100 -> 0.38 | W63: 3 | X63: =MAX(O63:Q63)/100 -> 0.38 | Y63: 3
A64: WTY076b | B64: 1 | C64: WN223 | F64: 29.2623 | I64: 30.358 | L64: 38 | O64: 38 | R64: =AVERAGE(F64:H64)/100 -> 0.292623 | S64: 3 | T64: =AVERAGE(I64:K64)/100 -> 0.30358 | U64: 3 | V64: =MAX(L64:N64)/100 -> 0.38 | W64: 3 | X64: =MAX(O64:Q64)/100 -> 0.38 | Y64: 3
A65: WTY077 | B65: 2 | C65: WN020 | D65: WN026 | F65: 22.4594 | G65: 23.4332 | I65: 22.6832 | J65: 24.0974 | L65: 38 | M65: 38 | O65: 38 | P65: 38 | R65: =AVERAGE(F65:H65)/100 -> 0.229463 | S65: 4 | T65: =AVERAGE(I65:K65)/100 -> 0.233903 | U65: 4 | V65: =MAX(L65:N65)/100 -> 0.38 | W65: 3 | X65: =MAX(O65:Q65)/100 -> 0.38 | Y65: 3
A66: WTY078 | B66: 1 | C66: WN018 | F66: 16.3951 | I66: 15.3494 | L66: 38 | O66: 38 | R66: =AVERAGE(F66:H66)/100 -> 0.163951 | S66: 4 | T66: =AVERAGE(I66:K66)/100 -> 0.153494 | U66: 4 | V66: =MAX(L66:N66)/100 -> 0.38 | W66: 3 | X66: =MAX(O66:Q66)/100 -> 0.38 | Y66: 3
A67: WTY079 | B67: 1 | C67: WN033 | F67: 17.2027 | I67: 17.3975 | L67: 38 | O67: 38 | R67: =AVERAGE(F67:H67)/100 -> 0.172027 | S67: 4 | T67: =AVERAGE(I67:K67)/100 -> 0.173975 | U67: 4 | V67: =MAX(L67:N67)/100 -> 0.38 | W67: 3 | X67: =MAX(O67:Q67)/100 -> 0.38 | Y67: 3
A68: WTY080 | B68: 3 | C68: WN028 | D68: WN045 | E68: WN205 | F68: 16 | G68: 18.4288 | H68: 20.903 | I68: 16 | J68: 16.8201 | K68: 19.8216 | L68: 16 | M68: 38 | N68: 38 | O68: 16 | P68: 38 | Q68: 38 | R68: =AVERAGE(F68:H68)/100 -> 0.18443933 | S68: 4 | T68: =AVERAGE(I68:K68)/100 -> 0.17547233 | U68: 4 | V68: =MAX(L68:N68)/100 -> 0.38 | W68: 3 | X68: =MAX(O68:Q68)/100 -> 0.38 | Y68: 3
A69: WTY081 | B69: 1 | C69: WN029 | F69: 13.9936 | I69: 13.8021 | L69: 63 | O69: 16 | R69: =AVERAGE(F69:H69)/100 -> 0.139936 | S69: 4 | T69: =AVERAGE(I69:K69)/100 -> 0.138021 | U69: 4 | V69: =MAX(L69:N69)/100 -> 0.63 | W69: 2 | X69: =MAX(O69:Q69)/100 -> 0.16 | Y69: 4
A70: WTY082 | B70: 1 | C70: WN011 | F70: 8.88 | I70: 6.5681 | L70: 16 | O70: 16 | R70: =AVERAGE(F70:H70)/100 -> 0.0888 | S70: 4 | T70: =AVERAGE(I70:K70)/100 -> 0.065681 | U70: 4 | V70: =MAX(L70:N70)/100 -> 0.16 | W70: 4 | X70: =MAX(O70:Q70)/100 -> 0.16 | Y70: 4
A71: WTY083 | B71: 2 | C71: WN211 | D71: WNB025 | F71: 24.7738 | G71: 22.8525 | I71: 27.3938 | J71: 27.3785 | L71: 38 | M71: 38 | O71: 38 | P71: 38 | R71: =AVERAGE(F71:H71)/100 -> 0.2381315 | S71: 4 | T71: =AVERAGE(I71:K71)/100 -> 0.2738615 | U71: 3 | V71: =MAX(L71:N71)/100 -> 0.38 | W71: 3 | X71: =MAX(O71:Q71)/100 -> 0.38 | Y71: 3
A72: WTY084 | B72: 1 | C72: WN319 | F72: 11.3502 | I72: 11.4376 | L72: 38 | O72: 16 | R72: =AVERAGE(F72:H72)/100 -> 0.113502 | S72: 4 | T72: =AVERAGE(I72:K72)/100 -> 0.114376 | U72: 4 | V72: =MAX(L72:N72)/100 -> 0.38 | W72: 3 | X72: =MAX(O72:Q72)/100 -> 0.16 | Y72: 4
A73: WTY085 | B73: 1 | C73: WN213 | F73: 18.6316 | I73: 22.4732 | L73: 38 | O73: 38 | R73: =AVERAGE(F73:H73)/100 -> 0.186316 | S73: 4 | T73: =AVERAGE(I73:K73)/100 -> 0.224732 | U73: 4 | V73: =MAX(L73:N73)/100 -> 0.38 | W73: 3 | X73: =MAX(O73:Q73)/100 -> 0.38 | Y73: 3
A74: WTY086 | B74: 1 | C74: WN212 | F74: 6.374 | I74: 4.8773 | L74: 38 | O74: 38 | R74: =AVERAGE(F74:H74)/100 -> 0.06374 | S74: 4 | T74: =AVERAGE(I74:K74)/100 -> 0.048773 | U74: 5 | V74: =MAX(L74:N74)/100 -> 0.38 | W74: 3 | X74: =MAX(O74:Q74)/100 -> 0.38 | Y74: 3
A75: WTY087 | B75: 1 | C75: WN220 | F75: 25.8587 | I75: 23.3418 | L75: 38 | O75: 38 | R75: =AVERAGE(F75:H75)/100 -> 0.258587 | S75: 3 | T75: =AVERAGE(I75:K75)/100 -> 0.233418 | U75: 4 | V75: =MAX(L75:N75)/100 -> 0.38 | W75: 3 | X75: =MAX(O75:Q75)/100 -> 0.38 | Y75: 3
A76: WTY088 | B76: 1 | C76: WN219 | F76: 23.9511 | I76: 22.6902 | L76: 38 | O76: 38 | R76: =AVERAGE(F76:H76)/100 -> 0.239511 | S76: 4 | T76: =AVERAGE(I76:K76)/100 -> 0.226902 | U76: 4 | V76: =MAX(L76:N76)/100 -> 0.38 | W76: 3 | X76: =MAX(O76:Q76)/100 -> 0.38 | Y76: 3
A77: WTY089 | B77: 2 | C77: WN021 | D77: WN032 | F77: 32.2749 | G77: 32.1309 | I77: 33.6691 | J77: 34.4084 | L77: 63 | M77: 63 | O77: 63 | P77: 38 | R77: =AVERAGE(F77:H77)/100 -> 0.322029 | S77: 3 | T77: =AVERAGE(I77:K77)/100 -> 0.3403875 | U77: 3 | V77: =MAX(L77:N77)/100 -> 0.63 | W77: 2 | X77: =MAX(O77:Q77)/100 -> 0.63 | Y77: 2
A78: WTY090 | B78: 1 | C78: WN218 | F78: 18.9737 | I78: 20.6084 | L78: 38 | O78: 38 | R78: =AVERAGE(F78:H78)/100 -> 0.189737 | S78: 4 | T78: =AVERAGE(I78:K78)/100 -> 0.206084 | U78: 4 | V78: =MAX(L78:N78)/100 -> 0.38 | W78: 3 | X78: =MAX(O78:Q78)/100 -> 0.38 | Y78: 3
A79: WTY091 | B79: 1 | C79: WN215 | F79: 16.1118 | I79: 16 | L79: 38 | O79: 16 | R79: =AVERAGE(F79:H79)/100 -> 0.161118 | S79: 4 | T79: =AVERAGE(I79:K79)/100 -> 0.16 | U79: 4 | V79: =MAX(L79:N79)/100 -> 0.38 | W79: 3 | X79: =MAX(O79:Q79)/100 -> 0.16 | Y79: 4
A80: WTY092 | B80: 1 | C80: WN216 | F80: 16.9037 | I80: 18.5642 | L80: 63 | O80: 63 | R80: =AVERAGE(F80:H80)/100 -> 0.169037 | S80: 4 | T80: =AVERAGE(I80:K80)/100 -> 0.185642 | U80: 4 | V80: =MAX(L80:N80)/100 -> 0.63 | W80: 2 | X80: =MAX(O80:Q80)/100 -> 0.63 | Y80: 2
A81: WTY093 | B81: 3 | C81: WN214 | D81: WN318 | E81: WNB022 | F81: 21.5189 | G81: 21.1807 | H81: 21.8154 | I81: 21.3155 | J81: 20.9212 | K81: 24.8829 | L81: 38 | M81: 38 | N81: 38 | O81: 38 | P81: 38 | Q81: 38 | R81: =AVERAGE(F81:H81)/100 -> 0.21505 | S81: 4 | T81: =AVERAGE(I81:K81)/100 -> 0.223732 | U81: 4 | V81: =MAX(L81:N81)/100 -> 0.38 | W81: 3 | X81: =MAX(O81:Q81)/100 -> 0.38 | Y81: 3
A82: WTY094 | B82: 1 | C82: WN217 | F82: 13.8199 | I82: 12.1426 | L82: 63 | O82: 63 | R82: =AVERAGE(F82:H82)/100 -> 0.138199 | S82: 4 | T82: =AVERAGE(I82:K82)/100 -> 0.121426 | U82: 4 | V82: =MAX(L82:N82)/100 -> 0.63 | W82: 2 | X82: =MAX(O82:Q82)/100 -> 0.63 | Y82: 2
A83: WTY095 | B83: 1 | C83: WN022 | F83: 24.7502 | I83: 28.9523 | L83: 38 | O83: 38 | R83: =AVERAGE(F83:H83)/100 -> 0.247502 | S83: 4 | T83: =AVERAGE(I83:K83)/100 -> 0.289523 | U83: 3 | V83: =MAX(L83:N83)/100 -> 0.38 | W83: 3 | X83: =MAX(O83:Q83)/100 -> 0.38 | Y83: 3
A84: WTY096 | B84: 1 | C84: WN046 | F84: 26.3093 | I84: 25.2233 | L84: 63 | O84: 63 | R84: =AVERAGE(F84:H84)/100 -> 0.263093 | S84: 3 | T84: =AVERAGE(I84:K84)/100 -> 0.252233 | U84: 3 | V84: =MAX(L84:N84)/100 -> 0.63 | W84: 2 | X84: =MAX(O84:Q84)/100 -> 0.63 | Y84: 2
A85: WTY100 | B85: 1 | C85: WN321 | F85: 63.6952 | I85: 69.1393 | L85: 88 | O85: 88 | R85: =AVERAGE(F85:H85)/100 -> 0.636952 | S85: 2 | T85: =AVERAGE(I85:K85)/100 -> 0.691393 | U85: 2 | V85: =MAX(L85:N85)/100 -> 0.88 | W85: 1 | X85: =MAX(O85:Q85)/100 -> 0.88 | Y85: 1
A86: WTY102 | B86: 2 | C86: WN222 | D86: WNB006 | F86: 11.9428 | G86: 11.9428 | I86: 12.6471 | J86: 12.6471 | L86: 16 | M86: 16 | O86: 16 | P86: 16 | R86: =AVERAGE(F86:H86)/100 -> 0.119428 | S86: 4 | T86: =AVERAGE(I86:K86)/100 -> 0.126471 | U86: 4 | V86: =MAX(L86:N86)/100 -> 0.16 | W86: 4 | X86: =MAX(O86:Q86)/100 -> 0.16 | Y86: 4
A87: WTY103 | B87: 1 | C87: WN320 | F87: 23.9551 | I87: 27.4844 | L87: 88 | O87: 88 | R87: =AVERAGE(F87:H87)/100 -> 0.239551 | S87: 4 | T87: =AVERAGE(I87:K87)/100 -> 0.274844 | U87: 3 | V87: =MAX(L87:N87)/100 -> 0.88 | W87: 1 | X87: =MAX(O87:Q87)/100 -> 0.88 | Y87: 1
A88: WTY106 | B88: 1 | C88: WN221 | F88: 18.4721 | I88: 21.9494 | L88: 63 | O88: 63 | R88: =AVERAGE(F88:H88)/100 -> 0.184721 | S88: 4 | T88: =AVERAGE(I88:K88)/100 -> 0.219494 | U88: 4 | V88: =MAX(L88:N88)/100 -> 0.63 | W88: 2 | X88: =MAX(O88:Q88)/100 -> 0.63 | Y88: 2
A89: WTY108 | B89: 2 | C89: WN237 | D89: WNB028 | F89: 17.5785 | G89: 22.2798 | I89: 14.4393 | J89: 20.4613 | L89: 88 | M89: 88 | O89: 16 | P89: 88 | R89: =AVERAGE(F89:H89)/100 -> 0.1992915 | S89: 4 | T89: =AVERAGE(I89:K89)/100 -> 0.174503 | U89: 4 | V89: =MAX(L89:N89)/100 -> 0.88 | W89: 1 | X89: =MAX(O89:Q89)/100 -> 0.88 | Y89: 1
A90: WTY108 | B90: 2 | C90: WNB028 | F90: 22.2798 | I90: 20.4613 | L90: 88 | O90: 88 | R90: =AVERAGE(F90:H90)/100 -> 0.222798 | S90: 4 | T90: =AVERAGE(I90:K90)/100 -> 0.204613 | U90: 4 | V90: =MAX(L90:N90)/100 -> 0.88 | W90: 1 | X90: =MAX(O90:Q90)/100 -> 0.88 | Y90: 1
A91: WTY109 | B91: 1 | C91: WN238 | F91: 33.8537 | I91: 34.2391 | L91: 88 | O91: 88 | R91: =AVERAGE(F91:H91)/100 -> 0.338537 | S91: 3 | T91: =AVERAGE(I91:K91)/100 -> 0.342391 | U91: 3 | V91: =MAX(L91:N91)/100 -> 0.88 | W91: 1 | X91: =MAX(O91:Q91)/100 -> 0.88 | Y91: 1
A92: WTY110 | B92: 1 | C92: WN015 | F92: 25.5691 | I92: 22.9648 | L92: 88 | O92: 88 | R92: =AVERAGE(F92:H92)/100 -> 0.255691 | S92: 3 | T92: =AVERAGE(I92:K92)/100 -> 0.229648 | U92: 4 | V92: =MAX(L92:N92)/100 -> 0.88 | W92: 1 | X92: =MAX(O92:Q92)/100 -> 0.88 | Y92: 1
A93: WTY111 | B93: 1 | C93: WN006 | F93: 20.4262 | I93: 23.0649 | L93: 88 | O93: 88 | R93: =AVERAGE(F93:H93)/100 -> 0.204262 | S93: 4 | T93: =AVERAGE(I93:K93)/100 -> 0.230649 | U93: 4 | V93: =MAX(L93:N93)/100 -> 0.88 | W93: 1 | X93: =MAX(O93:Q93)/100 -> 0.88 | Y93: 1
A94: WTY112 | B94: 1 | C94: WN007 | F94: 9.7699 | I94: 15.0949 | L94: 88 | O94: 88 | R94: =AVERAGE(F94:H94)/100 -> 0.097699 | S94: 4 | T94: =AVERAGE(I94:K94)/100 -> 0.150949 | U94: 4 | V94: =MAX(L94:N94)/100 -> 0.88 | W94: 1 | X94: =MAX(O94:Q94)/100 -> 0.88 | Y94: 1
A95: WTY115 | B95: 1 | C95: WN014 | F95: 13.1433 | I95: 14.8296 | L95: 63 | O95: 16 | R95: =AVERAGE(F95:H95)/100 -> 0.131433 | S95: 4 | T95: =AVERAGE(I95:K95)/100 -> 0.148296 | U95: 4 | V95: =MAX(L95:N95)/100 -> 0.63 | W95: 2 | X95: =MAX(O95:Q95)/100 -> 0.16 | Y95: 4
A96: WTY116 | B96: 1 | C96: WN012 | F96: 14.3621 | I96: 12.1163 | L96: 63 | O96: 63 | R96: =AVERAGE(F96:H96)/100 -> 0.143621 | S96: 4 | T96: =AVERAGE(I96:K96)/100 -> 0.121163 | U96: 4 | V96: =MAX(L96:N96)/100 -> 0.63 | W96: 2 | X96: =MAX(O96:Q96)/100 -> 0.63 | Y96: 2
A97: WTY117 | B97: 1 | C97: WN008 | F97: 13.1777 | I97: 12.5662 | L97: 38 | O97: 38 | R97: =AVERAGE(F97:H97)/100 -> 0.131777 | S97: 4 | T97: =AVERAGE(I97:K97)/100 -> 0.125662 | U97: 4 | V97: =MAX(L97:N97)/100 -> 0.38 | W97: 3 | X97: =MAX(O97:Q97)/100 -> 0.38 | Y97: 3
A98: WTY118 | B98: 1 | C98: WN013 | F98: 17.1721 | I98: 23.7073 | L98: 88 | O98: 88 | R98: =AVERAGE(F98:H98)/100 -> 0.171721 | S98: 4 | T98: =AVERAGE(I98:K98)/100 -> 0.237073 | U98: 4 | V98: =MAX(L98:N98)/100 -> 0.88 | W98: 1 | X98: =MAX(O98:Q98)/100 -> 0.88 | Y98: 1
A99: WTYA001 | B99: 1 | C99: WNA001
A100: WTYA002 | B100: 3 | C100: WNA002 | D100: WNA004 | E100: WNA005
...

Sheet Nest WTYs
A1: Sort | B1: WTY | C1: WTY Type | D1: N Nests | E1: Nest1 | F1: Nest2 | G1: Nest3 | N1: Albers_E Average | O1: Albers_N Average | P1: AveSuit300 | Q1: MaxSuit300 | R1: Range | S1: SubRange | T1: Local | U1: Period | V1: WHA | W1: 1994 | X1: 1995 | Y1: 1996 | Z1: 1997 | AA1: 1998 | AB1: 1999 | AC1: 2000 | AD1: 2001 | AE1: 2002 | AF1: 2003 | AG1: 2004 | AH1: 2005 | AI1: 2006 | AJ1: 2007 | AK1: 2008 | AL1: 2009 | AM1: 2010 | AN1: 2011 | AO1: 2012 | AP1: 2013 | AQ1: 2014 | AR1: 2015 | AS1: N | AT1: Y | AU1: P | AV1: B | AW1: PZ | AX1: BZ | AY1: Z | AZ1: PX | BA1: BX | BB1: X | BC1: N Years Nest Search Done | BD1: >3 YR | BE1: >4 year | BF1: Nest Occ Rate | BG1: WTY Occ Rate | BH1: 2006-2008 Nest Search Done | BI1: 2006-8 Nest Occ | BJ1: 2006-2008 Any CPB Done | BK1: 2006-2008 WTY Occ | BL1: Nest 0 1 2006 | BM1: 2007 | BN1: 2008 | BO1: WTY 01 2006 | BP1: 2007 | BQ1: 2008
A2: 5 | B2: WTY001 | C2: Nest | D2: 1 | E2: WN226 | H2: =VLOOKUP($E2,wisa_obs_1994_2015d!$B$2:$P$4617,14,FALSE) -> 1469266 | I2: =VLOOKUP($E2,wisa_obs_1994_2015d!$B$2:$P$4617,15,FALSE) -> 528035 | N2: =AVERAGE(H2,J2,L2) -> 1469266 | O2: =AVERAGE(I2,K2,M2) -> 528035 | P2: 4 | Q2: 1 | R2: Ok-Bdy | S2: OBNaramata | AF2: B | AG2: N | AH2: B | AI2: N | AJ2: N | AK2: Z | AL2: Z | AS2: =COUNTIF($W2:$AR2,AS$1) -> 3 | AT2: =COUNTIF($W2:$AR2,AT$1) -> 0 | AU2: =COUNTIF($W2:$AR2,AU$1) -> 0 | AV2: =COUNTIF($W2:$AR2,AV$1) -> 2 | AW2: =COUNTIF($W2:$AR2,AW$1) -> 0 | AX2: =COUNTIF($W2:$AR2,AX$1) -> 0 | AY2: =COUNTIF($W2:$AR2,AY$1) -> 2 | AZ2: =COUNTIF($W2:$AR2,AZ$1) -> 0 | ... BB2: =COUNTIF($W2:$AR2,BB$1) -> 0 | BC2: =SUM(AS2:AY2) -> 7 | BD2: =IF(BC2>3,1,0) -> 1 | BE2: =IF(BC2>4,1,0) -> 1 | BF2: =SUM(AS2:AT2)/BC2 -> 0.42857143 | BG2: =SUM(AS2:AX2,AZ2:BA2)/SUM(AS2:BB2) -> 0.71428571 | BH2: =COUNT(BL2:BN2) -> 3 | BI2: =IF(BH2>1,SUM(BL2:BN2)/BH2,"") -> 0.66666667 | BJ2: =COUNT(BO2:BQ2) -> 3 | BK2: =IF(BJ2>1,SUM(BO2:BQ2)/BJ2,"") -> 0.66666667 | BL2: 1 | BM2: 1 | BN2: 0 | BO2: 1 | BP2: 1 | BQ2: 0
A3: 14 | B3: WTY002 | C3: Nest | D3: 1 | E3: WN041 | H3: =VLOOKUP($E3,wisa_obs_1994_2015d!$B$2:$P$4617,14,FALSE) -> 1469395 | I3: =VLOOKUP($E3,wisa_obs_1994_2015d!$B$2:$P$4617,15,FALSE) -> 529096 | N3: =AVERAGE(H3,J3,L3) -> 1469395 | O3: =AVERAGE(I3,K3,M3) -> 529096 | P3: 4 | Q3: 1 | R3: Ok-Bdy | S3: OBNaramata | V3: 8-102 | AF3: N | AG3: B | AI3: Z | AJ3: Z | AK3: Z | AL3: Z | AS3: =COUNTIF($W3:$AR3,AS$1) -> 1 | AT3: =COUNTIF($W3:$AR3,AT$1) -> 0 | AU3: =COUNTIF($W3:$AR3,AU$1) -> 0 | AV3: =COUNTIF($W3:$AR3,AV$1) -> 1 | AW3: =COUNTIF($W3:$AR3,AW$1) -> 0 | AX3: =COUNTIF($W3:$AR3,AX$1) -> 0 | AY3: =COUNTIF($W3:$AR3,AY$1) -> 4 | AZ3: =COUNTIF($W3:$AR3,AZ$1) -> 0 | ... BB3: =COUNTIF($W3:$AR3,BB$1) -> 0 | BC3: =SUM(AS3:AY3) -> 6 | BD3: =IF(BC3>3,1,0) -> 1 | BE3: =IF(BC3>4,1,0) -> 1 | BF3: =SUM(AS3:AT3)/BC3 -> 0.16666667 | BG3: =SUM(AS3:AX3,AZ3:BA3)/SUM(AS3:BB3) -> 0.33333333 | BH3: =COUNT(BL3:BN3) -> 3 | BI3: =IF(BH3>1,SUM(BL3:BN3)/BH3,"") -> 0 | BJ3: =COUNT(BO3:BQ3) -> 3 | BK3: =IF(BJ3>1,SUM(BO3:BQ3)/BJ3,"") -> 0 | BL3: 0 | BM3: 0 | BN3: 0 | BO3: 0 | BP3: 0 | BQ3: 0
A4: 22 | B4: WTY003 | C4: Nest | D4: 2 | E4: WN038 | F4: WNK002 | H4: =VLOOKUP($E4,wisa_obs_1994_2015d!$B$2:$P$4617,14,FALSE) -> 1468828 | I4: =VLOOKUP($E4,wisa_obs_1994_2015d!$B$2:$P$4617,15,FALSE) -> 529266 | J4: =VLOOKUP($F4,wisa_obs_1994_2015d!$B$2:$P$4617,14,FALSE) -> 1469072 | K4: =VLOOKUP($F4,wisa_obs_1994_2015d!$B$2:$P$4617,15,FALSE) -> 529251 | N4: =AVERAGE(H4,J4,L4) -> 1468950 | O4: =AVERAGE(I4,K4,M4) -> 529258.5 | P4: 3 | Q4: 2 | R4: Ok-Bdy | S4: OBNaramata | V4: 8-101 | AF4: N | AG4: B | AH4: Z | AI4: N | AJ4: N | AK4: Z | AL4: N | AS4: =COUNTIF($W4:$AR4,AS$1) -> 4 | AT4: =COUNTIF($W4:$AR4,AT$1) -> 0 | AU4: =COUNTIF($W4:$AR4,AU$1) -> 0 | AV4: =COUNTIF($W4:$AR4,AV$1) -> 1 | AW4: =COUNTIF($W4:$AR4,AW$1) -> 0 | AX4: =COUNTIF($W4:$AR4,AX$1) -> 0 | AY4: =COUNTIF($W4:$AR4,AY$1) -> 2 | AZ4: =COUNTIF($W4:$AR4,AZ$1) -> 0 | ... BB4: =COUNTIF($W4:$AR4,BB$1) -> 0 | BC4: =SUM(AS4:AY4) -> 7 | BD4: =IF(BC4>3,1,0) -> 1 | BE4: =IF(BC4>4,1,0) -> 1 | BF4: =SUM(AS4:AT4)/BC4 -> 0.57142857 | BG4: =SUM(AS4:AX4,AZ4:BA4)/SUM(AS4:BB4) -> 0.71428571 | BH4: =COUNT(BL4:BN4) -> 3 | BI4: =IF(BH4>1,SUM(BL4:BN4)/BH4,"") -> 0.66666667 | BJ4: =COUNT(BO4:BQ4) -> 3 | BK4: =IF(BJ4>1,SUM(BO4:BQ4)/BJ4,"") -> 0.66666667 | BL4: 1 | BM4: 1 | BN4: 0 | BO4: 1 | BP4: 1 | BQ4: 0
A5: 30 | B5: WTY004 | C5: Nest | D5: 2 | E5: WN225 | F5: WNK003 | H5: =VLOOKUP($E5,wisa_obs_1994_2015d!$B$2:$P$4617,14,FALSE) -> 1468998 | I5: =VLOOKUP($E5,wisa_obs_1994_2015d!$B$2:$P$4617,15,FALSE) -> 529841 | J5: =VLOOKUP($F5,wisa_obs_1994_2015d!$B$2:$P$4617,14,FALSE) -> 1469074 | K5: =VLOOKUP($F5,wisa_obs_1994_2015d!$B$2:$P$4617,15,FALSE) -> 529898 | N5: =AVERAGE(H5,J5,L5) -> 1469036 | O5: =AVERAGE(I5,K5,M5) -> 529869.5 | P5: 3 | Q5: 3 | R5: Ok-Bdy | S5: OBNaramata | V5: 8-103 | AG5: N | AH5: N | AI5: N | AJ5: Z | AK5: Z | AL5: BZ | AS5: =COUNTIF($W5:$AR5,AS$1) -> 3 | AT5: =COUNTIF($W5:$AR5,AT$1) -> 0 | AU5: =COUNTIF($W5:$AR5,AU$1) -> 0 | AV5: =COUNTIF($W5:$AR5,AV$1) -> 0 | AW5: =COUNTIF($W5:$AR5,AW$1) -> 0 | AX5: =COUNTIF($W5:$AR5,AX$1) -> 1 | AY5: =COUNTIF($W5:$AR5,AY$1) -> 2 | AZ5: =COUNTIF($W5:$AR5,AZ$1) -> 0 | ... BB5: =COUNTIF($W5:$AR5,BB$1) -> 0 | BC5: =SUM(AS5:AY5) -> 6 | BD5: =IF(BC5>3,1,0) -> 1 | BE5: =IF(BC5>4,1,0) -> 1 | BF5: =SUM(AS5:AT5)/BC5 -> 0.5 | BG5: =SUM(AS5:AX5,AZ5:BA5)/SUM(AS5:BB5) -> 0.66666667 | BH5: =COUNT(BL5:BN5) -> 3 | BI5: =IF(BH5>1,SUM(BL5:BN5)/BH5,"") -> 0.33333333 | BJ5: =COUNT(BO5:BQ5) -> 3 | BK5: =IF(BJ5>1,SUM(BO5:BQ5)/BJ5,"") -> 0.33333333 | BL5: 1 | BM5: 0 | BN5: 0 | BO5: 1 | BP5: 0 | BQ5: 0
A6: 40 | B6: WTY005 | C6: Nest | D6: 1 | E6: WNK001 | H6: =VLOOKUP($E6,wisa_obs_1994_2015d!$B$2:$P$4617,14,FALSE) -> 1469399 | I6: =VLOOKUP($E6,wisa_obs_1994_2015d!$B$2:$P$4617,15,FALSE) -> 530281 | N6: =AVERAGE(H6,J6,L6) -> 1469399 | O6: =AVERAGE(I6,K6,M6) -> 530281 | P6: 3 | Q6: 3 | R6: Ok-Bdy | S6: OBNaramata | AF6: B | AG6: B | AH6: B | AI6: N | AJ6: N | AK6: Z | AL6: N | AS6: =COUNTIF($W6:$AR6,AS$1) -> 3 | AT6: =COUNTIF($W6:$AR6,AT$1) -> 0 | AU6: =COUNTIF($W6:$AR6,AU$1) -> 0 | AV6: =COUNTIF($W6:$AR6,AV$1) -> 3 | AW6: =COUNTIF($W6:$AR6,AW$1) -> 0 | AX6: =COUNTIF($W6:$AR6,AX$1) -> 0 | AY6: =COUNTIF($W6:$AR6,AY$1) -> 1 | AZ6: =COUNTIF($W6:$AR6,AZ$1) -> 0 | ... BB6: =COUNTIF($W6:$AR6,BB$1) -> 0 | BC6: =SUM(AS6:AY6) -> 7 | BD6: =IF(BC6>3,1,0) -> 1 | BE6: =IF(BC6>4,1,0) -> 1 | BF6: =SUM(AS6:AT6)/BC6 -> 0.42857143 | BG6: =SUM(AS6:AX6,AZ6:BA6)/SUM(AS6:BB6) -> 0.85714286 | BH6: =COUNT(BL6:BN6) -> 3 | BI6: =IF(BH6>1,SUM(BL6:BN6)/BH6,"") -> 0.66666667 | BJ6: =COUNT(BO6:BQ6) -> 3 | BK6: =IF(BJ6>1,SUM(BO6:BQ6)/BJ6,"") -> 0.66666667 | BL6: 1 | BM6: 1 | BN6: 0 | BO6: 1 | BP6: 1 | BQ6: 0
A7: 47 | B7: WTY006 | C7: Nest | D7: 1 | E7: WNK004 | H7: =VLOOKUP($E7,wisa_obs_1994_2015d!$B$2:$P$4617,14,FALSE) -> 1468549 | I7: =VLOOKUP($E7,wisa_obs_1994_2015d!$B$2:$P$4617,15,FALSE) -> 531127 | N7: =AVERAGE(H7,J7,L7) -> 1468549 | O7: =AVERAGE(I7,K7,M7) -> 531127 | P7: 3 | Q7: 3 | R7: Ok-Bdy | S7: OBNaramata | AG7: B | AI7: N | AJ7: N | AK7: N | AL7: N | AQ7: BX | AS7: =COUNTIF($W7:$AR7,AS$1) -> 4 | AT7: =COUNTIF($W7:$AR7,AT$1) -> 0 | AU7: =COUNTIF($W7:$AR7,AU$1) -> 0 | AV7: =COUNTIF($W7:$AR7,AV$1) -> 1 | AW7: =COUNTIF($W7:$AR7,AW$1) -> 0 | AX7: =COUNTIF($W7:$AR7,AX$1) -> 0 | AY7: =COUNTIF($W7:$AR7,AY$1) -> 0 | AZ7: =COUNTIF($W7:$AR7,AZ$1) -> 0 | ... BB7: =COUNTIF($W7:$AR7,BB$1) -> 0 | BC7: =SUM(AS7:AY7) -> 5 | BD7: =IF(BC7>3,1,0) -> 1 | BE7: =IF(BC7>4,1,0) -> 1 | BF7: =SUM(AS7:AT7)/BC7 -> 0.8 | BG7: =SUM(AS7:AX7,AZ7:BA7)/SUM(AS7:BB7) -> 1 | BH7: =COUNT(BL7:BN7) -> 3 | BI7: =IF(BH7>1,SUM(BL7:BN7)/BH7,"") -> 1 | BJ7: =COUNT(BO7:BQ7) -> 3 | BK7: =IF(BJ7>1,SUM(BO7:BQ7)/BJ7,"") -> 1 | BL7: 1 | BM7: 1 | BN7: 1 | BO7: 1 | BP7: 1 | BQ7: 1
A8: 49 | B8: WTY008 | C8: Nest | D8: 1 | E8: WN023 | H8: =VLOOKUP($E8,wisa_obs_1994_2015d!$B$2:$P$4617,14,FALSE) -> 1475128 | I8: =VLOOKUP($E8,wisa_obs_1994_2015d!$B$2:$P$4617,15,FALSE) -> 504338 | N8: =AVERAGE(H8,J8,L8) -> 1475128 | O8: =AVERAGE(I8,K8,M8) -> 504338 | P8: 4 | Q8: 4 | R8: Ok-Bdy | S8: OBOkFalls | U8: 1996-2000 | V8: Proposed 8-105 | Z8: N | AA8: N | AB8: N | AC8: N | AI8: Z | AJ8: Z | AS8: =COUNTIF($W8:$AR8,AS$1) -> 4 | AT8: =COUNTIF($W8:$AR8,AT$1) -> 0 | AU8: =COUNTIF($W8:$AR8,AU$1) -> 0 | AV8: =COUNTIF($W8:$AR8,AV$1) -> 0 | AW8: =COUNTIF($W8:$AR8,AW$1) -> 0 | AX8: =COUNTIF($W8:$AR8,AX$1) -> 0 | AY8: =COUNTIF($W8:$AR8,AY$1) -> 2 | AZ8: =COUNTIF($W8:$AR8,AZ$1) -> 0 | ... BB8: =COUNTIF($W8:$AR8,BB$1) -> 0 | BC8: =SUM(AS8:AY8) -> 6 | BD8: =IF(BC8>3,1,0) -> 1 | BE8: =IF(BC8>4,1,0) -> 1 | BF8: =SUM(AS8:AT8)/BC8 -> 0.66666667 | BG8: =SUM(AS8:AX8,AZ8:BA8)/SUM(AS8:BB8) -> 0.66666667 | BH8: =COUNT(BL8:BN8) -> 2 | BI8: =IF(BH8>1,SUM(BL8:BN8)/BH8,"") -> 0 | BJ8: =COUNT(BO8:BQ8) -> 2 | BK8: =IF(BJ8>1,SUM(BO8:BQ8)/BJ8,"") -> 0 | BL8: 0 | BM8: 0 | BO8: 0 | BP8: 0
A9: 52 | B9: WTY009 | C9: Nest | D9: 1 | E9: WN202 | H9: =VLOOKUP($E9,wisa_obs_1994_2015d!$B$2:$P$4617,14,FALSE) -> 1503666 | I9: =VLOOKUP($E9,wisa_obs_1994_2015d!$B$2:$P$4617,15,FALSE) -> 501235 | N9: =AVERAGE(H9,J9,L9) -> 1503666 | O9: =AVERAGE(I9,K9,M9) -> 501235 | R9: Ok-Bdy | S9: OBOther | AG9: N | AI9: Z | AJ9: Z | AS9: =COUNTIF($W9:$AR9,AS$1) -> 1 | AT9: =COUNTIF($W9:$AR9,AT$1) -> 0 | AU9: =COUNTIF($W9:$AR9,AU$1) -> 0 | AV9: =COUNTIF($W9:$AR9,AV$1) -> 0 | AW9: =COUNTIF($W9:$AR9,AW$1) -> 0 | AX9: =COUNTIF($W9:$AR9,AX$1) -> 0 | AY9: =COUNTIF($W9:$AR9,AY$1) -> 2 | AZ9: =COUNTIF($W9:$AR9,AZ$1) -> 0 | ... BB9: =COUNTIF($W9:$AR9,BB$1) -> 0 | BC9: =SUM(AS9:AY9) -> 3 | BD9: =IF(BC9>3,1,0) -> 0 | BE9: =IF(BC9>4,1,0) -> 0 | BF9: =SUM(AS9:AT9)/BC9 -> 0.33333333 | BG9: =SUM(AS9:AX9,AZ9:BA9)/SUM(AS9:BB9) -> 0.33333333 | BH9: =COUNT(BL9:BN9) -> 2 | BI9: =IF(BH9>1,SUM(BL9:BN9)/BH9,"") -> 0 | BJ9: =COUNT(BO9:BQ9) -> 2 | BK9: =IF(BJ9>1,SUM(BO9:BQ9)/BJ9,"") -> 0 | BL9: 0 | BM9: 0 | BO9: 0 | BP9: 0
A10: 56 | B10: WTY011 | C10: Nest | D10: 2 | E10: WN001 | F10: WN239 | H10: =VLOOKUP($E10,wisa_obs_1994_2015d!$B$2:$P$4617,14,FALSE) -> 1477373 | I10: =VLOOKUP($E10,wisa_obs_1994_2015d!$B$2:$P$4617,15,FALSE) -> 500773 | J10: =VLOOKUP($F10,wisa_obs_1994_2015d!$B$2:$P$4617,14,FALSE) -> 1477372 | K10: =VLOOKUP($F10,wisa_obs_1994_2015d!$B$2:$P$4617,15,FALSE) -> 500756 | N10: =AVERAGE(H10,J10,L10) -> 1477372.5 | O10: =AVERAGE(I10,K10,M10) -> 500764.5 | P10: 3 | Q10: 1 | R10: Ok-Bdy | S10: OBOkFalls | T10: 201Road | V10: 8-106 | W10: N | AF10: Z | AG10: N | AI10: Z | AJ10: Z | AK10: Z | AL10: Z | AM10: Z | AP10: Z | AR10: Z | AS10: =COUNTIF($W10:$AR10,AS$1) -> 2 | AT10: =COUNTIF($W10:$AR10,AT$1) -> 0 | AU10: =COUNTIF($W10:$AR10,AU$1) -> 0 | AV10: =COUNTIF($W10:$AR10,AV$1) -> 0 | AW10: =COUNTIF($W10:$AR10,AW$1) -> 0 | AX10: =COUNTIF($W10:$AR10,AX$1) -> 0 | AY10: =COUNTIF($W10:$AR10,AY$1) -> 8 | AZ10: =COUNTIF($W10:$AR10,AZ$1) -> 0 | ... BB10: =COUNTIF($W10:$AR10,BB$1) -> 0 | BC10: =SUM(AS10:AY10) -> 10 | BD10: =IF(BC10>3,1,0) -> 1 | BE10: =IF(BC10>4,1,0) -> 1 | BF10: =SUM(AS10:AT10)/BC10 -> 0.2 | BG10: =SUM(AS10:AX10,AZ10:BA10)/SUM(AS10:BB10) -> 0.2 | BH10: =COUNT(BL10:BN10) -> 3 | BI10: =IF(BH10>1,SUM(BL10:BN10)/BH10,"") -> 0 | BJ10: =COUNT(BO10:BQ10) -> 3 | BK10: =IF(BJ10>1,SUM(BO10:BQ10)/BJ10,"") -> 0 | BL10: 0 | BM10: 0 | BN10: 0 | BO10: 0 | BP10: 0 | BQ10: 0
A11: 61 | B11: WTY012 | C11: Nest | D11: 1 | E11: WN327 | H11: =VLOOKUP($E11,wisa_obs_1994_2015d!$B$2:$P$4617,14,FALSE) -> 1477491 | I11: =VLOOKUP($E11,wisa_obs_1994_2015d!$B$2:$P$4617,15,FALSE) -> 499712 | N11: =AVERAGE(H11,J11,L11) -> 1477491 | O11: =AVERAGE(I11,K11,M11) -> 499712 | P11: 4 | Q11: 3 | R11: Ok-Bdy | S11: OBOkFalls | T11: 201Road | AF11: Z | AG11: BZ | AH11: N | AI11: BZ | AJ11: Z | AK11: Z | AL11: Z | AM11: Z | AP11: Z | AR11: Z | AS11: =COUNTIF($W11:$AR11,AS$1) -> 1 | AT11: =COUNTIF($W11:$AR11,AT$1) -> 0 | AU11: =COUNTIF($W11:$AR11,AU$1) -> 0 | AV11: =COUNTIF($W11:$AR11,AV$1) -> 0 | AW11: =COUNTIF($W11:$AR11,AW$1) -> 0 | AX11: =COUNTIF($W11:$AR11,AX$1) -> 2 | AY11: =COUNTIF($W11:$AR11,AY$1) -> 7 | AZ11: =COUNTIF($W11:$AR11,AZ$1) -> 0 | ... BB11: =COUNTIF($W11:$AR11,BB$1) -> 0 | BC11: =SUM(AS11:AY11) -> 10 | BD11: =IF(BC11>3,1,0) -> 1 | BE11: =IF(BC11>4,1,0) -> 1 | BF11: =SUM(AS11:AT11)/BC11 -> 0.1 | BG11: =SUM(AS11:AX11,AZ11:BA11)/SUM(AS11:BB11) -> 0.3 | BH11: =COUNT(BL11:BN11) -> 3 | BI11: =IF(BH11>1,SUM(BL11:BN11)/BH11,"") -> 0 | BJ11: =COUNT(BO11:BQ11) -> 3 | BK11: =IF(BJ11>1,SUM(BO11:BQ11)/BJ11,"") -> 0.33333333 | BL11: 0 | BM11: 0 | BN11: 0 | BO11: 1 | BP11: 0 | BQ11: 0
A12: 70 | B12: WTY013 | C12: Nest | D12: 1 | E12: WN053 | H12: =VLOOKUP($E12,wisa_obs_1994_2015d!$B$2:$P$4617,14,FALSE) -> 1477916 | I12: =VLOOKUP($E12,wisa_obs_1994_2015d!$B$2:$P$4617,15,FALSE) -> 500664 | N12: =AVERAGE(H12,J12,L12) -> 1477916 | O12: =AVERAGE(I12,K12,M12) -> 500664 | P12: 3 | Q12: 1 | R12: Ok-Bdy | S12: OBOkFalls | T12: 201Road | V12: 8-106 | AF12: N | AG12: N | AI12: BZ | AJ12: Z | AK12: BZ | AL12: BZ | AM12: Z | AP12: Z | AR12: Z | AS12: =COUNTIF($W12:$AR12,AS$1) -> 2 | AT12: =COUNTIF($W12:$AR12,AT$1) -> 0 | AU12: =COUNTIF($W12:$AR12,AU$1) -> 0 | AV12: =COUNTIF($W12:$AR12,AV$1) -> 0 | AW12: =COUNTIF($W12:$AR12,AW$1) -> 0 | AX12: =COUNTIF($W12:$AR12,AX$1) -> 3 | AY12: =COUNTIF($W12:$AR12,AY$1) -> 4 | AZ12: =COUNTIF($W12:$AR12,AZ$1) -> 0 | ... BB12: =COUNTIF($W12:$AR12,BB$1) -> 0 | BC12: =SUM(AS12:AY12) -> 9 | BD12: =IF(BC12>3,1,0) -> 1 | BE12: =IF(BC12>4,1,0) -> 1 | BF12: =SUM(AS12:AT12)/BC12 -> 0.22222222 | BG12: =SUM(AS12:AX12,AZ12:BA12)/SUM(AS12:BB12) -> 0.55555556 | BH12: =COUNT(BL12:BN12) -> 3 | BI12: =IF(BH12>1,SUM(BL12:BN12)/BH12,"") -> 0 | BJ12: =COUNT(BO12:BQ12) -> 3 | BK12: =IF(BJ12>1,SUM(BO12:BQ12)/BJ12,"") -> 0.66666667 | BL12: 0 | BM12: 0 | BN12: 0 | BO12: 1 | BP12: 0 | BQ12: 1
A13: 74 | B13: WTY014 | C13: Nest | D13: 2 | E13: WN003 | F13: WN203 | H13: =VLOOKUP($E13,wisa_obs_1994_2015d!$B$2:$P$4617,14,FALSE) -> 1477626 | I13: =VLOOKUP($E13,wisa_obs_1994_2015d!$B$2:$P$4617,15,FALSE) -> 500540 | J13: =VLOOKUP($F13,wisa_obs_1994_2015d!$B$2:$P$4617,14,FALSE) -> 1477517 | K13: =VLOOKUP($F13,wisa_obs_1994_2015d!$B$2:$P$4617,15,FALSE) -> 500383 | N13: =AVERAGE(H13,J13,L13) -> 1477571.5 | O13: =AVERAGE(I13,K13,M13) -> 500461.5 | P13: 3 | Q13: 1 | R13: Ok-Bdy | S13: OBOkFalls | T13: 201Road | V13: 8-106 | W13: N | AF13: Z | AG13: N | AH13: N | AI13: N | AJ13: Z | AK13: Z | AL13: Z | AM13: Z | AP13: Z | AR13: Z | AS13: =COUNTIF($W13:$AR13,AS$1) -> 4 | AT13: =COUNTIF($W13:$AR13,AT$1) -> 0 | AU13: =COUNTIF($W13:$AR13,AU$1) -> 0 | AV13: =COUNTIF($W13:$AR13,AV$1) -> 0 | AW13: =COUNTIF($W13:$AR13,AW$1) -> 0 | AX13: =COUNTIF($W13:$AR13,AX$1) -> 0 | AY13: =COUNTIF($W13:$AR13,AY$1) -> 7 | AZ13: =COUNTIF($W13:$AR13,AZ$1) -> 0 | ... BB13: =COUNTIF($W13:$AR13,BB$1) -> 0 | BC13: =SUM(AS13:AY13) -> 11 | BD13: =IF(BC13>3,1,0) -> 1 | BE13: =IF(BC13>4,1,0) -> 1 | BF13: =SUM(AS13:AT13)/BC13 -> 0.36363636 | BG13: =SUM(AS13:AX13,AZ13:BA13)/SUM(AS13:BB13) -> 0.36363636 | BH13: =COUNT(BL13:BN13) -> 3 | BI13: =IF(BH13>1,SUM(BL13:BN13)/BH13,"") -> 0.33333333 | BJ13: =COUNT(BO13:BQ13) -> 3 | BK13: =IF(BJ13>1,SUM(BO13:BQ13)/BJ13,"") -> 0.33333333 | BL13: 1 | BM13: 0 | BN13: 0 | BO13: 1 | BP13: 0 | BQ13: 0
A14: 85 | B14: WTY015 | C14: Nest | D14: 2 | E14: WN052 | F14: WNK010 | H14: =VLOOKUP($E14,wisa_obs_1994_2015d!$B$2:$P$4617,14,FALSE) -> 1477764 | I14: =VLOOKUP($E14,wisa_obs_1994_2015d!$B$2:$P$4617,15,FALSE) -> 499849 | J14: =VLOOKUP($F14,wisa_obs_1994_2015d!$B$2:$P$4617,14,FALSE) -> 1477764 | K14: =VLOOKUP($F14,wisa_obs_1994_2015d!$B$2:$P$4617,15,FALSE) -> 499911 | N14: =AVERAGE(H14,J14,L14) -> 1477764 | O14: =AVERAGE(I14,K14,M14) -> 499880 | P14: 3 | Q14: 1 | R14: Ok-Bdy | S14: OBOkFalls | T14: 201Road | AF14: N | AG14: Y | AI14: N | AJ14: N | AK14: N | AL14: BZ | AM14: N | AP14: Z | AR14: Z | AS14: =COUNTIF($W14:$AR14,AS$1) -> 5 | AT14: =COUNTIF($W14:$AR14,AT$1) -> 1 | AU14: =COUNTIF($W14:$AR14,AU$1) -> 0 | AV14: =COUNTIF($W14:$AR14,AV$1) -> 0 | AW14: =COUNTIF($W14:$AR14,AW$1) -> 0 | AX14: =COUNTIF($W14:$AR14,AX$1) -> 1 | AY14: =COUNTIF($W14:$AR14,AY$1) -> 2 | AZ14: =COUNTIF($W14:$AR14,AZ$1) -> 0 | ... BB14: =COUNTIF($W14:$AR14,BB$1) -> 0 | BC14: =SUM(AS14:AY14) -> 9 | BD14: =IF(BC14>3,1,0) -> 1 | BE14: =IF(BC14>4,1,0) -> 1 | BF14: =SUM(AS14:AT14)/BC14 -> 0.66666667 | BG14: =SUM(AS14:AX14,AZ14:BA14)/SUM(AS14:BB14) -> 0.77777778 | BH14: =COUNT(BL14:BN14) -> 3 | BI14: =IF(BH14>1,SUM(BL14:BN14)/BH14,"") -> 1 | BJ14: =COUNT(BO14:BQ14) -> 3 | BK14: =IF(BJ14>1,SUM(BO14:BQ14)/BJ14,"") -> 1 | BL14: 1 | BM14: 1 | BN14: 1 | BO14: 1 | BP14: 1 | BQ14: 1
A15: 88 | B15: WTY016 | C15: Nest | D15: 1 | E15: WN048 | H15: =VLOOKUP($E15,wisa_obs_1994_2015d!$B$2:$P$4617,14,FALSE) -> 1478170 | I15: =VLOOKUP($E15,wisa_obs_1994_2015d!$B$2:$P$4617,15,FALSE) -> 499600 | N15: =AVERAGE(H15,J15,L15) -> 1478170 | O15: =AVERAGE(I15,K15,M15) -> 499600 | P15: 3 | Q15: 1 | R15: Ok-Bdy | S15: OBOkFalls | T15: 201Road | V15: 8-108 | AF15: N | AG15: Z | AI15: Z | AJ15: Z | AK15: Z | AL15: Z | AM15: Z | AP15: Z | AR15: Z | AS15: =COUNTIF($W15:$AR15,AS$1) -> 1 | AT15: =COUNTIF($W15:$AR15,AT$1) -> 0 | AU15: =COUNTIF($W15:$AR15,AU$1) -> 0 | AV15: =COUNTIF($W15:$AR15,AV$1) -> 0 | AW15: =COUNTIF($W15:$AR15,AW$1) -> 0 | AX15: =COUNTIF($W15:$AR15,AX$1) -> 0 | AY15: =COUNTIF($W15:$AR15,AY$1) -> 8 | AZ15: =COUNTIF($W15:$AR15,AZ$1) -> 0 | ... BB15: =COUNTIF($W15:$AR15,BB$1) -> 0 | BC15: =SUM(AS15:AY15) -> 9 | BD15: =IF(BC15>3,1,0) -> 1 | BE15: =IF(BC15>4,1,0) -> 1 | BF15: =SUM(AS15:AT15)/BC15 -> 0.11111111 | BG15: =SUM(AS15:AX15,AZ15:BA15)/SUM(AS15:BB15) -> 0.11111111 | BH15: =COUNT(BL15:BN15) -> 3 | BI15: =IF(BH15>1,SUM(BL15:BN15)/BH15,"") -> 0 | BJ15: =COUNT(BO15:BQ15) -> 3 | BK15: =IF(BJ15>1,SUM(BO15:BQ15)/BJ15,"") -> 0 | BL15: 0 | BM15: 0 | BN15: 0 | BO15: 0 | BP15: 0 | BQ15: 0
A16: 93 | B16: WTY017 | C16: Nest | D16: 1 | E16: WN051 | H16: =VLOOKUP($E16,wisa_obs_1994_2015d!$B$2:$P$4617,14,FALSE) -> 1477803 | I16: =VLOOKUP($E16,wisa_obs_1994_2015d!$B$2:$P$4617,15,FALSE) -> 499397 | N16: =AVERAGE(H16,J16,L16) -> 1477803 | O16: =AVERAGE(I16,K16,M16) -> 499397 | P16: 4 | Q16: 1 | R16: Ok-Bdy | S16: OBOkFalls | T16: 201Road | V16: 8-107 | AF16: N | AG16: N | AI16: N | AJ16: N | AK16: N | AL16: N | AM16: Z | AN16: BX | AP16: N | AR16: Z | AS16: =COUNTIF($W16:$AR16,AS$1) -> 7 | AT16: =COUNTIF($W16:$AR16,AT$1) -> 0 | AU16: =COUNTIF($W16:$AR16,AU$1) -> 0 | AV16: =COUNTIF($W16:$AR16,AV$1) -> 0 | AW16: =COUNTIF($W16:$AR16,AW$1) -> 0 | AX16: =COUNTIF($W16:$AR16,AX$1) -> 0 | AY16: =COUNTIF($W16:$AR16,AY$1) -> 2 | AZ16: =COUNTIF($W16:$AR16,AZ$1) -> 0 | ... BB16: =COUNTIF($W16:$AR16,BB$1) -> 0 | BC16: =SUM(AS16:AY16) -> 9 | BD16: =IF(BC16>3,1,0) -> 1 | BE16: =IF(BC16>4,1,0) -> 1 | BF16: =SUM(AS16:AT16)/BC16 -> 0.77777778 | BG16: =SUM(AS16:AX16,AZ16:BA16)/SUM(AS16:BB16) -> 0.8 | BH16: =COUNT(BL16:BN16) -> 3 | BI16: =IF(BH16>1,SUM(BL16:BN16)/BH16,"") -> 1 | BJ16: =COUNT(BO16:BQ16) -> 3 | BK16: =IF(BJ16>1,SUM(BO16:BQ16)/BJ16,"") -> 1 | BL16: 1 | BM16: 1 | BN16: 1 | BO16: 1 | BP16: 1 | BQ16: 1
A17: 102 | B17: WTY018 | C17: Nest | D17: 1 | E17: WN050 | H17: =VLOOKUP($E17,wisa_obs_1994_2015d!$B$2:$P$4617,14,FALSE) -> 1478162 | I17: =VLOOKUP($E17,wisa_obs_1994_2015d!$B$2:$P$4617,15,FALSE) -> 498962 | N17: =AVERAGE(H17,J17,L17) -> 1478162 | O17: =AVERAGE(I17,K17,M17) -> 498962 | P17: 3 | Q17: 1 | R17: Ok-Bdy | S17: OBOkFalls | T17: 201Road | V17: 8-108 | AF17: N | AG17: N | AI17: N | AJ17: BZ | AK17: N | AL17: N | AM17: N | AN17: BX | AP17: Z | AR17: Z | AS17: =COUNTIF($W17:$AR17,AS$1) -> 6 | AT17: =COUNTIF($W17:$AR17,AT$1) -> 0 | AU17: =COUNTIF($W17:$AR17,AU$1) -> 0 | AV17: =COUNTIF($W17:$AR17,AV$1) -> 0 | AW17: =COUNTIF($W17:$AR17,AW$1) -> 0 | AX17: =COUNTIF($W17:$AR17,AX$1) -> 1 | AY17: =COUNTIF($W17:$AR17,AY$1) -> 2 | AZ17: =COUNTIF($W17:$AR17,AZ$1) -> 0 | ... BB17: =COUNTIF($W17:$AR17,BB$1) -> 0 | BC17: =SUM(AS17:AY17) -> 9 | BD17: =IF(BC17>3,1,0) -> 1 | BE17: =IF(BC17>4,1,0) -> 1 | BF17: =SUM(AS17:AT17)/BC17 -> 0.66666667 | BG17: =SUM(AS17:AX17,AZ17:BA17)/SUM(AS17:BB17) -> 0.8 | BH17: =COUNT(BL17:BN17) -> 3 | BI17: =IF(BH17>1,SUM(BL17:BN17)/BH17,"") -> 0.66666667 | BJ17: =COUNT(BO17:BQ17) -> 3 | BK17: =IF(BJ17>1,SUM(BO17:BQ17)/BJ17,"") -> 1 | BL17: 1 | BM17: 0 | BN17: 1 | BO17: 1 | BP17: 1 | BQ17: 1
A18: 107 | B18: WTY019 | C18: Nest | D18: 3 | E18: WN049 | F18: WNK008 | G18: WNK015 | H18: =VLOOKUP($E18,wisa_obs_1994_2015d!$B$2:$P$4617,14,FALSE) -> 1478537 | I18: =VLOOKUP($E18,wisa_obs_1994_2015d!$B$2:$P$4617,15,FALSE) -> 498812 | J18: =VLOOKUP($F18,wisa_obs_1994_2015d!$B$2:$P$4617,14,FALSE) -> 1478528 | K18: =VLOOKUP($F18,wisa_obs_1994_2015d!$B$2:$P$4617,15,FALSE) -> 498824 | L18: =VLOOKUP($G18,wisa_obs_1994_2015d!$B$2:$P$4617,14,FALSE) -> 1478586 | M18: =VLOOKUP($G18,wisa_obs_1994_2015d!$B$2:$P$4617,15,FALSE) -> 498729 | N18: =AVERAGE(H18,J18,L18) -> 1478550.3 | O18: =AVERAGE(I18,K18,M18) -> 498788.33 | P18: 3 | Q18: 1 | R18: Ok-Bdy | S18: OBOkFalls | T18: 201Road | V18: 8-108 | AF18: N | AG18: BZ | AI18: N | AJ18: N | AK18: N | AL18: BZ | AM18: BZ | AP18: Z | AR18: Z | AS18: =COUNTIF($W18:$AR18,AS$1) -> 4 | AT18: =COUNTIF($W18:$AR18,AT$1) -> 0 | AU18: =COUNTIF($W18:$AR18,AU$1) -> 0 | AV18: =COUNTIF($W18:$AR18,AV$1) -> 0 | AW18: =COUNTIF($W18:$AR18,AW$1) -> 0 | AX18: =COUNTIF($W18:$AR18,AX$1) -> 3 | AY18: =COUNTIF($W18:$AR18,AY$1) -> 2 | AZ18: =COUNTIF($W18:$AR18,AZ$1) -> 0 | ... BB18: =COUNTIF($W18:$AR18,BB$1) -> 0 | BC18: =SUM(AS18:AY18) -> 9 | BD18: =IF(BC18>3,1,0) -> 1 | BE18: =IF(BC18>4,1,0) -> 1 | BF18: =SUM(AS18:AT18)/BC18 -> 0.44444444 | BG18: =SUM(AS18:AX18,AZ18:BA18)/SUM(AS18:BB18) -> 0.77777778 | BH18: =COUNT(BL18:BN18) -> 3 | BI18: =IF(BH18>1,SUM(BL18:BN18)/BH18,"") -> 1 | BJ18: =COUNT(BO18:BQ18) -> 3 | BK18: =IF(BJ18>1,SUM(BO18:BQ18)/BJ18,"") -> 1 | BL18: 1 | BM18: 1 | BN18: 1 | BO18: 1 | BP18: 1 | BQ18: 1
A19: 128 | B19: WTY020 | C19: Nest | D19: 1 | E19: WN228 | H19: =VLOOKUP($E19,wisa_obs_1994_2015d!$B$2:$P$4617,14,FALSE) -> 1477835 | I19: =VLOOKUP($E19,wisa_obs_1994_2015d!$B$2:$P$4617,15,FALSE) -> 498791 | N19: =AVERAGE(H19,J19,L19) -> 1477835 | O19: =AVERAGE(I19,K19,M19) -> 498791 | P19: 3 | Q19: 1 | R19: Ok-Bdy | S19: OBOkFalls | T19: 201Road | V19: Proposed 8-109 | AF19: BZ | AG19: N | AI19: BZ | AJ19: Z | AK19: N | AL19: BZ | AM19: Z | AN19: BZ | AP19: Z | AR19: Z | AS19: =COUNTIF($W19:$AR19,AS$1) -> 2 | AT19: =COUNTIF($W19:$AR19,AT$1) -> 0 | AU19: =COUNTIF($W19:$AR19,AU$1) -> 0 | AV19: =COUNTIF($W19:$AR19,AV$1) -> 0 | AW19: =COUNTIF($W19:$AR19,AW$1) -> 0 | AX19: =COUNTIF($W19:$AR19,AX$1) -> 4 | AY19: =COUNTIF($W19:$AR19,AY$1) -> 4 | AZ19: =COUNTIF($W19:$AR19,AZ$1) -> 0 | ... BB19: =COUNTIF($W19:$AR19,BB$1) -> 0 | BC19: =SUM(AS19:AY19) -> 10 | BD19: =IF(BC19>3,1,0) -> 1 | BE19: =IF(BC19>4,1,0) -> 1 | BF19: =SUM(AS19:AT19)/BC19 -> 0.2 | BG19: =SUM(AS19:AX19,AZ19:BA19)/SUM(AS19:BB19) -> 0.6 | BH19: =COUNT(BL19:BN19) -> 3 | BI19: =IF(BH19>1,SUM(BL19:BN19)/BH19,"") -> 0.33333333 | BJ19: =COUNT(BO19:BQ19) -> 3 | BK19: =IF(BJ19>1,SUM(BO19:BQ19)/BJ19,"") -> 0.66666667 | BL19: 0 | BM19: 0 | BN19: 1 | BO19: 1 | BP19: 0 | BQ19: 1
A20: 136 | B20: WTY021 | C20: Nest | D20: 3 | E20: WN227 | F20: WN322 | G20: WNK031 | H20: =VLOOKUP($E20,wisa_obs_1994_2015d!$B$2:$P$4617,14,FALSE) -> 1477352 | I20: =VLOOKUP($E20,wisa_obs_1994_2015d!$B$2:$P$4617,15,FALSE) -> 498225 | J20: =VLOOKUP($F20,wisa_obs_1994_2015d!$B$2:$P$4617,14,FALSE) -> 1477341 | K20: =VLOOKUP($F20,wisa_obs_1994_2015d!$B$2:$P$4617,15,FALSE) -> 498208 | L20: =VLOOKUP($G20,wisa_obs_1994_2015d!$B$2:$P$4617,14,FALSE) -> 1477275 | M20: =VLOOKUP($G20,wisa_obs_1994_2015d!$B$2:$P$4617,15,FALSE) -> 498241 | N20: =AVERAGE(H20,J20,L20) -> 1477322.7 | O20: =AVERAGE(I20,K20,M20) -> 498224.67 | P20: 4 | Q20: 2 | R20: Ok-Bdy | S20: OBOkFalls | T20: 201Road | V20: 8-110 | AF20: Y | AG20: N | AH20: N | AI20: Z | AJ20: BZ | AK20: Z | AL20: BZ | AM20: N | AP20: Z | AQ20: BX | AR20: Z | AS20: =COUNTIF($W20:$AR20,AS$1) -> 3 | AT20: =COUNTIF($W20:$AR20,AT$1) -> 1 | AU20: =COUNTIF($W20:$AR20,AU$1) -> 0 | AV20: =COUNTIF($W20:$AR20,AV$1) -> 0 | AW20: =COUNTIF($W20:$AR20,AW$1) -> 0 | AX20: =COUNTIF($W20:$AR20,AX$1) -> 2 | AY20: =COUNTIF($W20:$AR20,AY$1) -> 4 | AZ20: =COUNTIF($W20:$AR20,AZ$1) -> 0 | ... BB20: =COUNTIF($W20:$AR20,BB$1) -> 0 | BC20: =SUM(AS20:AY20) -> 10 | BD20: =IF(BC20>3,1,0) -> 1 | BE20: =IF(BC20>4,1,0) -> 1 | BF20: =SUM(AS20:AT20)/BC20 -> 0.4 | BG20: =SUM(AS20:AX20,AZ20:BA20)/SUM(AS20:BB20) -> 0.63636364 | BH20: =COUNT(BL20:BN20) -> 3 | BI20: =IF(BH20>1,SUM(BL20:BN20)/BH20,"") -> 0 | BJ20: =COUNT(BO20:BQ20) -> 3 | BK20: =IF(BJ20>1,SUM(BO20:BQ20)/BJ20,"") -> 0.33333333 | BL20: 0 | BM20: 0 | BN20: 0 | BO20: 0 | BP20: 1 | BQ20: 0
A21: 155 | B21: WTY022 | C21: Nest | D21: 2 | E21: WNK006 | F21: WNK046 | H21: =VLOOKUP($E21,wisa_obs_1994_2015d!$B$2:$P$4617,14,FALSE) -> 1476860 | I21: =VLOOKUP($E21,wisa_obs_1994_2015d!$B$2:$P$4617,15,FALSE) -> 497890 | J21: =VLOOKUP($F21,wisa_obs_1994_2015d!$B$2:$P$4617,14,FALSE) -> 1476870 | K21: =VLOOKUP($F21,wisa_obs_1994_2015d!$B$2:$P$4617,15,FALSE) -> 498069 | N21: =AVERAGE(H21,J21,L21) -> 1476865 | O21: =AVERAGE(I21,K21,M21) -> 497979.5 | P21: 4 | Q21: 2 | R21: Ok-Bdy | S21: OBOkFalls | AH21: BZ | AI21: N | AJ21: BZ | AK21: BZ | AN21: BX | AQ21: BX | AR21: N | AS21: =COUNTIF($W21:$AR21,AS$1) -> 2 | AT21: =COUNTIF($W21:$AR21,AT$1) -> 0 | AU21: =COUNTIF($W21:$AR21,AU$1) -> 0 | AV21: =COUNTIF($W21:$AR21,AV$1) -> 0 | AW21: =COUNTIF($W21:$AR21,AW$1) -> 0 | AX21: =COUNTIF($W21:$AR21,AX$1) -> 3 | AY21: =COUNTIF($W21:$AR21,AY$1) -> 0 | AZ21: =COUNTIF($W21:$AR21,AZ$1) -> 0 | ... BB21: =COUNTIF($W21:$AR21,BB$1) -> 0 | BC21: =SUM(AS21:AY21) -> 5 | BD21: =IF(BC21>3,1,0) -> 1 | BE21: =IF(BC21>4,1,0) -> 1 | BF21: =SUM(AS21:AT21)/BC21 -> 0.4 | BG21: =SUM(AS21:AX21,AZ21:BA21)/SUM(AS21:BB21) -> 1 | BH21: =COUNT(BL21:BN21) -> 3 | BI21: =IF(BH21>1,SUM(BL21:BN21)/BH21,"") -> 0.33333333 | BJ21: =COUNT(BO21:BQ21) -> 3 | BK21: =IF(BJ21>1,SUM(BO21:BQ21)/BJ21,"") -> 1 | BL21: 1 | BM21: 0 | BN21: 0 | BO21: 1 | BP21: 1 | BQ21: 1
A22: 161 | B22: WTY023 | C22: Nest | D22: 1 | E22: WN314 | H22: =VLOOKUP($E22,wisa_obs_1994_2015d!$B$2:$P$4617,14,FALSE) -> 1478570 | I22: =VLOOKUP($E22,wisa_obs_1994_2015d!$B$2:$P$4617,15,FALSE) -> 496511 | N22: =AVERAGE(H22,J22,L22) -> 1478570 | O22: =AVERAGE(I22,K22,M22) -> 496511 | P22: 4 | Q22: 3 | R22: Ok-Bdy | S22: OBOkFalls | V22: 8-113 | AH22: N | AI22: Z | AJ22: N | AK22: N | AM22: Z | AS22: =COUNTIF($W22:$AR22,AS$1) -> 3 | AT22: =COUNTIF($W22:$AR22,AT$1) -> 0 | AU22: =COUNTIF($W22:$AR22,AU$1) -> 0 | AV22: =COUNTIF($W22:$AR22,AV$1) -> 0 | AW22: =COUNTIF($W22:$AR22,AW$1) -> 0 | AX22: =COUNTIF($W22:$AR22,AX$1) -> 0 | AY22: =COUNTIF($W22:$AR22,AY$1) -> 2 | AZ22: =COUNTIF($W22:$AR22,AZ$1) -> 0 | ... BB22: =COUNTIF($W22:$AR22,BB$1) -> 0 | BC22: =SUM(AS22:AY22) -> 5 | BD22: =IF(BC22>3,1,0) -> 1 | BE22: =IF(BC22>4,1,0) -> 1 | BF22: =SUM(AS22:AT22)/BC22 -> 0.6 | BG22: =SUM(AS22:AX22,AZ22:BA22)/SUM(AS22:BB22) -> 0.6 | BH22: =COUNT(BL22:BN22) -> 3 | BI22: =IF(BH22>1,SUM(BL22:BN22)/BH22,"") -> 0.66666667 | BJ22: =COUNT(BO22:BQ22) -> 3 | BK22: =IF(BJ22>1,SUM(BO22:BQ22)/BJ22,"") -> 0.66666667 | BL22: 0 | BM22: 1 | BN22: 1 | BO22: 0 | BP22: 1 | BQ22: 1
A23: 163 | B23: WTY024 | C23: Nest | D23: 1 | E23: WN027 | H23: =VLOOKUP($E23,wisa_obs_1994_2015d!$B$2:$P$4617,14,FALSE) -> 1477375 | I23: =VLOOKUP($E23,wisa_obs_1994_2015d!$B$2:$P$4617,15,FALSE) -> 496211 | N23: =AVERAGE(H23,J23,L23) -> 1477375 | O23: =AVERAGE(I23,K23,M23) -> 496211 | P23: 4 | Q23: 3 | R23: Ok-Bdy | S23: OBOkFalls | U23: 1996-2000 | V23: Proposed 8-111 | AA23: N | AB23: Z | AC23: Z | AF23: N | AG23: N | AH23: Z | AI23: Z | AJ23: Z | AK23: Z | AS23: =COUNTIF($W23:$AR23,AS$1) -> 3 | AT23: =COUNTIF($W23:$AR23,AT$1) -> 0 | AU23: =COUNTIF($W23:$AR23,AU$1) -> 0 | AV23: =COUNTIF($W23:$AR23,AV$1) -> 0 | AW23: =COUNTIF($W23:$AR23,AW$1) -> 0 | AX23: =COUNTIF($W23:$AR23,AX$1) -> 0 | AY23: =COUNTIF($W23:$AR23,AY$1) -> 6 | AZ23: =COUNTIF($W23:$AR23,AZ$1) -> 0 | ... BB23: =COUNTIF($W23:$AR23,BB$1) -> 0 | BC23: =SUM(AS23:AY23) -> 9 | BD23: =IF(BC23>3,1,0) -> 1 | BE23: =IF(BC23>4,1,0) -> 1 | BF23: =SUM(AS23:AT23)/BC23 -> 0.33333333 | BG23: =SUM(AS23:AX23,AZ23:BA23)/SUM(AS23:BB23) -> 0.33333333 | BH23: =COUNT(BL23:BN23) -> 3 | BI23: =IF(BH23>1,SUM(BL23:BN23)/BH23,"") -> 0 | BJ23: =COUNT(BO23:BQ23) -> 3 | BK23: =IF(BJ23>1,SUM(BO23:BQ23)/BJ23,"") -> 0 | BL23: 0 | BM23: 0 | BN23: 0 | BO23: 0 | BP23: 0 | BQ23: 0
A24: 165 | B24: WTY025 | C24: Nest | D24: 1 | E24: WN009 | H24: =VLOOKUP($E24,wisa_obs_1994_2015d!$B$2:$P$4617,14,FALSE) -> 1478138 | I24: =VLOOKUP($E24,wisa_obs_1994_2015d!$B$2:$P$4617,15,FALSE) -> 494932 | N24: =AVERAGE(H24,J24,L24) -> 1478138 | O24: =AVERAGE(I24,K24,M24) -> 494932 | P24: 4 | Q24: 1 | R24: Ok-Bdy | S24: OBOkFalls | U24: 1996-2000 | V24: Proposed 8-112 | Y24: N | AA24: Z | AB24: Z | AC24: Z | AG24: Z | AH24: Z | AI24: Z | AJ24: Z | AK24: Z | AS24: =COUNTIF($W24:$AR24,AS$1) -> 1 | AT24: =COUNTIF($W24:$AR24,AT$1) -> 0 | AU24: =COUNTIF($W24:$AR24,AU$1) -> 0 | AV24: =COUNTIF($W24:$AR24,AV$1) -> 0 | AW24: =COUNTIF($W24:$AR24,AW$1) -> 0 | AX24: =COUNTIF($W24:$AR24,AX$1) -> 0 | AY24: =COUNTIF($W24:$AR24,AY$1) -> 8 | AZ24: =COUNTIF($W24:$AR24,AZ$1) -> 0 | ... BB24: =COUNTIF($W24:$AR24,BB$1) -> 0 | BC24: =SUM(AS24:AY24) -> 9 | BD24: =IF(BC24>3,1,0) -> 1 | BE24: =IF(BC24>4,1,0) -> 1 | BF24: =SUM(AS24:AT24)/BC24 -> 0.11111111 | BG24: =SUM(AS24:AX24,AZ24:BA24)/SUM(AS24:BB24) -> 0.11111111 | BH24: =COUNT(BL24:BN24) -> 3 | BI24: =IF(BH24>1,SUM(BL24:BN24)/BH24,"") -> 0 | BJ24: =COUNT(BO24:BQ24) -> 3 | BK24: =IF(BJ24>1,SUM(BO24:BQ24)/BJ24,"") -> 0 | BL24: 0 | BM24: 0 | BN24: 0 | BO24: 0 | BP24: 0 | BQ24: 0
A25: 167 | B25: WTY026 | C25: Nest | D25: 1 | E25: WN315 | H25: =VLOOKUP($E25,wisa_obs_1994_2015d!$B$2:$P$4617,14,FALSE) -> 1478816 | I25: =VLOOKUP($E25,wisa_obs_1994_2015d!$B$2:$P$4617,15,FALSE) -> 494958 | N25: =AVERAGE(H25,J25,L25) -> 1478816 | O25: =AVERAGE(I25,K25,M25) -> 494958 | P25: 4 | Q25: 1 | R25: Ok-Bdy | S25: OBOkFalls | V25: Proposed 8-114 | AH25: N | AI25: Z | AJ25: Z | AS25: =COUNTIF($W25:$AR25,AS$1) -> 1 | AT25: =COUNTIF($W25:$AR25,AT$1) -> 0 | AU25: =COUNTIF($W25:$AR25,AU$1) -> 0 | AV25: =COUNTIF($W25:$AR25,AV$1) -> 0 | AW25: =COUNTIF($W25:$AR25,AW$1) -> 0 | AX25: =COUNTIF($W25:$AR25,AX$1) -> 0 | AY25: =COUNTIF($W25:$AR25,AY$1) -> 2 | AZ25: =COUNTIF($W25:$AR25,AZ$1) -> 0 | ... BB25: =COUNTIF($W25:$AR25,BB$1) -> 0 | BC25: =SUM(AS25:AY25) -> 3 | BD25: =IF(BC25>3,1,0) -> 0 | BE25: =IF(BC25>4,1,0) -> 0 | BF25: =SUM(AS25:AT25)/BC25 -> 0.33333333 | BG25: =SUM(AS25:AX25,AZ25:BA25)/SUM(AS25:BB25) -> 0.33333333 | BH25: =COUNT(BL25:BN25) -> 2 | BI25: =IF(BH25>1,SUM(BL25:BN25)/BH25,"") -> 0 | BJ25: =COUNT(BO25:BQ25) -> 2 | BK25: =IF(BJ25>1,SUM(BO25:BQ25)/BJ25,"") -> 0 | BL25: 0 | BM25: 0 | BO25: 0 | BP25: 0
A26: 170 | B26: WTY027 | C26: Nest | D26: 1 | E26: WN313 | H26: =VLOOKUP($E26,wisa_obs_1994_2015d!$B$2:$P$4617,14,FALSE) -> 1485837 | I26: =VLOOKUP($E26,wisa_obs_1994_2015d!$B$2:$P$4617,15,FALSE) -> 492746 | N26: =AVERAGE(H26,J26,L26) -> 1485837 | O26: =AVERAGE(I26,K26,M26) -> 492746 | P26: 4 | Q26: 3 | R26: Ok-Bdy | S26: OBOkFalls | V26: Proposed 8-115 | AH26: N | AI26: Z | AJ26: Z | AK26: Z | AS26: =COUNTIF($W26:$AR26,AS$1) -> 1 | AT26: =COUNTIF($W26:$AR26,AT$1) -> 0 | AU26: =COUNTIF($W26:$AR26,AU$1) -> 0 | AV26: =COUNTIF($W26:$AR26,AV$1) -> 0 | AW26: =COUNTIF($W26:$AR26,AW$1) -> 0 | AX26: =COUNTIF($W26:$AR26,AX$1) -> 0 | AY26: =COUNTIF($W26:$AR26,AY$1) -> 3 | AZ26: =COUNTIF($W26:$AR26,AZ$1) -> 0 | ... BB26: =COUNTIF($W26:$AR26,BB$1) -> 0 | BC26: =SUM(AS26:AY26) -> 4 | BD26: =IF(BC26>3,1,0) -> 1 | BE26: =IF(BC26>4,1,0) -> 0 | BF26: =SUM(AS26:AT26)/BC26 -> 0.25 | BG26: =SUM(AS26:AX26,AZ26:BA26)/SUM(AS26:BB26) -> 0.25 | BH26: =COUNT(BL26:BN26) -> 3 | BI26: =IF(BH26>1,SUM(BL26:BN26)/BH26,"") -> 0 | BJ26: =COUNT(BO26:BQ26) -> 3 | BK26: =IF(BJ26>1,SUM(BO26:BQ26)/BJ26,"") -> 0 | BL26: 0 | BM26: 0 | BN26: 0 | BO26: 0 | BP26: 0 | BQ26: 0
A27: 175 | B27: WTY028 | C27: Nest | D27: 1 | E27: WN039 | H27: =VLOOKUP($E27,wisa_obs_1994_2015d!$B$2:$P$4617,14,FALSE) -> 1477394 | I27: =VLOOKUP($E27,wisa_obs_1994_2015d!$B$2:$P$4617,15,FALSE) -> 487108 | N27: =AVERAGE(H27,J27,L27) -> 1477394 | O27: =AVERAGE(I27,K27,M27) -> 487108 | P27: 4 | Q27: 1 | R27: Ok-Bdy | S27: OBOliver | V27: Proposed 8-116 | AF27: N | AI27: Z | AJ27: Z | AS27: =COUNTIF($W27:$AR27,AS$1) -> 1 | AT27: =COUNTIF($W27:$AR27,AT$1) -> 0 | AU27: =COUNTIF($W27:$AR27,AU$1) -> 0 | AV27: =COUNTIF($W27:$AR27,AV$1) -> 0 | AW27: =COUNTIF($W27:$AR27,AW$1) -> 0 | AX27: =COUNTIF($W27:$AR27,AX$1) -> 0 | AY27: =COUNTIF($W27:$AR27,AY$1) -> 2 | AZ27: =COUNTIF($W27:$AR27,AZ$1) -> 0 | ... BB27: =COUNTIF($W27:$AR27,BB$1) -> 0 | BC27: =SUM(AS27:AY27) -> 3 | BD27: =IF(BC27>3,1,0) -> 0 | BE27: =IF(BC27>4,1,0) -> 0 | BF27: =SUM(AS27:AT27)/BC27 -> 0.33333333 | BG27: =SUM(AS27:AX27,AZ27:BA27)/SUM(AS27:BB27) -> 0.33333333 | BH27: =COUNT(BL27:BN27) -> 2 | BI27: =IF(BH27>1,SUM(BL27:BN27)/BH27,"") -> 0 | BJ27: =COUNT(BO27:BQ27) -> 2 | BK27: =IF(BJ27>1,SUM(BO27:BQ27)/BJ27,"") -> 0 | BL27: 0 | BM27: 0 | BO27: 0 | BP27: 0
A28: 179 | B28: WTY029 | C28: Nest | D28: 1 | E28: WN040 | H28: =VLOOKUP($E28,wisa_obs_1994_2015d!$B$2:$P$4617,14,FALSE) -> 1478147 | I28: =VLOOKUP($E28,wisa_obs_1994_2015d!$B$2:$P$4617,15,FALSE) -> 486619 | N28: =AVERAGE(H28,J28,L28) -> 1478147 | O28: =AVERAGE(I28,K28,M28) -> 486619 | P28: 3 | Q28: 3 | R28: Ok-Bdy | S28: OBOliver | V28: Proposed 8-117 | AF28: N | AI28: N | AJ28: N | AQ28: BX | AR28: Z | AS28: =COUNTIF($W28:$AR28,AS$1) -> 3 | AT28: =COUNTIF($W28:$AR28,AT$1) -> 0 | AU28: =COUNTIF($W28:$AR28,AU$1) -> 0 | AV28: =COUNTIF($W28:$AR28,AV$1) -> 0 | AW28: =COUNTIF($W28:$AR28,AW$1) -> 0 | AX28: =COUNTIF($W28:$AR28,AX$1) -> 0 | AY28: =COUNTIF($W28:$AR28,AY$1) -> 1 | AZ28: =COUNTIF($W28:$AR28,AZ$1) -> 0 | ... BB28: =COUNTIF($W28:$AR28,BB$1) -> 0 | BC28: =SUM(AS28:AY28) -> 4 | BD28: =IF(BC28>3,1,0) -> 1 | BE28: =IF(BC28>4,1,0) -> 0 | BF28: =SUM(AS28:AT28)/BC28 -> 0.75 | BG28: =SUM(AS28:AX28,AZ28:BA28)/SUM(AS28:BB28) -> 0.8 | BH28: =COUNT(BL28:BN28) -> 2 | BI28: =IF(BH28>1,SUM(BL28:BN28)/BH28,"") -> 1 | BJ28: =COUNT(BO28:BQ28) -> 2 | BK28: =IF(BJ28>1,SUM(BO28:BQ28)/BJ28,"") -> 1 | BL28: 1 | BM28: 1 | BO28: 1 | BP28: 1
A29: 182 | B29: WTY031 | C29: Nest | D29: 2 | E29: WN236 | F29: WNK016 | H29: =VLOOKUP($E29,wisa_obs_1994_2015d!$B$2:$P$4617,14,FALSE) -> 1480350 | I29: =VLOOKUP($E29,wisa_obs_1994_2015d!$B$2:$P$4617,15,FALSE) -> 486163 | J29: =VLOOKUP($F29,wisa_obs_1994_2015d!$B$2:$P$4617,14,FALSE) -> 1480447 | K29: =VLOOKUP($F29,wisa_obs_1994_2015d!$B$2:$P$4617,15,FALSE) -> 486251 | N29: =AVERAGE(H29,J29,L29) -> 1480398.5 | O29: =AVERAGE(I29,K29,M29) -> 486207 | P29: 4 | Q29: 4 | R29: Ok-Bdy | S29: OBOliver | V29: Proposed 8-120 | AG29: N | AI29: N | AJ29: N | AK29: Z | AS29: =COUNTIF($W29:$AR29,AS$1) -> 3 | AT29: =COUNTIF($W29:$AR29,AT$1) -> 0 | AU29: =COUNTIF($W29:$AR29,AU$1) -> 0 | AV29: =COUNTIF($W29:$AR29,AV$1) -> 0 | AW29: =COUNTIF($W29:$AR29,AW$1) -> 0 | AX29: =COUNTIF($W29:$AR29,AX$1) -> 0 | AY29: =COUNTIF($W29:$AR29,AY$1) -> 1 | AZ29: =COUNTIF($W29:$AR29,AZ$1) -> 0 | ... BB29: =COUNTIF($W29:$AR29,BB$1) -> 0 | BC29: =SUM(AS29:AY29) -> 4 | BD29: =IF(BC29>3,1,0) -> 1 | BE29: =IF(BC29>4,1,0) -> 0 | BF29: =SUM(AS29:AT29)/BC29 -> 0.75 | BG29: =SUM(AS29:AX29,AZ29:BA29)/SUM(AS29:BB29) -> 0.75 | BH29: =COUNT(BL29:BN29) -> 3 | BI29: =IF(BH29>1,SUM(BL29:BN29)/BH29,"") -> 0.66666667 | BJ29: =COUNT(BO29:BQ29) -> 3 | BK29: =IF(BJ29>1,SUM(BO29:BQ29)/BJ29,"") -> 0.66666667 | BL29: 1 | BM29: 1 | BN29: 0 | BO29: 1 | BP29: 1 | BQ29: 0
A30: 186 | B30: WTY032 | C30: Nest | D30: 1 | E30: WN043 | H30: =VLOOKUP($E30,wisa_obs_1994_2015d!$B$2:$P$4617,14,FALSE) -> 1480828 | I30: =VLOOKUP($E30,wisa_obs_1994_2015d!$B$2:$P$4617,15,FALSE) -> 486205 | N30: =AVERAGE(H30,J30,L30) -> 1480828 | O30: =AVERAGE(I30,K30,M30) -> 486205 | P30: 5 | Q30: 4 | R30: Ok-Bdy | S30: OBOliver | V30: Proposed 8-118 | AF30: N | AI30: N | AJ30: N | AS30: =COUNTIF($W30:$AR30,AS$1) -> 3 | AT30: =COUNTIF($W30:$AR30,AT$1) -> 0 | AU30: =COUNTIF($W30:$AR30,AU$1) -> 0 | AV30: =COUNTIF($W30:$AR30,AV$1) -> 0 | AW30: =COUNTIF($W30:$AR30,AW$1) -> 0 | AX30: =COUNTIF($W30:$AR30,AX$1) -> 0 | AY30: =COUNTIF($W30:$AR30,AY$1) -> 0 | AZ30: =COUNTIF($W30:$AR30,AZ$1) -> 0 | ... BB30: =COUNTIF($W30:$AR30,BB$1) -> 0 | BC30: =SUM(AS30:AY30) -> 3 | BD30: =IF(BC30>3,1,0) -> 0 | BE30: =IF(BC30>4,1,0) -> 0 | BF30: =SUM(AS30:AT30)/BC30 -> 1 | BG30: =SUM(AS30:AX30,AZ30:BA30)/SUM(AS30:BB30) -> 1 | BH30: =COUNT(BL30:BN30) -> 2 | BI30: =IF(BH30>1,SUM(BL30:BN30)/BH30,"") -> 1 | BJ30: =COUNT(BO30:BQ30) -> 2 | BK30: =IF(BJ30>1,SUM(BO30:BQ30)/BJ30,"") -> 1 | BL30: 1 | BM30: 1 | BO30: 1 | BP30: 1
A31: 192 | B31: WTY033 | C31: Nest | D31: 1 | E31: WN305 | H31: =VLOOKUP($E31,wisa_obs_1994_2015d!$B$2:$P$4617,14,FALSE) -> 1482959 | I31: =VLOOKUP($E31,wisa_obs_1994_2015d!$B$2:$P$4617,15,FALSE) -> 486160 | N31: =AVERAGE(H31,J31,L31) -> 1482959 | O31: =AVERAGE(I31,K31,M31) -> 486160 | P31: 4 | Q31: 3 | R31: Ok-Bdy | S31: OBOliver | V31: Proposed 8-198 | AH31: N | AI31: N | AJ31: Z | AK31: BZ | AS31: =COUNTIF($W31:$AR31,AS$1) -> 2 | AT31: =COUNTIF($W31:$AR31,AT$1) -> 0 | AU31: =COUNTIF($W31:$AR31,AU$1) -> 0 | AV31: =COUNTIF($W31:$AR31,AV$1) -> 0 | AW31: =COUNTIF($W31:$AR31,AW$1) -> 0 | AX31: =COUNTIF($W31:$AR31,AX$1) -> 1 | AY31: =COUNTIF($W31:$AR31,AY$1) -> 1 | AZ31: =COUNTIF($W31:$AR31,AZ$1) -> 0 | ... BB31: =COUNTIF($W31:$AR31,BB$1) -> 0 | BC31: =SUM(AS31:AY31) -> 4 | BD31: =IF(BC31>3,1,0) -> 1 | BE31: =IF(BC31>4,1,0) -> 0 | BF31: =SUM(AS31:AT31)/BC31 -> 0.5 | BG31: =SUM(AS31:AX31,AZ31:BA31)/SUM(AS31:BB31) -> 0.75 | BH31: =COUNT(BL31:BN31) -> 3 | BI31: =IF(BH31>1,SUM(BL31:BN31)/BH31,"") -> 0.33333333 | BJ31: =COUNT(BO31:BQ31) -> 3 | BK31: =IF(BJ31>1,SUM(BO31:BQ31)/BJ31,"") -> 0.66666667 | BL31: 1 | BM31: 0 | BN31: 0 | BO31: 1 | BP31: 0 | BQ31: 1
A32: 195 | B32: WTY034 | C32: Nest | D32: 1 | E32: WN233 | H32: =VLOOKUP($E32,wisa_obs_1994_2015d!$B$2:$P$4617,14,FALSE) -> 1480718 | I32: =VLOOKUP($E32,wisa_obs_1994_2015d!$B$2:$P$4617,15,FALSE) -> 484995 | N32: =AVERAGE(H32,J32,L32) -> 1480718 | O32: =AVERAGE(I32,K32,M32) -> 484995 | P32: 4 | Q32: 3 | R32: Ok-Bdy | S32: OBOliver | V32: 8-190 | AG32: N | AI32: Z | AJ32: Z | AK32: Z | AS32: =COUNTIF($W32:$AR32,AS$1) -> 1 | AT32: =COUNTIF($W32:$AR32,AT$1) -> 0 | AU32: =COUNTIF($W32:$AR32,AU$1) -> 0 | AV32: =COUNTIF($W32:$AR32,AV$1) -> 0 | AW32: =COUNTIF($W32:$AR32,AW$1) -> 0 | AX32: =COUNTIF($W32:$AR32,AX$1) -> 0 | AY32: =COUNTIF($W32:$AR32,AY$1) -> 3 | AZ32: =COUNTIF($W32:$AR32,AZ$1) -> 0 | ... BB32: =COUNTIF($W32:$AR32,BB$1) -> 0 | BC32: =SUM(AS32:AY32) -> 4 | BD32: =IF(BC32>3,1,0) -> 1 | BE32: =IF(BC32>4,1,0) -> 0 | BF32: =SUM(AS32:AT32)/BC32 -> 0.25 | BG32: =SUM(AS32:AX32,AZ32:BA32)/SUM(AS32:BB32) -> 0.25 | BH32: =COUNT(BL32:BN32) -> 3 | BI32: =IF(BH32>1,SUM(BL32:BN32)/BH32,"") -> 0 | BJ32: =COUNT(BO32:BQ32) -> 3 | BK32: =IF(BJ32>1,SUM(BO32:BQ32)/BJ32,"") -> 0 | BL32: 0 | BM32: 0 | BN32: 0 | BO32: 0 | BP32: 0 | BQ32: 0
A33: 202 | B33: WTY035 | C33: Nest | D33: 1 | E33: WN306 | H33: =VLOOKUP($E33,wisa_obs_1994_2015d!$B$2:$P$4617,14,FALSE) -> 1480909 | I33: =VLOOKUP($E33,wisa_obs_1994_2015d!$B$2:$P$4617,15,FALSE) -> 484758 | N33: =AVERAGE(H33,J33,L33) -> 1480909 | O33: =AVERAGE(I33,K33,M33) -> 484758 | P33: 4 | Q33: 3 | R33: Ok-Bdy | S33: OBOliver | V33: 8-190 | AG33: P | AH33: N | AI33: Z | AJ33: Z | AK33: Z | AS33: =COUNTIF($W33:$AR33,AS$1) -> 1 | AT33: =COUNTIF($W33:$AR33,AT$1) -> 0 | AU33: =COUNTIF($W33:$AR33,AU$1) -> 1 | AV33: =COUNTIF($W33:$AR33,AV$1) -> 0 | AW33: =COUNTIF($W33:$AR33,AW$1) -> 0 | AX33: =COUNTIF($W33:$AR33,AX$1) -> 0 | AY33: =COUNTIF($W33:$AR33,AY$1) -> 3 | AZ33: =COUNTIF($W33:$AR33,AZ$1) -> 0 | ... BB33: =COUNTIF($W33:$AR33,BB$1) -> 0 | BC33: =SUM(AS33:AY33) -> 5 | BD33: =IF(BC33>3,1,0) -> 1 | BE33: =IF(BC33>4,1,0) -> 1 | BF33: =SUM(AS33:AT33)/BC33 -> 0.2 | BG33: =SUM(AS33:AX33,AZ33:BA33)/SUM(AS33:BB33) -> 0.4 | BH33: =COUNT(BL33:BN33) -> 3 | BI33: =IF(BH33>1,SUM(BL33:BN33)/BH33,"") -> 0 | BJ33: =COUNT(BO33:BQ33) -> 3 | BK33: =IF(BJ33>1,SUM(BO33:BQ33)/BJ33,"") -> 0 | BL33: 0 | BM33: 0 | BN33: 0 | BO33: 0 | BP33: 0 | BQ33: 0
A34: 216 | B34: WTY036 | C34: Nest | D34: 1 | E34: WNK013 | H34: =VLOOKUP($E34,wisa_obs_1994_2015d!$B$2:$P$4617,14,FALSE) -> 1481520 | I34: =VLOOKUP($E34,wisa_obs_1994_2015d!$B$2:$P$4617,15,FALSE) -> 484805 | N34: =AVERAGE(H34,J34,L34) -> 1481520 | O34: =AVERAGE(I34,K34,M34) -> 484805 | P34: 4 | Q34: 2 | R34: Ok-Bdy | S34: OBOliver | AG34: P | AH34: B | AI34: P | AJ34: N | AK34: N | AS34: =COUNTIF($W34:$AR34,AS$1) -> 2 | AT34: =COUNTIF($W34:$AR34,AT$1) -> 0 | AU34: =COUNTIF($W34:$AR34,AU$1) -> 2 | AV34: =COUNTIF($W34:$AR34,AV$1) -> 1 | AW34: =COUNTIF($W34:$AR34,AW$1) -> 0 | AX34: =COUNTIF($W34:$AR34,AX$1) -> 0 | AY34: =COUNTIF($W34:$AR34,AY$1) -> 0 | AZ34: =COUNTIF($W34:$AR34,AZ$1) -> 0 | ... BB34: =COUNTIF($W34:$AR34,BB$1) -> 0 | BC34: =SUM(AS34:AY34) -> 5 | BD34: =IF(BC34>3,1,0) -> 1 | BE34: =IF(BC34>4,1,0) -> 1 | BF34: =SUM(AS34:AT34)/BC34 -> 0.4 | BG34: =SUM(AS34:AX34,AZ34:BA34)/SUM(AS34:BB34) -> 1 | BH34: =COUNT(BL34:BN34) -> 3 | BI34: =IF(BH34>1,SUM(BL34:BN34)/BH34,"") -> 0.66666667 | BJ34: =COUNT(BO34:BQ34) -> 3 | BK34: =IF(BJ34>1,SUM(BO34:BQ34)/BJ34,"") -> 1 | BL34: 0 | BM34: 1 | BN34: 1 | BO34: 1 | BP34: 1 | BQ34: 1
A35: 222 | B35: WTY037 | C35: Nest | D35: 2 | E35: WN042 | F35: WNK014 | H35: =VLOOKUP($E35,wisa_obs_1994_2015d!$B$2:$P$4617,14,FALSE) -> 1481620 | I35: =VLOOKUP($E35,wisa_obs_1994_2015d!$B$2:$P$4617,15,FALSE) -> 483009 | J35: =VLOOKUP($F35,wisa_obs_1994_2015d!$B$2:$P$4617,14,FALSE) -> 1481948 | K35: =VLOOKUP($F35,wisa_obs_1994_2015d!$B$2:$P$4617,15,FALSE) -> 483005 | N35: =AVERAGE(H35,J35,L35) -> 1481784 | O35: =AVERAGE(I35,K35,M35) -> 483007 | P35: 3 | Q35: 2 | R35: Ok-Bdy | S35: OBOliver | V35: Proposed 8-119 | AF35: N | AG35: BZ | AH35: BZ | AI35: Z | AJ35: N | AK35: N | AS35: =COUNTIF($W35:$AR35,AS$1) -> 3 | AT35: =COUNTIF($W35:$AR35,AT$1) -> 0 | AU35: =COUNTIF($W35:$AR35,AU$1) -> 0 | AV35: =COUNTIF($W35:$AR35,AV$1) -> 0 | AW35: =COUNTIF($W35:$AR35,AW$1) -> 0 | AX35: =COUNTIF($W35:$AR35,AX$1) -> 2 | AY35: =COUNTIF($W35:$AR35,AY$1) -> 1 | AZ35: =COUNTIF($W35:$AR35,AZ$1) -> 0 | ... BB35: =COUNTIF($W35:$AR35,BB$1) -> 0 | BC35: =SUM(AS35:AY35) -> 6 | BD35: =IF(BC35>3,1,0) -> 1 | BE35: =IF(BC35>4,1,0) -> 1 | BF35: =SUM(AS35:AT35)/BC35 -> 0.5 | BG35: =SUM(AS35:AX35,AZ35:BA35)/SUM(AS35:BB35) -> 0.83333333 | BH35: =COUNT(BL35:BN35) -> 3 | BI35: =IF(BH35>1,SUM(BL35:BN35)/BH35,"") -> 0.66666667 | BJ35: =COUNT(BO35:BQ35) -> 3 | BK35: =IF(BJ35>1,SUM(BO35:BQ35)/BJ35,"") -> 0.66666667 | BL35: 0 | BM35: 1 | BN35: 1 | BO35: 0 | BP35: 1 | BQ35: 1
A36: 229 | B36: WTY038 | C36: Nest | D36: 1 | E36: WN232 | H36: =VLOOKUP($E36,wisa_obs_1994_2015d!$B$2:$P$4617,14,FALSE) -> 1482898 | I36: =VLOOKUP($E36,wisa_obs_1994_2015d!$B$2:$P$4617,15,FALSE) -> 482216 | N36: =AVERAGE(H36,J36,L36) -> 1482898 | O36: =AVERAGE(I36,K36,M36) -> 482216 | P36: 4 | Q36: 4 | R36: Ok-Bdy | S36: OBOliver | V36: 8-191 | AG36: N | AH36: N | AI36: N | AJ36: N | AK36: Z | AS36: =COUNTIF($W36:$AR36,AS$1) -> 4 | AT36: =COUNTIF($W36:$AR36,AT$1) -> 0 | AU36: =COUNTIF($W36:$AR36,AU$1) -> 0 | AV36: =COUNTIF($W36:$AR36,AV$1) -> 0 | AW36: =COUNTIF($W36:$AR36,AW$1) -> 0 | AX36: =COUNTIF($W36:$AR36,AX$1) -> 0 | AY36: =COUNTIF($W36:$AR36,AY$1) -> 1 | AZ36: =COUNTIF($W36:$AR36,AZ$1) -> 0 | ... BB36: =COUNTIF($W36:$AR36,BB$1) -> 0 | BC36: =SUM(AS36:AY36) -> 5 | BD36: =IF(BC36>3,1,0) -> 1 | BE36: =IF(BC36>4,1,0) -> 1 | BF36: =SUM(AS36:AT36)/BC36 -> 0.8 | BG36: =SUM(AS36:AX36,AZ36:BA36)/SUM(AS36:BB36) -> 0.8 | BH36: =COUNT(BL36:BN36) -> 3 | BI36: =IF(BH36>1,SUM(BL36:BN36)/BH36,"") -> 0.66666667 | BJ36: =COUNT(BO36:BQ36) -> 3 | BK36: =IF(BJ36>1,SUM(BO36:BQ36)/BJ36,"") -> 0.66666667 | BL36: 1 | BM36: 1 | BN36: 0 | BO36: 1 | BP36: 1 | BQ36: 0
A37: 233 | B37: WTY039 | C37: Nest | D37: 1 | E37: WN325 | H37: =VLOOKUP($E37,wisa_obs_1994_2015d!$B$2:$P$4617,14,FALSE) -> 1481749 | I37: =VLOOKUP($E37,wisa_obs_1994_2015d!$B$2:$P$4617,15,FALSE) -> 480795 | N37: =AVERAGE(H37,J37,L37) -> 1481749 | O37: =AVERAGE(I37,K37,M37) -> 480795 | P37: 3 | Q37: 3 | R37: Ok-Bdy | S37: OBOliver | V37: Proposed 8-212 | AH37: N | AI37: Z | AJ37: Z | AS37: =COUNTIF($W37:$AR37,AS$1) -> 1 | AT37: =COUNTIF($W37:$AR37,AT$1) -> 0 | AU37: =COUNTIF($W37:$AR37,AU$1) -> 0 | AV37: =COUNTIF($W37:$AR37,AV$1) -> 0 | AW37: =COUNTIF($W37:$AR37,AW$1) -> 0 | AX37: =COUNTIF($W37:$AR37,AX$1) -> 0 | AY37: =COUNTIF($W37:$AR37,AY$1) -> 2 | AZ37: =COUNTIF($W37:$AR37,AZ$1) -> 0 | ... BB37: =COUNTIF($W37:$AR37,BB$1) -> 0 | BC37: =SUM(AS37:AY37) -> 3 | BD37: =IF(BC37>3,1,0) -> 0 | BE37: =IF(BC37>4,1,0) -> 0 | BF37: =SUM(AS37:AT37)/BC37 -> 0.33333333 | BG37: =SUM(AS37:AX37,AZ37:BA37)/SUM(AS37:BB37) -> 0.33333333 | BH37: =COUNT(BL37:BN37) -> 2 | BI37: =IF(BH37>1,SUM(BL37:BN37)/BH37,"") -> 0 | BJ37: =COUNT(BO37:BQ37) -> 2 | BK37: =IF(BJ37>1,SUM(BO37:BQ37)/BJ37,"") -> 0 | BL37: 0 | BM37: 0 | BO37: 0 | BP37: 0
A38: 245 | B38: WTY042 | C38: Nest | D38: 1 | E38: WN307 | H38: =VLOOKUP($E38,wisa_obs_1994_2015d!$B$2:$P$4617,14,FALSE) -> 1483908 | I38: =VLOOKUP($E38,wisa_obs_1994_2015d!$B$2:$P$4617,15,FALSE) -> 481692 | N38: =AVERAGE(H38,J38,L38) -> 1483908 | O38: =AVERAGE(I38,K38,M38) -> 481692 | P38: 3 | Q38: 2 | R38: Ok-Bdy | S38: OBOliver | V38: 8-199 | AG38: Y | AH38: N | AI38: Z | AJ38: BZ | AK38: Z | AM38: PX | AQ38: N | AS38: =COUNTIF($W38:$AR38,AS$1) -> 2 | AT38: =COUNTIF($W38:$AR38,AT$1) -> 1 | AU38: =COUNTIF($W38:$AR38,AU$1) -> 0 | AV38: =COUNTIF($W38:$AR38,AV$1) -> 0 | AW38: =COUNTIF($W38:$AR38,AW$1) -> 0 | AX38: =COUNTIF($W38:$AR38,AX$1) -> 1 | AY38: =COUNTIF($W38:$AR38,AY$1) -> 2 | AZ38: =COUNTIF($W38:$AR38,AZ$1) -> 1 | ... BB38: =COUNTIF($W38:$AR38,BB$1) -> 0 | BC38: =SUM(AS38:AY38) -> 6 | BD38: =IF(BC38>3,1,0) -> 1 | BE38: =IF(BC38>4,1,0) -> 1 | BF38: =SUM(AS38:AT38)/BC38 -> 0.5 | BG38: =SUM(AS38:AX38,AZ38:BA38)/SUM(AS38:BB38) -> 0.71428571 | BH38: =COUNT(BL38:BN38) -> 3 | BI38: =IF(BH38>1,SUM(BL38:BN38)/BH38,"") -> 0 | BJ38: =COUNT(BO38:BQ38) -> 3 | BK38: =IF(BJ38>1,SUM(BO38:BQ38)/BJ38,"") -> 0.33333333 | BL38: 0 | BM38: 0 | BN38: 0 | BO38: 0 | BP38: 1 | BQ38: 0
A39: 249 | B39: WTY044 | C39: Nest | D39: 2 | E39: WN308 | F39: WNK025 | H39: =VLOOKUP($E39,wisa_obs_1994_2015d!$B$2:$P$4617,14,FALSE) -> 1484473 | I39: =VLOOKUP($E39,wisa_obs_1994_2015d!$B$2:$P$4617,15,FALSE) -> 482006 | J39: =VLOOKUP($F39,wisa_obs_1994_2015d!$B$2:$P$4617,14,FALSE) -> 1484440 | K39: =VLOOKUP($F39,wisa_obs_1994_2015d!$B$2:$P$4617,15,FALSE) -> 481956 | N39: =AVERAGE(H39,J39,L39) -> 1484456.5 | O39: =AVERAGE(I39,K39,M39) -> 481981 | P39: 3 | Q39: 3 | R39: Ok-Bdy | S39: OBOliver | V39: Proposed 8-200 | AG39: Y | AH39: N | AI39: PZ | AJ39: Z | AK39: N | AS39: =COUNTIF($W39:$AR39,AS$1) -> 2 | AT39: =COUNTIF($W39:$AR39,AT$1) -> 1 | AU39: =COUNTIF($W39:$AR39,AU$1) -> 0 | AV39: =COUNTIF($W39:$AR39,AV$1) -> 0 | AW39: =COUNTIF($W39:$AR39,AW$1) -> 1 | AX39: =COUNTIF($W39:$AR39,AX$1) -> 0 | AY39: =COUNTIF($W39:$AR39,AY$1) -> 1 | AZ39: =COUNTIF($W39:$AR39,AZ$1) -> 0 | ... BB39: =COUNTIF($W39:$AR39,BB$1) -> 0 | BC39: =SUM(AS39:AY39) -> 5 | BD39: =IF(BC39>3,1,0) -> 1 | BE39: =IF(BC39>4,1,0) -> 1 | BF39: =SUM(AS39:AT39)/BC39 -> 0.6 | BG39: =SUM(AS39:AX39,AZ39:BA39)/SUM(AS39:BB39) -> 0.8 | BH39: =COUNT(BL39:BN39) -> 3 | BI39: =IF(BH39>1,SUM(BL39:BN39)/BH39,"") -> 0.33333333 | BJ39: =COUNT(BO39:BQ39) -> 3 | BK39: =IF(BJ39>1,SUM(BO39:BQ39)/BJ39,"") -> 0.66666667 | BL39: 0 | BM39: 0 | BN39: 1 | BO39: 1 | BP39: 0 | BQ39: 1
A40: 252 | B40: WTY045 | C40: Nest | D40: 1 | E40: WN235 | H40: =VLOOKUP($E40,wisa_obs_1994_2015d!$B$2:$P$4617,14,FALSE) -> 1484308 | I40: =VLOOKUP($E40,wisa_obs_1994_2015d!$B$2:$P$4617,15,FALSE) -> 481374 | N40: =AVERAGE(H40,J40,L40) -> 1484308 | O40: =AVERAGE(I40,K40,M40) -> 481374 | P40: 4 | Q40: 2 | R40: Ok-Bdy | S40: OBOliver | V40: Proposed 8-193 | AG40: N | AI40: N | AJ40: Z | AK40: Z | AS40: =COUNTIF($W40:$AR40,AS$1) -> 2 | AT40: =COUNTIF($W40:$AR40,AT$1) -> 0 | AU40: =COUNTIF($W40:$AR40,AU$1) -> 0 | AV40: =COUNTIF($W40:$AR40,AV$1) -> 0 | AW40: =COUNTIF($W40:$AR40,AW$1) -> 0 | AX40: =COUNTIF($W40:$AR40,AX$1) -> 0 | AY40: =COUNTIF($W40:$AR40,AY$1) -> 2 | AZ40: =COUNTIF($W40:$AR40,AZ$1) -> 0 | ... BB40: =COUNTIF($W40:$AR40,BB$1) -> 0 | BC40: =SUM(AS40:AY40) -> 4 | BD40: =IF(BC40>3,1,0) -> 1 | BE40: =IF(BC40>4,1,0) -> 0 | BF40: =SUM(AS40:AT40)/BC40 -> 0.5 | BG40: =SUM(AS40:AX40,AZ40:BA40)/SUM(AS40:BB40) -> 0.5 | BH40: =COUNT(BL40:BN40) -> 3 | BI40: =IF(BH40>1,SUM(BL40:BN40)/BH40,"") -> 0.33333333 | BJ40: =COUNT(BO40:BQ40) -> 3 | BK40: =IF(BJ40>1,SUM(BO40:BQ40)/BJ40,"") -> 0.33333333 | BL40: 1 | BM40: 0 | BN40: 0 | BO40: 1 | BP40: 0 | BQ40: 0
A41: 260 | B41: WTY047 | C41: Nest | D41: 1 | E41: WN231 | H41: =VLOOKUP($E41,wisa_obs_1994_2015d!$B$2:$P$4617,14,FALSE) -> 1485567 | I41: =VLOOKUP($E41,wisa_obs_1994_2015d!$B$2:$P$4617,15,FALSE) -> 481218 | N41: =AVERAGE(H41,J41,L41) -> 1485567 | O41: =AVERAGE(I41,K41,M41) -> 481218 | P41: 3 | Q41: 2 | R41: Ok-Bdy | S41: OBOliver | V41: 8-194 | AG41: N | AI41: Y | AJ41: BZ | AS41: =COUNTIF($W41:$AR41,AS$1) -> 1 | AT41: =COUNTIF($W41:$AR41,AT$1) -> 1 | AU41: =COUNTIF($W41:$AR41,AU$1) -> 0 | AV41: =COUNTIF($W41:$AR41,AV$1) -> 0 | AW41: =COUNTIF($W41:$AR41,AW$1) -> 0 | AX41: =COUNTIF($W41:$AR41,AX$1) -> 1 | AY41: =COUNTIF($W41:$AR41,AY$1) -> 0 | AZ41: =COUNTIF($W41:$AR41,AZ$1) -> 0 | ... BB41: =COUNTIF($W41:$AR41,BB$1) -> 0 | BC41: =SUM(AS41:AY41) -> 3 | BD41: =IF(BC41>3,1,0) -> 0 | BE41: =IF(BC41>4,1,0) -> 0 | BF41: =SUM(AS41:AT41)/BC41 -> 0.66666667 | BG41: =SUM(AS41:AX41,AZ41:BA41)/SUM(AS41:BB41) -> 1 | BH41: =COUNT(BL41:BN41) -> 2 | BI41: =IF(BH41>1,SUM(BL41:BN41)/BH41,"") -> 0.5 | BJ41: =COUNT(BO41:BQ41) -> 2 | BK41: =IF(BJ41>1,SUM(BO41:BQ41)/BJ41,"") -> 1 | BL41: 1 | BM41: 0 | BO41: 1 | BP41: 1
A42: 268 | B42: WTY049 | C42: Nest | D42: 1 | E42: WN230 | H42: =VLOOKUP($E42,wisa_obs_1994_2015d!$B$2:$P$4617,14,FALSE) -> 1485825 | I42: =VLOOKUP($E42,wisa_obs_1994_2015d!$B$2:$P$4617,15,FALSE) -> 480540 | N42: =AVERAGE(H42,J42,L42) -> 1485825 | O42: =AVERAGE(I42,K42,M42) -> 480540 | P42: 4 | Q42: 3 | R42: Ok-Bdy | S42: OBOliver | V42: Proposed 8-195 | AG42: N | AI42: Z | AJ42: Z | AS42: =COUNTIF($W42:$AR42,AS$1) -> 1 | AT42: =COUNTIF($W42:$AR42,AT$1) -> 0 | AU42: =COUNTIF($W42:$AR42,AU$1) -> 0 | AV42: =COUNTIF($W42:$AR42,AV$1) -> 0 | AW42: =COUNTIF($W42:$AR42,AW$1) -> 0 | AX42: =COUNTIF($W42:$AR42,AX$1) -> 0 | AY42: =COUNTIF($W42:$AR42,AY$1) -> 2 | AZ42: =COUNTIF($W42:$AR42,AZ$1) -> 0 | ... BB42: =COUNTIF($W42:$AR42,BB$1) -> 0 | BC42: =SUM(AS42:AY42) -> 3 | BD42: =IF(BC42>3,1,0) -> 0 | BE42: =IF(BC42>4,1,0) -> 0 | BF42: =SUM(AS42:AT42)/BC42 -> 0.33333333 | BG42: =SUM(AS42:AX42,AZ42:BA42)/SUM(AS42:BB42) -> 0.33333333 | BH42: =COUNT(BL42:BN42) -> 2 | BI42: =IF(BH42>1,SUM(BL42:BN42)/BH42,"") -> 0 | BJ42: =COUNT(BO42:BQ42) -> 2 | BK42: =IF(BJ42>1,SUM(BO42:BQ42)/BJ42,"") -> 0 | BL42: 0 | BM42: 0 | BO42: 0 | BP42: 0
A43: 272 | B43: WTY050 | C43: Nest | D43: 1 | E43: WN309 | H43: =VLOOKUP($E43,wisa_obs_1994_2015d!$B$2:$P$4617,14,FALSE) -> 1485078 | I43: =VLOOKUP($E43,wisa_obs_1994_2015d!$B$2:$P$4617,15,FALSE) -> 480699 | N43: =AVERAGE(H43,J43,L43) -> 1485078 | O43: =AVERAGE(I43,K43,M43) -> 480699 | P43: 3 | Q43: 3 | R43: Ok-Bdy | S43: OBOliver | AG43: P | AH43: N | AI43: N | AJ43: N | AK43: N | AS43: =COUNTIF($W43:$AR43,AS$1) -> 4 | AT43: =COUNTIF($W43:$AR43,AT$1) -> 0 | AU43: =COUNTIF($W43:$AR43,AU$1) -> 1 | AV43: =COUNTIF($W43:$AR43,AV$1) -> 0 | AW43: =COUNTIF($W43:$AR43,AW$1) -> 0 | AX43: =COUNTIF($W43:$AR43,AX$1) -> 0 | AY43: =COUNTIF($W43:$AR43,AY$1) -> 0 | AZ43: =COUNTIF($W43:$AR43,AZ$1) -> 0 | ... BB43: =COUNTIF($W43:$AR43,BB$1) -> 0 | BC43: =SUM(AS43:AY43) -> 5 | BD43: =IF(BC43>3,1,0) -> 1 | BE43: =IF(BC43>4,1,0) -> 1 | BF43: =SUM(AS43:AT43)/BC43 -> 0.8 | BG43: =SUM(AS43:AX43,AZ43:BA43)/SUM(AS43:BB43) -> 1 | BH43: =COUNT(BL43:BN43) -> 3 | BI43: =IF(BH43>1,SUM(BL43:BN43)/BH43,"") -> 1 | BJ43: =COUNT(BO43:BQ43) -> 3 | BK43: =IF(BJ43>1,SUM(BO43:BQ43)/BJ43,"") -> 1 | BL43: 1 | BM43: 1 | BN43: 1 | BO43: 1 | BP43: 1 | BQ43: 1
A44: 280 | B44: WTY051 | C44: Nest | D44: 1 | E44: WN326 | H44: =VLOOKUP($E44,wisa_obs_1994_2015d!$B$2:$P$4617,14,FALSE) -> 1484923 | I44: =VLOOKUP($E44,wisa_obs_1994_2015d!$B$2:$P$4617,15,FALSE) -> 480192 | N44: =AVERAGE(H44,J44,L44) -> 1484923 | O44: =AVERAGE(I44,K44,M44) -> 480192 | P44: 3 | Q44: 3 | R44: Ok-Bdy | S44: OBOliver | V44: 8-197 | AG44: Y | AH44: N | AI44: N | AJ44: N | AK44: Z | AQ44: BX | AS44: =COUNTIF($W44:$AR44,AS$1) -> 3 | AT44: =COUNTIF($W44:$AR44,AT$1) -> 1 | AU44: =COUNTIF($W44:$AR44,AU$1) -> 0 | AV44: =COUNTIF($W44:$AR44,AV$1) -> 0 | AW44: =COUNTIF($W44:$AR44,AW$1) -> 0 | AX44: =COUNTIF($W44:$AR44,AX$1) -> 0 | AY44: =COUNTIF($W44:$AR44,AY$1) -> 1 | AZ44: =COUNTIF($W44:$AR44,AZ$1) -> 0 | ... BB44: =COUNTIF($W44:$AR44,BB$1) -> 0 | BC44: =SUM(AS44:AY44) -> 5 | BD44: =IF(BC44>3,1,0) -> 1 | BE44: =IF(BC44>4,1,0) -> 1 | BF44: =SUM(AS44:AT44)/BC44 -> 0.8 | BG44: =SUM(AS44:AX44,AZ44:BA44)/SUM(AS44:BB44) -> 0.83333333 | BH44: =COUNT(BL44:BN44) -> 3 | BI44: =IF(BH44>1,SUM(BL44:BN44)/BH44,"") -> 0.66666667 | BJ44: =COUNT(BO44:BQ44) -> 3 | BK44: =IF(BJ44>1,SUM(BO44:BQ44)/BJ44,"") -> 0.66666667 | BL44: 1 | BM44: 1 | BN44: 0 | BO44: 1 | BP44: 1 | BQ44: 0
A45: 284 | B45: WTY052 | C45: Nest | D45: 1 | E45: WN234 | H45: =VLOOKUP($E45,wisa_obs_1994_2015d!$B$2:$P$4617,14,FALSE) -> 1485265 | I45: =VLOOKUP($E45,wisa_obs_1994_2015d!$B$2:$P$4617,15,FALSE) -> 480297 | N45: =AVERAGE(H45,J45,L45) -> 1485265 | O45: =AVERAGE(I45,K45,M45) -> 480297 | P45: 3 | Q45: 3 | R45: Ok-Bdy | S45: OBOliver | V45: 8-197 | AG45: N | AH45: N | AI45: N | AJ45: N | AK45: Z | AS45: =COUNTIF($W45:$AR45,AS$1) -> 4 | AT45: =COUNTIF($W45:$AR45,AT$1) -> 0 | AU45: =COUNTIF($W45:$AR45,AU$1) -> 0 | AV45: =COUNTIF($W45:$AR45,AV$1) -> 0 | AW45: =COUNTIF($W45:$AR45,AW$1) -> 0 | AX45: =COUNTIF($W45:$AR45,AX$1) -> 0 | AY45: =COUNTIF($W45:$AR45,AY$1) -> 1 | AZ45: =COUNTIF($W45:$AR45,AZ$1) -> 0 | ... BB45: =COUNTIF($W45:$AR45,BB$1) -> 0 | BC45: =SUM(AS45:AY45) -> 5 | BD45: =IF(BC45>3,1,0) -> 1 | BE45: =IF(BC45>4,1,0) -> 1 | BF45: =SUM(AS45:AT45)/BC45 -> 0.8 | BG45: =SUM(AS45:AX45,AZ45:BA45)/SUM(AS45:BB45) -> 0.8 | BH45: =COUNT(BL45:BN45) -> 3 | BI45: =IF(BH45>1,SUM(BL45:BN45)/BH45,"") -> 0.66666667 | BJ45: =COUNT(BO45:BQ45) -> 3 | BK45: =IF(BJ45>1,SUM(BO45:BQ45)/BJ45,"") -> 0.66666667 | BL45: 1 | BM45: 1 | BN45: 0 | BO45: 1 | BP45: 1 | BQ45: 0
A46: 291 | B46: WTY053 | C46: Nest | D46: 1 | E46: WN229 | H46: =VLOOKUP($E46,wisa_obs_1994_2015d!$B$2:$P$4617,14,FALSE) -> 1485187 | I46: =VLOOKUP($E46,wisa_obs_1994_2015d!$B$2:$P$4617,15,FALSE) -> 479851 | N46: =AVERAGE(H46,J46,L46) -> 1485187 | O46: =AVERAGE(I46,K46,M46) -> 479851 | P46: 4 | Q46: 3 | R46: Ok-Bdy | S46: OBOliver | V46: 8-197 | AG46: N | AH46: N | AI46: N | AJ46: N | AK46: N | AQ46: N | AS46: =COUNTIF($W46:$AR46,AS$1) -> 6 | AT46: =COUNTIF($W46:$AR46,AT$1) -> 0 | AU46: =COUNTIF($W46:$AR46,AU$1) -> 0 | AV46: =COUNTIF($W46:$AR46,AV$1) -> 0 | AW46: =COUNTIF($W46:$AR46,AW$1) -> 0 | AX46: =COUNTIF($W46:$AR46,AX$1) -> 0 | AY46: =COUNTIF($W46:$AR46,AY$1) -> 0 | AZ46: =COUNTIF($W46:$AR46,AZ$1) -> 0 | ... BB46: =COUNTIF($W46:$AR46,BB$1) -> 0 | BC46: =SUM(AS46:AY46) -> 6 | BD46: =IF(BC46>3,1,0) -> 1 | BE46: =IF(BC46>4,1,0) -> 1 | BF46: =SUM(AS46:AT46)/BC46 -> 1 | BG46: =SUM(AS46:AX46,AZ46:BA46)/SUM(AS46:BB46) -> 1 | BH46: =COUNT(BL46:BN46) -> 3 | BI46: =IF(BH46>1,SUM(BL46:BN46)/BH46,"") -> 1 | BJ46: =COUNT(BO46:BQ46) -> 3 | BK46: =IF(BJ46>1,SUM(BO46:BQ46)/BJ46,"") -> 1 | BL46: 1 | BM46: 1 | BN46: 1 | BO46: 1 | BP46: 1 | BQ46: 1
A47: 300 | B47: WTY054 | C47: Nest | D47: 1 | E47: WN010 | H47: =VLOOKUP($E47,wisa_obs_1994_2015d!$B$2:$P$4617,14,FALSE) -> 1482900 | I47: =VLOOKUP($E47,wisa_obs_1994_2015d!$B$2:$P$4617,15,FALSE) -> 479791 | N47: =AVERAGE(H47,J47,L47) -> 1482900 | O47: =AVERAGE(I47,K47,M47) -> 479791 | P47: 4 | Q47: 3 | R47: Ok-Bdy | S47: OBOliver | U47: 1996-2000 | V47: 8-211 | Y47: N | Z47: Z | AA47: Z | AB47: Z | AC47: Z | AG47: B | AI47: Z | AJ47: Z | AK47: BZ | AM47: BX | AN47: BX | AQ47: BX | AR47: BX | AS47: =COUNTIF($W47:$AR47,AS$1) -> 1 | AT47: =COUNTIF($W47:$AR47,AT$1) -> 0 | AU47: =COUNTIF($W47:$AR47,AU$1) -> 0 | AV47: =COUNTIF($W47:$AR47,AV$1) -> 1 | AW47: =COUNTIF($W47:$AR47,AW$1) -> 0 | AX47: =COUNTIF($W47:$AR47,AX$1) -> 1 | AY47: =COUNTIF($W47:$AR47,AY$1) -> 6 | AZ47: =COUNTIF($W47:$AR47,AZ$1) -> 0 | ... BB47: =COUNTIF($W47:$AR47,BB$1) -> 0 | BC47: =SUM(AS47:AY47) -> 9 | BD47: =IF(BC47>3,1,0) -> 1 | BE47: =IF(BC47>4,1,0) -> 1 | BF47: =SUM(AS47:AT47)/BC47 -> 0.11111111 | BG47: =SUM(AS47:AX47,AZ47:BA47)/SUM(AS47:BB47) -> 0.53846154 | BH47: =COUNT(BL47:BN47) -> 3 | BI47: =IF(BH47>1,SUM(BL47:BN47)/BH47,"") -> 0 | BJ47: =COUNT(BO47:BQ47) -> 3 | BK47: =IF(BJ47>1,SUM(BO47:BQ47)/BJ47,"") -> 0.33333333 | BL47: 0 | BM47: 0 | BN47: 0 | BO47: 0 | BP47: 0 | BQ47: 1
A48: 308 | B48: WTY056 | C48: Nest | D48: 1 | E48: WN044 | H48: =VLOOKUP($E48,wisa_obs_1994_2015d!$B$2:$P$4617,14,FALSE) -> 1485142 | I48: =VLOOKUP($E48,wisa_obs_1994_2015d!$B$2:$P$4617,15,FALSE) -> 479025 | N48: =AVERAGE(H48,J48,L48) -> 1485142 | O48: =AVERAGE(I48,K48,M48) -> 479025 | P48: 4 | Q48: 1 | R48: Ok-Bdy | S48: OBOliver | V48: 8-192 | AF48: N | AI48: Z | AJ48: Z | AK48: Z | AN48: X | AO48: BX | AP48: BX | AQ48: BX | AR48: X | AS48: =COUNTIF($W48:$AR48,AS$1) -> 1 | AT48: =COUNTIF($W48:$AR48,AT$1) -> 0 | AU48: =COUNTIF($W48:$AR48,AU$1) -> 0 | AV48: =COUNTIF($W48:$AR48,AV$1) -> 0 | AW48: =COUNTIF($W48:$AR48,AW$1) -> 0 | AX48: =COUNTIF($W48:$AR48,AX$1) -> 0 | AY48: =COUNTIF($W48:$AR48,AY$1) -> 3 | AZ48: =COUNTIF($W48:$AR48,AZ$1) -> 0 | ... BB48: =COUNTIF($W48:$AR48,BB$1) -> 2 | BC48: =SUM(AS48:AY48) -> 4 | BD48: =IF(BC48>3,1,0) -> 1 | BE48: =IF(BC48>4,1,0) -> 0 | BF48: =SUM(AS48:AT48)/BC48 -> 0.25 | BG48: =SUM(AS48:AX48,AZ48:BA48)/SUM(AS48:BB48) -> 0.44444444 | BH48: =COUNT(BL48:BN48) -> 3 | BI48: =IF(BH48>1,SUM(BL48:BN48)/BH48,"") -> 0 | BJ48: =COUNT(BO48:BQ48) -> 3 | BK48: =IF(BJ48>1,SUM(BO48:BQ48)/BJ48,"") -> 0 | BL48: 0 | BM48: 0 | BN48: 0 | BO48: 0 | BP48: 0 | BQ48: 0
A49: 320 | B49: WTY059 | C49: Nest | D49: 1 | E49: WN209 | H49: =VLOOKUP($E49,wisa_obs_1994_2015d!$B$2:$P$4617,14,FALSE) -> 1484900 | I49: =VLOOKUP($E49,wisa_obs_1994_2015d!$B$2:$P$4617,15,FALSE) -> 470567 | N49: =AVERAGE(H49,J49,L49) -> 1484900 | O49: =AVERAGE(I49,K49,M49) -> 470567 | P49: 4 | Q49: 2 | R49: Ok-Bdy | S49: OBAnarchist | V49: 8-201 | AG49: N | AH49: N | AI49: N | AJ49: N | AK49: N | AL49: Z | AS49: =COUNTIF($W49:$AR49,AS$1) -> 5 | AT49: =COUNTIF($W49:$AR49,AT$1) -> 0 | AU49: =COUNTIF($W49:$AR49,AU$1) -> 0 | AV49: =COUNTIF($W49:$AR49,AV$1) -> 0 | AW49: =COUNTIF($W49:$AR49,AW$1) -> 0 | AX49: =COUNTIF($W49:$AR49,AX$1) -> 0 | AY49: =COUNTIF($W49:$AR49,AY$1) -> 1 | AZ49: =COUNTIF($W49:$AR49,AZ$1) -> 0 | ... BB49: =COUNTIF($W49:$AR49,BB$1) -> 0 | BC49: =SUM(AS49:AY49) -> 6 | BD49: =IF(BC49>3,1,0) -> 1 | BE49: =IF(BC49>4,1,0) -> 1 | BF49: =SUM(AS49:AT49)/BC49 -> 0.83333333 | BG49: =SUM(AS49:AX49,AZ49:BA49)/SUM(AS49:BB49) -> 0.83333333 | BH49: =COUNT(BL49:BN49) -> 3 | BI49: =IF(BH49>1,SUM(BL49:BN49)/BH49,"") -> 1 | BJ49: =COUNT(BO49:BQ49) -> 3 | BK49: =IF(BJ49>1,SUM(BO49:BQ49)/BJ49,"") -> 1 | BL49: 1 | BM49: 1 | BN49: 1 | BO49: 1 | BP49: 1 | BQ49: 1
A50: 323 | B50: WTY060 | C50: Nest | D50: 1 | E50: WN201 | H50: =VLOOKUP($E50,wisa_obs_1994_2015d!$B$2:$P$4617,14,FALSE) -> 1485098 | I50: =VLOOKUP($E50,wisa_obs_1994_2015d!$B$2:$P$4617,15,FALSE) -> 468535 | N50: =AVERAGE(H50,J50,L50) -> 1485098 | O50: =AVERAGE(I50,K50,M50) -> 468535 | P50: 5 | Q50: 4 | R50: Ok-Bdy | S50: OBAnarchist | AG50: N | AI50: Z | AJ50: Z | AO50: BX | AS50: =COUNTIF($W50:$AR50,AS$1) -> 1 | AT50: =COUNTIF($W50:$AR50,AT$1) -> 0 | AU50: =COUNTIF($W50:$AR50,AU$1) -> 0 | AV50: =COUNTIF($W50:$AR50,AV$1) -> 0 | AW50: =COUNTIF($W50:$AR50,AW$1) -> 0 | AX50: =COUNTIF($W50:$AR50,AX$1) -> 0 | AY50: =COUNTIF($W50:$AR50,AY$1) -> 2 | AZ50: =COUNTIF($W50:$AR50,AZ$1) -> 0 | ... BB50: =COUNTIF($W50:$AR50,BB$1) -> 0 | BC50: =SUM(AS50:AY50) -> 3 | BD50: =IF(BC50>3,1,0) -> 0 | BE50: =IF(BC50>4,1,0) -> 0 | BF50: =SUM(AS50:AT50)/BC50 -> 0.33333333 | BG50: =SUM(AS50:AX50,AZ50:BA50)/SUM(AS50:BB50) -> 0.5 | BH50: =COUNT(BL50:BN50) -> 2 | BI50: =IF(BH50>1,SUM(BL50:BN50)/BH50,"") -> 0 | BJ50: =COUNT(BO50:BQ50) -> 2 | BK50: =IF(BJ50>1,SUM(BO50:BQ50)/BJ50,"") -> 0 | BL50: 0 | BM50: 0 | BO50: 0 | BP50: 0
A51: 325 | B51: WTY061 | C51: Nest | D51: 1 | E51: WN224 | H51: =VLOOKUP($E51,wisa_obs_1994_2015d!$B$2:$P$4617,14,FALSE) -> 1489985 | I51: =VLOOKUP($E51,wisa_obs_1994_2015d!$B$2:$P$4617,15,FALSE) -> 471512 | N51: =AVERAGE(H51,J51,L51) -> 1489985 | O51: =AVERAGE(I51,K51,M51) -> 471512 | P51: 4 | Q51: 3 | R51: Ok-Bdy | S51: OBAnarchist | AG51: N | AI51: Z | AJ51: Z | AK51: Z | AL51: Z | AS51: =COUNTIF($W51:$AR51,AS$1) -> 1 | AT51: =COUNTIF($W51:$AR51,AT$1) -> 0 | AU51: =COUNTIF($W51:$AR51,AU$1) -> 0 | AV51: =COUNTIF($W51:$AR51,AV$1) -> 0 | AW51: =COUNTIF($W51:$AR51,AW$1) -> 0 | AX51: =COUNTIF($W51:$AR51,AX$1) -> 0 | AY51: =COUNTIF($W51:$AR51,AY$1) -> 4 | AZ51: =COUNTIF($W51:$AR51,AZ$1) -> 0 | ... BB51: =COUNTIF($W51:$AR51,BB$1) -> 0 | BC51: =SUM(AS51:AY51) -> 5 | BD51: =IF(BC51>3,1,0) -> 1 | BE51: =IF(BC51>4,1,0) -> 1 | BF51: =SUM(AS51:AT51)/BC51 -> 0.2 | BG51: =SUM(AS51:AX51,AZ51:BA51)/SUM(AS51:BB51) -> 0.2 | BH51: =COUNT(BL51:BN51) -> 3 | BI51: =IF(BH51>1,SUM(BL51:BN51)/BH51,"") -> 0 | BJ51: =COUNT(BO51:BQ51) -> 3 | BK51: =IF(BJ51>1,SUM(BO51:BQ51)/BJ51,"") -> 0 | BL51: 0 | BM51: 0 | BN51: 0 | BO51: 0 | BP51: 0 | BQ51: 0
A52: 328 | B52: WTY062 | C52: Nest | D52: 1 | E52: WN210 | H52: =VLOOKUP($E52,wisa_obs_1994_2015d!$B$2:$P$4617,14,FALSE) -> 1491163 | I52: =VLOOKUP($E52,wisa_obs_1994_2015d!$B$2:$P$4617,15,FALSE) -> 470547 | N52: =AVERAGE(H52,J52,L52) -> 1491163 | O52: =AVERAGE(I52,K52,M52) -> 470547 | P52: 4 | Q52: 4 | R52: Ok-Bdy | S52: OBAnarchist | V52: Proposed 8-380 | AG52: N | AI52: N | AJ52: N | AK52: N | AL52: Z | AS52: =COUNTIF($W52:$AR52,AS$1) -> 4 | AT52: =COUNTIF($W52:$AR52,AT$1) -> 0 | AU52: =COUNTIF($W52:$AR52,AU$1) -> 0 | AV52: =COUNTIF($W52:$AR52,AV$1) -> 0 | AW52: =COUNTIF($W52:$AR52,AW$1) -> 0 | AX52: =COUNTIF($W52:$AR52,AX$1) -> 0 | AY52: =COUNTIF($W52:$AR52,AY$1) -> 1 | AZ52: =COUNTIF($W52:$AR52,AZ$1) -> 0 | ... BB52: =COUNTIF($W52:$AR52,BB$1) -> 0 | BC52: =SUM(AS52:AY52) -> 5 | BD52: =IF(BC52>3,1,0) -> 1 | BE52: =IF(BC52>4,1,0) -> 1 | BF52: =SUM(AS52:AT52)/BC52 -> 0.8 | BG52: =SUM(AS52:AX52,AZ52:BA52)/SUM(AS52:BB52) -> 0.8 | BH52: =COUNT(BL52:BN52) -> 3 | BI52: =IF(BH52>1,SUM(BL52:BN52)/BH52,"") -> 1 | BJ52: =COUNT(BO52:BQ52) -> 3 | BK52: =IF(BJ52>1,SUM(BO52:BQ52)/BJ52,"") -> 1 | BL52: 1 | BM52: 1 | BN52: 1 | BO52: 1 | BP52: 1 | BQ52: 1
A53: 348 | B53: WTY063 | C53: Nest | D53: 2 | E53: WN019 | F53: WN047 | H53: =VLOOKUP($E53,wisa_obs_1994_2015d!$B$2:$P$4617,14,FALSE) -> 1493671 | I53: =VLOOKUP($E53,wisa_obs_1994_2015d!$B$2:$P$4617,15,FALSE) -> 471447 | J53: =VLOOKUP($F53,wisa_obs_1994_2015d!$B$2:$P$4617,14,FALSE) -> 1493696 | K53: =VLOOKUP($F53,wisa_obs_1994_2015d!$B$2:$P$4617,15,FALSE) -> 471341 | N53: =AVERAGE(H53,J53,L53) -> 1493683.5 | O53: =AVERAGE(I53,K53,M53) -> 471394 | P53: 4 | Q53: 4 | R53: Ok-Bdy | S53: OBAnarchist | U53: 1996-2000 | V53: 8-389 | Z53: N | AA53: N | AB53: N | AC53: Z | AD53: Z | AF53: N | AG53: N | AH53: N | AI53: N | AJ53: N | AK53: N | AL53: N | AM53: BX | AN53: BX | AR53: BX | AS53: =COUNTIF($W53:$AR53,AS$1) -> 10 | AT53: =COUNTIF($W53:$AR53,AT$1) -> 0 | AU53: =COUNTIF($W53:$AR53,AU$1) -> 0 | AV53: =COUNTIF($W53:$AR53,AV$1) -> 0 | AW53: =COUNTIF($W53:$AR53,AW$1) -> 0 | AX53: =COUNTIF($W53:$AR53,AX$1) -> 0 | AY53: =COUNTIF($W53:$AR53,AY$1) -> 2 | AZ53: =COUNTIF($W53:$AR53,AZ$1) -> 0 | ... BB53: =COUNTIF($W53:$AR53,BB$1) -> 0 | BC53: =SUM(AS53:AY53) -> 12 | BD53: =IF(BC53>3,1,0) -> 1 | BE53: =IF(BC53>4,1,0) -> 1 | BF53: =SUM(AS53:AT53)/BC53 -> 0.83333333 | BG53: =SUM(AS53:AX53,AZ53:BA53)/SUM(AS53:BB53) -> 0.86666667 | BH53: =COUNT(BL53:BN53) -> 3 | BI53: =IF(BH53>1,SUM(BL53:BN53)/BH53,"") -> 1 | BJ53: =COUNT(BO53:BQ53) -> 3 | BK53: =IF(BJ53>1,SUM(BO53:BQ53)/BJ53,"") -> 1 | BL53: 1 | BM53: 1 | BN53: 1 | BO53: 1 | BP53: 1 | BQ53: 1
A54: 361 | B54: WTY064 | C54: Nest | D54: 2 | E54: WN037 | F54: WNB007 | H54: =VLOOKUP($E54,wisa_obs_1994_2015d!$B$2:$P$4617,14,FALSE) -> 1493656 | I54: =VLOOKUP($E54,wisa_obs_1994_2015d!$B$2:$P$4617,15,FALSE) -> 467872 | J54: =VLOOKUP($F54,wisa_obs_1994_2015d!$B$2:$P$4617,14,FALSE) -> 1493656 | K54: =VLOOKUP($F54,wisa_obs_1994_2015d!$B$2:$P$4617,15,FALSE) -> 467872 | N54: =AVERAGE(H54,J54,L54) -> 1493656 | O54: =AVERAGE(I54,K54,M54) -> 467872 | P54: 5 | Q54: 3 | R54: Ok-Bdy | S54: OBAnarchist | AD54: N | AG54: B | AI54: N | AJ54: N | AS54: =COUNTIF($W54:$AR54,AS$1) -> 3 | AT54: =COUNTIF($W54:$AR54,AT$1) -> 0 | AU54: =COUNTIF($W54:$AR54,AU$1) -> 0 | AV54: =COUNTIF($W54:$AR54,AV$1) -> 1 | AW54: =COUNTIF($W54:$AR54,AW$1) -> 0 | AX54: =COUNTIF($W54:$AR54,AX$1) -> 0 | AY54: =COUNTIF($W54:$AR54,AY$1) -> 0 | AZ54: =COUNTIF($W54:$AR54,AZ$1) -> 0 | ... BB54: =COUNTIF($W54:$AR54,BB$1) -> 0 | BC54: =SUM(AS54:AY54) -> 4 | BD54: =IF(BC54>3,1,0) -> 1 | BE54: =IF(BC54>4,1,0) -> 0 | BF54: =SUM(AS54:AT54)/BC54 -> 0.75 | BG54: =SUM(AS54:AX54,AZ54:BA54)/SUM(AS54:BB54) -> 1 | BH54: =COUNT(BL54:BN54) -> 2 | BI54: =IF(BH54>1,SUM(BL54:BN54)/BH54,"") -> 1 | BJ54: =COUNT(BO54:BQ54) -> 2 | BK54: =IF(BJ54>1,SUM(BO54:BQ54)/BJ54,"") -> 1 | BL54: 1 | BM54: 1 | BO54: 1 | BP54: 1
A55: 365 | B55: WTY065 | C55: Nest | D55: 1 | E55: WN310 | H55: =VLOOKUP($E55,wisa_obs_1994_2015d!$B$2:$P$4617,14,FALSE) -> 1500388 | I55: =VLOOKUP($E55,wisa_obs_1994_2015d!$B$2:$P$4617,15,FALSE) -> 481044 | N55: =AVERAGE(H55,J55,L55) -> 1500388 | O55: =AVERAGE(I55,K55,M55) -> 481044 | P55: 5 | Q55: 4 | R55: Ok-Bdy | S55: OBJohnstone | V55: 8-203 | AH55: N | AS55: =COUNTIF($W55:$AR55,AS$1) -> 1 | AT55: =COUNTIF($W55:$AR55,AT$1) -> 0 | AU55: =COUNTIF($W55:$AR55,AU$1) -> 0 | AV55: =COUNTIF($W55:$AR55,AV$1) -> 0 | AW55: =COUNTIF($W55:$AR55,AW$1) -> 0 | AX55: =COUNTIF($W55:$AR55,AX$1) -> 0 | AY55: =COUNTIF($W55:$AR55,AY$1) -> 0 | AZ55: =COUNTIF($W55:$AR55,AZ$1) -> 0 | ... BB55: =COUNTIF($W55:$AR55,BB$1) -> 0 | BC55: =SUM(AS55:AY55) -> 1 | BD55: =IF(BC55>3,1,0) -> 0 | BE55: =IF(BC55>4,1,0) -> 0 | BF55: =SUM(AS55:AT55)/BC55 -> 1 | BG55: =SUM(AS55:AX55,AZ55:BA55)/SUM(AS55:BB55) -> 1 | BH55: =COUNT(BL55:BN55) -> 0 | BI55: =IF(BH55>1,SUM(BL55:BN55)/BH55,"") | BJ55: =COUNT(BO55:BQ55) -> 0 | BK55: =IF(BJ55>1,SUM(BO55:BQ55)/BJ55,"")
A56: 375 | B56: WTY067 | C56: Nest | D56: 1 | E56: WN016 | H56: =VLOOKUP($E56,wisa_obs_1994_2015d!$B$2:$P$4617,14,FALSE) -> 1501837 | I56: =VLOOKUP($E56,wisa_obs_1994_2015d!$B$2:$P$4617,15,FALSE) -> 477681 | N56: =AVERAGE(H56,J56,L56) -> 1501837 | O56: =AVERAGE(I56,K56,M56) -> 477681 | P56: 4 | Q56: 2 | R56: Ok-Bdy | S56: OBJohnstone | U56: 1996-2000 | V56: 8-387 | Z56: N | AA56: Z | AB56: Z | AC56: Z | AH56: N | AJ56: N | AK56: Z | AQ56: BX | AS56: =COUNTIF($W56:$AR56,AS$1) -> 3 | AT56: =COUNTIF($W56:$AR56,AT$1) -> 0 | AU56: =COUNTIF($W56:$AR56,AU$1) -> 0 | AV56: =COUNTIF($W56:$AR56,AV$1) -> 0 | AW56: =COUNTIF($W56:$AR56,AW$1) -> 0 | AX56: =COUNTIF($W56:$AR56,AX$1) -> 0 | AY56: =COUNTIF($W56:$AR56,AY$1) -> 4 | AZ56: =COUNTIF($W56:$AR56,AZ$1) -> 0 | ... BB56: =COUNTIF($W56:$AR56,BB$1) -> 0 | BC56: =SUM(AS56:AY56) -> 7 | BD56: =IF(BC56>3,1,0) -> 1 | BE56: =IF(BC56>4,1,0) -> 1 | BF56: =SUM(AS56:AT56)/BC56 -> 0.42857143 | BG56: =SUM(AS56:AX56,AZ56:BA56)/SUM(AS56:BB56) -> 0.5 | BH56: =COUNT(BL56:BN56) -> 2 | BI56: =IF(BH56>1,SUM(BL56:BN56)/BH56,"") -> 0.5 | BJ56: =COUNT(BO56:BQ56) -> 2 | BK56: =IF(BJ56>1,SUM(BO56:BQ56)/BJ56,"") -> 0.5 | BM56: 1 | BN56: 0 | BP56: 1 | BQ56: 0
A57: 391 | B57: WTY069 | C57: Nest | D57: 1 | E57: WNB038 | H57: =VLOOKUP($E57,wisa_obs_1994_2015d!$B$2:$P$4617,14,FALSE) -> 1499651 | I57: =VLOOKUP($E57,wisa_obs_1994_2015d!$B$2:$P$4617,15,FALSE) -> 477370 | N57: =AVERAGE(H57,J57,L57) -> 1499651 | O57: =AVERAGE(I57,K57,M57) -> 477370 | P57: 4 | Q57: 3 | R57: Ok-Bdy | S57: OBJohnstone | V57: 8-379 | AH57: P | AI57: B | AJ57: Z | AK57: N | AS57: =COUNTIF($W57:$AR57,AS$1) -> 1 | AT57: =COUNTIF($W57:$AR57,AT$1) -> 0 | AU57: =COUNTIF($W57:$AR57,AU$1) -> 1 | AV57: =COUNTIF($W57:$AR57,AV$1) -> 1 | AW57: =COUNTIF($W57:$AR57,AW$1) -> 0 | AX57: =COUNTIF($W57:$AR57,AX$1) -> 0 | AY57: =COUNTIF($W57:$AR57,AY$1) -> 1 | AZ57: =COUNTIF($W57:$AR57,AZ$1) -> 0 | ... BB57: =COUNTIF($W57:$AR57,BB$1) -> 0 | BC57: =SUM(AS57:AY57) -> 4 | BD57: =IF(BC57>3,1,0) -> 1 | BE57: =IF(BC57>4,1,0) -> 0 | BF57: =SUM(AS57:AT57)/BC57 -> 0.25 | BG57: =SUM(AS57:AX57,AZ57:BA57)/SUM(AS57:BB57) -> 0.75 | BH57: =COUNT(BL57:BN57) -> 3 | BI57: =IF(BH57>1,SUM(BL57:BN57)/BH57,"") -> 0.33333333 | BJ57: =COUNT(BO57:BQ57) -> 3 | BK57: =IF(BJ57>1,SUM(BO57:BQ57)/BJ57,"") -> 0.66666667 | BL57: 0 | BM57: 0 | BN57: 1 | BO57: 1 | BP57: 0 | BQ57: 1
A58: 394 | B58: WTY070 | C58: Nest | D58: 1 | E58: WN311 | H58: =VLOOKUP($E58,wisa_obs_1994_2015d!$B$2:$P$4617,14,FALSE) -> 1499829 | I58: =VLOOKUP($E58,wisa_obs_1994_2015d!$B$2:$P$4617,15,FALSE) -> 476827 | N58: =AVERAGE(H58,J58,L58) -> 1499829 | O58: =AVERAGE(I58,K58,M58) -> 476827 | P58: 4 | Q58: 3 | R58: Ok-Bdy | S58: OBJohnstone | V58: 8-213 | AH58: N | AI58: N | AJ58: N | AS58: =COUNTIF($W58:$AR58,AS$1) -> 3 | AT58: =COUNTIF($W58:$AR58,AT$1) -> 0 | AU58: =COUNTIF($W58:$AR58,AU$1) -> 0 | AV58: =COUNTIF($W58:$AR58,AV$1) -> 0 | AW58: =COUNTIF($W58:$AR58,AW$1) -> 0 | AX58: =COUNTIF($W58:$AR58,AX$1) -> 0 | AY58: =COUNTIF($W58:$AR58,AY$1) -> 0 | AZ58: =COUNTIF($W58:$AR58,AZ$1) -> 0 | ... BB58: =COUNTIF($W58:$AR58,BB$1) -> 0 | BC58: =SUM(AS58:AY58) -> 3 | BD58: =IF(BC58>3,1,0) -> 0 | BE58: =IF(BC58>4,1,0) -> 0 | BF58: =SUM(AS58:AT58)/BC58 -> 1 | BG58: =SUM(AS58:AX58,AZ58:BA58)/SUM(AS58:BB58) -> 1 | BH58: =COUNT(BL58:BN58) -> 2 | BI58: =IF(BH58>1,SUM(BL58:BN58)/BH58,"") -> 1 | BJ58: =COUNT(BO58:BQ58) -> 2 | BK58: =IF(BJ58>1,SUM(BO58:BQ58)/BJ58,"") -> 1 | BL58: 1 | BM58: 1 | BO58: 1 | BP58: 1
A59: 399 | B59: WTY071 | C59: Nest | D59: 1 | E59: WN312 | H59: =VLOOKUP($E59,wisa_obs_1994_2015d!$B$2:$P$4617,14,FALSE) -> 1499570 | I59: =VLOOKUP($E59,wisa_obs_1994_2015d!$B$2:$P$4617,15,FALSE) -> 476768 | N59: =AVERAGE(H59,J59,L59) -> 1499570 | O59: =AVERAGE(I59,K59,M59) -> 476768 | P59: 4 | Q59: 3 | R59: Ok-Bdy | S59: OBJohnstone | V59: 8-213 | AH59: N | AJ59: Z | AK59: Z | AN59: BX | AS59: =COUNTIF($W59:$AR59,AS$1) -> 1 | AT59: =COUNTIF($W59:$AR59,AT$1) -> 0 | AU59: =COUNTIF($W59:$AR59,AU$1) -> 0 | AV59: =COUNTIF($W59:$AR59,AV$1) -> 0 | AW59: =COUNTIF($W59:$AR59,AW$1) -> 0 | AX59: =COUNTIF($W59:$AR59,AX$1) -> 0 | AY59: =COUNTIF($W59:$AR59,AY$1) -> 2 | AZ59: =COUNTIF($W59:$AR59,AZ$1) -> 0 | ... BB59: =COUNTIF($W59:$AR59,BB$1) -> 0 | BC59: =SUM(AS59:AY59) -> 3 | BD59: =IF(BC59>3,1,0) -> 0 | BE59: =IF(BC59>4,1,0) -> 0 | BF59: =SUM(AS59:AT59)/BC59 -> 0.33333333 | BG59: =SUM(AS59:AX59,AZ59:BA59)/SUM(AS59:BB59) -> 0.5 | BH59: =COUNT(BL59:BN59) -> 2 | BI59: =IF(BH59>1,SUM(BL59:BN59)/BH59,"") -> 0 | BJ59: =COUNT(BO59:BQ59) -> 2 | BK59: =IF(BJ59>1,SUM(BO59:BQ59)/BJ59,"") -> 0 | BM59: 0 | BN59: 0 | BP59: 0 | BQ59: 0
A60: 401 | B60: WTY072 | C60: Nest | D60: 1 | E60: WN025 | H60: =VLOOKUP($E60,wisa_obs_1994_2015d!$B$2:$P$4617,14,FALSE) -> 1502443 | I60: =VLOOKUP($E60,wisa_obs_1994_2015d!$B$2:$P$4617,15,FALSE) -> 477938 | N60: =AVERAGE(H60,J60,L60) -> 1502443 | O60: =AVERAGE(I60,K60,M60) -> 477938 | P60: 4 | Q60: 4 | R60: Ok-Bdy | S60: OBJohnstone | U60: 1996-2000 | V60: 8-205 | AA60: N | AB60: X | AC60: X | AS60: =COUNTIF($W60:$AR60,AS$1) -> 1 | AT60: =COUNTIF($W60:$AR60,AT$1) -> 0 | AU60: =COUNTIF($W60:$AR60,AU$1) -> 0 | AV60: =COUNTIF($W60:$AR60,AV$1) -> 0 | AW60: =COUNTIF($W60:$AR60,AW$1) -> 0 | AX60: =COUNTIF($W60:$AR60,AX$1) -> 0 | AY60: =COUNTIF($W60:$AR60,AY$1) -> 0 | AZ60: =COUNTIF($W60:$AR60,AZ$1) -> 0 | ... BB60: =COUNTIF($W60:$AR60,BB$1) -> 2 | BC60: =SUM(AS60:AY60) -> 1 | BD60: =IF(BC60>3,1,0) -> 0 | BE60: =IF(BC60>4,1,0) -> 0 | BF60: =SUM(AS60:AT60)/BC60 -> 1 | BG60: =SUM(AS60:AX60,AZ60:BA60)/SUM(AS60:BB60) -> 0.33333333 | BH60: =COUNT(BL60:BN60) -> 0 | BI60: =IF(BH60>1,SUM(BL60:BN60)/BH60,"") | BJ60: =COUNT(BO60:BQ60) -> 0 | BK60: =IF(BJ60>1,SUM(BO60:BQ60)/BJ60,"")
A61: 406 | B61: WTY073 | C61: Nest | D61: 2 | E61: WN316 | F61: WNB012 | H61: =VLOOKUP($E61,wisa_obs_1994_2015d!$B$2:$P$4617,14,FALSE) -> 1502650 | I61: =VLOOKUP($E61,wisa_obs_1994_2015d!$B$2:$P$4617,15,FALSE) -> 479070 | J61: =VLOOKUP($F61,wisa_obs_1994_2015d!$B$2:$P$4617,14,FALSE) -> 1502625 | K61: =VLOOKUP($F61,wisa_obs_1994_2015d!$B$2:$P$4617,15,FALSE) -> 479191 | N61: =AVERAGE(H61,J61,L61) -> 1502637.5 | O61: =AVERAGE(I61,K61,M61) -> 479130.5 | P61: 4 | Q61: 3 | R61: Ok-Bdy | S61: OBJohnstone | V61: 8-204 | AG61: B | AH61: N | AI61: N | AJ61: N | AS61: =COUNTIF($W61:$AR61,AS$1) -> 3 | AT61: =COUNTIF($W61:$AR61,AT$1) -> 0 | AU61: =COUNTIF($W61:$AR61,AU$1) -> 0 | AV61: =COUNTIF($W61:$AR61,AV$1) -> 1 | AW61: =COUNTIF($W61:$AR61,AW$1) -> 0 | AX61: =COUNTIF($W61:$AR61,AX$1) -> 0 | AY61: =COUNTIF($W61:$AR61,AY$1) -> 0 | AZ61: =COUNTIF($W61:$AR61,AZ$1) -> 0 | ... BB61: =COUNTIF($W61:$AR61,BB$1) -> 0 | BC61: =SUM(AS61:AY61) -> 4 | BD61: =IF(BC61>3,1,0) -> 1 | BE61: =IF(BC61>4,1,0) -> 0 | BF61: =SUM(AS61:AT61)/BC61 -> 0.75 | BG61: =SUM(AS61:AX61,AZ61:BA61)/SUM(AS61:BB61) -> 1 | BH61: =COUNT(BL61:BN61) -> 2 | BI61: =IF(BH61>1,SUM(BL61:BN61)/BH61,"") -> 1 | BJ61: =COUNT(BO61:BQ61) -> 2 | BK61: =IF(BJ61>1,SUM(BO61:BQ61)/BJ61,"") -> 1 | BL61: 1 | BM61: 1 | BO61: 1 | BP61: 1
A62: 417 | B62: WTY075 | C62: Nest | D62: 2 | E62: WN317 | F62: WNB013 | H62: =VLOOKUP($E62,wisa_obs_1994_2015d!$B$2:$P$4617,14,FALSE) -> 1503581 | I62: =VLOOKUP($E62,wisa_obs_1994_2015d!$B$2:$P$4617,15,FALSE) -> 478456 | J62: =VLOOKUP($F62,wisa_obs_1994_2015d!$B$2:$P$4617,14,FALSE) -> 1503654 | K62: =VLOOKUP($F62,wisa_obs_1994_2015d!$B$2:$P$4617,15,FALSE) -> 478483 | N62: =AVERAGE(H62,J62,L62) -> 1503617.5 | O62: =AVERAGE(I62,K62,M62) -> 478469.5 | P62: 3 | Q62: 3 | R62: Ok-Bdy | S62: OBJohnstone | V62: 8-210 | AG62: P | AH62: N | AI62: N | AJ62: N | AM62: BX | AS62: =COUNTIF($W62:$AR62,AS$1) -> 3 | AT62: =COUNTIF($W62:$AR62,AT$1) -> 0 | AU62: =COUNTIF($W62:$AR62,AU$1) -> 1 | AV62: =COUNTIF($W62:$AR62,AV$1) -> 0 | AW62: =COUNTIF($W62:$AR62,AW$1) -> 0 | AX62: =COUNTIF($W62:$AR62,AX$1) -> 0 | AY62: =COUNTIF($W62:$AR62,AY$1) -> 0 | AZ62: =COUNTIF($W62:$AR62,AZ$1) -> 0 | ... BB62: =COUNTIF($W62:$AR62,BB$1) -> 0 | BC62: =SUM(AS62:AY62) -> 4 | BD62: =IF(BC62>3,1,0) -> 1 | BE62: =IF(BC62>4,1,0) -> 0 | BF62: =SUM(AS62:AT62)/BC62 -> 0.75 | BG62: =SUM(AS62:AX62,AZ62:BA62)/SUM(AS62:BB62) -> 1 | BH62: =COUNT(BL62:BN62) -> 2 | BI62: =IF(BH62>1,SUM(BL62:BN62)/BH62,"") -> 1 | BJ62: =COUNT(BO62:BQ62) -> 2 | BK62: =IF(BJ62>1,SUM(BO62:BQ62)/BJ62,"") -> 1 | BL62: 1 | BM62: 1 | BO62: 1 | BP62: 1
A63: 423 | B63: WTY076 | C63: Nest | D63: 1 | E63: WN017 | H63: =VLOOKUP($E63,wisa_obs_1994_2015d!$B$2:$P$4617,14,FALSE) -> 1504945 | I63: =VLOOKUP($E63,wisa_obs_1994_2015d!$B$2:$P$4617,15,FALSE) -> 476854 | N63: =AVERAGE(H63,J63,L63) -> 1504945 | O63: =AVERAGE(I63,K63,M63) -> 476854 | P63: 3 | Q63: 3 | R63: Ok-Bdy | S63: OBJohnstone | T63: WL411 | U63: 1996-2000 | Z63: N | AA63: N | AB63: N | AC63: N | AH63: BZ | AI63: PZ | AJ63: N | AS63: =COUNTIF($W63:$AR63,AS$1) -> 5 | AT63: =COUNTIF($W63:$AR63,AT$1) -> 0 | AU63: =COUNTIF($W63:$AR63,AU$1) -> 0 | AV63: =COUNTIF($W63:$AR63,AV$1) -> 0 | AW63: =COUNTIF($W63:$AR63,AW$1) -> 1 | AX63: =COUNTIF($W63:$AR63,AX$1) -> 1 | AY63: =COUNTIF($W63:$AR63,AY$1) -> 0 | AZ63: =COUNTIF($W63:$AR63,AZ$1) -> 0 | ... BB63: =COUNTIF($W63:$AR63,BB$1) -> 0 | BC63: =SUM(AS63:AY63) -> 7 | BD63: =IF(BC63>3,1,0) -> 1 | BE63: =IF(BC63>4,1,0) -> 1 | BF63: =SUM(AS63:AT63)/BC63 -> 0.71428571 | BG63: =SUM(AS63:AX63,AZ63:BA63)/SUM(AS63:BB63) -> 1 | BH63: =COUNT(BL63:BN63) -> 2 | BI63: =IF(BH63>1,SUM(BL63:BN63)/BH63,"") -> 0.5 | BJ63: =COUNT(BO63:BQ63) -> 2 | BK63: =IF(BJ63>1,SUM(BO63:BQ63)/BJ63,"") -> 1 | BL63: 0 | BM63: 1 | BO63: 1 | BP63: 1
A64: 432 | B64: WTY076b | C64: Nest | D64: 1 | E64: WN223 | H64: =VLOOKUP($E64,wisa_obs_1994_2015d!$B$2:$P$4617,14,FALSE) -> 1503773 | I64: =VLOOKUP($E64,wisa_obs_1994_2015d!$B$2:$P$4617,15,FALSE) -> 478067 | N64: =AVERAGE(H64,J64,L64) -> 1503773 | O64: =AVERAGE(I64,K64,M64) -> 478067 | P64: 3 | Q64: 3 | R64: Ok-Bdy | S64: OBJohnstone | V64: 8-208 | AG64: N | AH64: N | AI64: N | AJ64: N | AM64: BX | AS64: =COUNTIF($W64:$AR64,AS$1) -> 4 | AT64: =COUNTIF($W64:$AR64,AT$1) -> 0 | AU64: =COUNTIF($W64:$AR64,AU$1) -> 0 | AV64: =COUNTIF($W64:$AR64,AV$1) -> 0 | AW64: =COUNTIF($W64:$AR64,AW$1) -> 0 | AX64: =COUNTIF($W64:$AR64,AX$1) -> 0 | AY64: =COUNTIF($W64:$AR64,AY$1) -> 0 | AZ64: =COUNTIF($W64:$AR64,AZ$1) -> 0 | ... BB64: =COUNTIF($W64:$AR64,BB$1) -> 0 | BC64: =SUM(AS64:AY64) -> 4 | BD64: =IF(BC64>3,1,0) -> 1 | BE64: =IF(BC64>4,1,0) -> 0 | BF64: =SUM(AS64:AT64)/BC64 -> 1 | BG64: =SUM(AS64:AX64,AZ64:BA64)/SUM(AS64:BB64) -> 1 | BH64: =COUNT(BL64:BN64) -> 2 | BI64: =IF(BH64>1,SUM(BL64:BN64)/BH64,"") -> 1 | BJ64: =COUNT(BO64:BQ64) -> 2 | BK64: =IF(BJ64>1,SUM(BO64:BQ64)/BJ64,"") -> 1 | BL64: 1 | BM64: 1 | BO64: 1 | BP64: 1
A65: 434 | B65: WTY077 | C65: Nest | D65: 2 | E65: WN020 | F65: WN026 | H65: =VLOOKUP($E65,wisa_obs_1994_2015d!$B$2:$P$4617,14,FALSE) -> 1505586 | I65: =VLOOKUP($E65,wisa_obs_1994_2015d!$B$2:$P$4617,15,FALSE) -> 476277 | J65: =VLOOKUP($F65,wisa_obs_1994_2015d!$B$2:$P$4617,14,FALSE) -> 1505600 | K65: =VLOOKUP($F65,wisa_obs_1994_2015d!$B$2:$P$4617,15,FALSE) -> 476305 | N65: =AVERAGE(H65,J65,L65) -> 1505593 | O65: =AVERAGE(I65,K65,M65) -> 476291 | P65: 4 | Q65: 3 | R65: Ok-Bdy | S65: OBJohnstone | T65: WL411 | U65: 1996-2000 | Z65: N | AA65: N | AB65: Z | AC65: Z | AG65: Z | AS65: =COUNTIF($W65:$AR65,AS$1) -> 2 | AT65: =COUNTIF($W65:$AR65,AT$1) -> 0 | AU65: =COUNTIF($W65:$AR65,AU$1) -> 0 | AV65: =COUNTIF($W65:$AR65,AV$1) -> 0 | AW65: =COUNTIF($W65:$AR65,AW$1) -> 0 | AX65: =COUNTIF($W65:$AR65,AX$1) -> 0 | AY65: =COUNTIF($W65:$AR65,AY$1) -> 3 | AZ65: =COUNTIF($W65:$AR65,AZ$1) -> 0 | ... BB65: =COUNTIF($W65:$AR65,BB$1) -> 0 | BC65: =SUM(AS65:AY65) -> 5 | BD65: =IF(BC65>3,1,0) -> 1 | BE65: =IF(BC65>4,1,0) -> 1 | BF65: =SUM(AS65:AT65)/BC65 -> 0.4 | BG65: =SUM(AS65:AX65,AZ65:BA65)/SUM(AS65:BB65) -> 0.4 | BH65: =COUNT(BL65:BN65) -> 0 | BI65: =IF(BH65>1,SUM(BL65:BN65)/BH65,"") | BJ65: =COUNT(BO65:BQ65) -> 0 | BK65: =IF(BJ65>1,SUM(BO65:BQ65)/BJ65,"")
A66: 437 | B66: WTY078 | C66: Nest | D66: 1 | E66: WN018 | H66: =VLOOKUP($E66,wisa_obs_1994_2015d!$B$2:$P$4617,14,FALSE) -> 1505538 | I66: =VLOOKUP($E66,wisa_obs_1994_2015d!$B$2:$P$4617,15,FALSE) -> 475966 | N66: =AVERAGE(H66,J66,L66) -> 1505538 | O66: =AVERAGE(I66,K66,M66) -> 475966 | P66: 4 | Q66: 3 | R66: Ok-Bdy | S66: OBJohnstone | T66: WL411 | U66: 1996-2000 | Z66: N | AA66: Z | AB66: N | AC66: N | AH66: N | AI66: N | AJ66: Z | AS66: =COUNTIF($W66:$AR66,AS$1) -> 5 | AT66: =COUNTIF($W66:$AR66,AT$1) -> 0 | AU66: =COUNTIF($W66:$AR66,AU$1) -> 0 | AV66: =COUNTIF($W66:$AR66,AV$1) -> 0 | AW66: =COUNTIF($W66:$AR66,AW$1) -> 0 | AX66: =COUNTIF($W66:$AR66,AX$1) -> 0 | AY66: =COUNTIF($W66:$AR66,AY$1) -> 2 | AZ66: =COUNTIF($W66:$AR66,AZ$1) -> 0 | ... BB66: =COUNTIF($W66:$AR66,BB$1) -> 0 | BC66: =SUM(AS66:AY66) -> 7 | BD66: =IF(BC66>3,1,0) -> 1 | BE66: =IF(BC66>4,1,0) -> 1 | BF66: =SUM(AS66:AT66)/BC66 -> 0.71428571 | BG66: =SUM(AS66:AX66,AZ66:BA66)/SUM(AS66:BB66) -> 0.71428571 | BH66: =COUNT(BL66:BN66) -> 2 | BI66: =IF(BH66>1,SUM(BL66:BN66)/BH66,"") -> 0.5 | BJ66: =COUNT(BO66:BQ66) -> 2 | BK66: =IF(BJ66>1,SUM(BO66:BQ66)/BJ66,"") -> 0.5 | BL66: 1 | BM66: 0 | BO66: 1 | BP66: 0
A67: 439 | B67: WTY079 | C67: Nest | D67: 1 | E67: WN033 | H67: =VLOOKUP($E67,wisa_obs_1994_2015d!$B$2:$P$4617,14,FALSE) -> 1505417 | I67: =VLOOKUP($E67,wisa_obs_1994_2015d!$B$2:$P$4617,15,FALSE) -> 475860 | N67: =AVERAGE(H67,J67,L67) -> 1505417 | O67: =AVERAGE(I67,K67,M67) -> 475860 | P67: 4 | Q67: 3 | R67: Ok-Bdy | S67: OBJohnstone | T67: WL411 | U67: 1996-2000 | Z67: Z | AA67: Z | AB67: N | AC67: Z | AG67: Z | AH67: Z | AI67: Z | AJ67: Z | AS67: =COUNTIF($W67:$AR67,AS$1) -> 1 | AT67: =COUNTIF($W67:$AR67,AT$1) -> 0 | AU67: =COUNTIF($W67:$AR67,AU$1) -> 0 | AV67: =COUNTIF($W67:$AR67,AV$1) -> 0 | AW67: =COUNTIF($W67:$AR67,AW$1) -> 0 | AX67: =COUNTIF($W67:$AR67,AX$1) -> 0 | AY67: =COUNTIF($W67:$AR67,AY$1) -> 7 | AZ67: =COUNTIF($W67:$AR67,AZ$1) -> 0 | ... BB67: =COUNTIF($W67:$AR67,BB$1) -> 0 | BC67: =SUM(AS67:AY67) -> 8 | BD67: =IF(BC67>3,1,0) -> 1 | BE67: =IF(BC67>4,1,0) -> 1 | BF67: =SUM(AS67:AT67)/BC67 -> 0.125 | BG67: =SUM(AS67:AX67,AZ67:BA67)/SUM(AS67:BB67) -> 0.125 | BH67: =COUNT(BL67:BN67) -> 0 | BI67: =IF(BH67>1,SUM(BL67:BN67)/BH67,"") | BJ67: =COUNT(BO67:BQ67) -> 0 | BK67: =IF(BJ67>1,SUM(BO67:BQ67)/BJ67,"")
A68: 443 | B68: WTY080 | C68: Nest | D68: 3 | E68: WN028 | F68: WN045 | G68: WN205 | H68: =VLOOKUP($E68,wisa_obs_1994_2015d!$B$2:$P$4617,14,FALSE) -> 1506210 | I68: =VLOOKUP($E68,wisa_obs_1994_2015d!$B$2:$P$4617,15,FALSE) -> 476353 | J68: =VLOOKUP($F68,wisa_obs_1994_2015d!$B$2:$P$4617,14,FALSE) -> 1506222 | K68: =VLOOKUP($F68,wisa_obs_1994_2015d!$B$2:$P$4617,15,FALSE) -> 476498 | L68: =VLOOKUP($G68,wisa_obs_1994_2015d!$B$2:$P$4617,14,FALSE) -> 1506201 | M68: =VLOOKUP($G68,wisa_obs_1994_2015d!$B$2:$P$4617,15,FALSE) -> 476565 | N68: =AVERAGE(H68,J68,L68) -> 1506211 | O68: =AVERAGE(I68,K68,M68) -> 476472 | P68: 4 | Q68: 3 | R68: Ok-Bdy | S68: OBJohnstone | T68: WL411 | U68: 1996-2000 | Z68: B | AA68: N | AB68: Z | AC68: Z | AF68: N | AG68: N | AH68: N | AI68: B | AJ68: Z | AK68: Z | AS68: =COUNTIF($W68:$AR68,AS$1) -> 4 | AT68: =COUNTIF($W68:$AR68,AT$1) -> 0 | AU68: =COUNTIF($W68:$AR68,AU$1) -> 0 | AV68: =COUNTIF($W68:$AR68,AV$1) -> 2 | AW68: =COUNTIF($W68:$AR68,AW$1) -> 0 | AX68: =COUNTIF($W68:$AR68,AX$1) -> 0 | AY68: =COUNTIF($W68:$AR68,AY$1) -> 4 | AZ68: =COUNTIF($W68:$AR68,AZ$1) -> 0 | ... BB68: =COUNTIF($W68:$AR68,BB$1) -> 0 | BC68: =SUM(AS68:AY68) -> 10 | BD68: =IF(BC68>3,1,0) -> 1 | BE68: =IF(BC68>4,1,0) -> 1 | BF68: =SUM(AS68:AT68)/BC68 -> 0.4 | BG68: =SUM(AS68:AX68,AZ68:BA68)/SUM(AS68:BB68) -> 0.6 | BH68: =COUNT(BL68:BN68) -> 3 | BI68: =IF(BH68>1,SUM(BL68:BN68)/BH68,"") -> 0 | BJ68: =COUNT(BO68:BQ68) -> 3 | BK68: =IF(BJ68>1,SUM(BO68:BQ68)/BJ68,"") -> 0.33333333 | BL68: 0 | BM68: 0 | BN68: 0 | BO68: 1 | BP68: 0 | BQ68: 0
A69: 448 | B69: WTY081 | C69: Nest | D69: 1 | E69: WN029 | H69: =VLOOKUP($E69,wisa_obs_1994_2015d!$B$2:$P$4617,14,FALSE) -> 1507131 | I69: =VLOOKUP($E69,wisa_obs_1994_2015d!$B$2:$P$4617,15,FALSE) -> 475690 | N69: =AVERAGE(H69,J69,L69) -> 1507131 | O69: =AVERAGE(I69,K69,M69) -> 475690 | P69: 4 | Q69: 2 | R69: Ok-Bdy | S69: OBJohnstone | T69: WL411 | U69: 1996-2000 | Z69: Z | AA69: N | AB69: Z | AC69: Z | AI69: N | AJ69: N | AQ69: BX | AS69: =COUNTIF($W69:$AR69,AS$1) -> 3 | AT69: =COUNTIF($W69:$AR69,AT$1) -> 0 | AU69: =COUNTIF($W69:$AR69,AU$1) -> 0 | AV69: =COUNTIF($W69:$AR69,AV$1) -> 0 | AW69: =COUNTIF($W69:$AR69,AW$1) -> 0 | AX69: =COUNTIF($W69:$AR69,AX$1) -> 0 | AY69: =COUNTIF($W69:$AR69,AY$1) -> 3 | AZ69: =COUNTIF($W69:$AR69,AZ$1) -> 0 | ... BB69: =COUNTIF($W69:$AR69,BB$1) -> 0 | BC69: =SUM(AS69:AY69) -> 6 | BD69: =IF(BC69>3,1,0) -> 1 | BE69: =IF(BC69>4,1,0) -> 1 | BF69: =SUM(AS69:AT69)/BC69 -> 0.5 | BG69: =SUM(AS69:AX69,AZ69:BA69)/SUM(AS69:BB69) -> 0.57142857 | BH69: =COUNT(BL69:BN69) -> 2 | BI69: =IF(BH69>1,SUM(BL69:BN69)/BH69,"") -> 1 | BJ69: =COUNT(BO69:BQ69) -> 2 | BK69: =IF(BJ69>1,SUM(BO69:BQ69)/BJ69,"") -> 1 | BL69: 1 | BM69: 1 | BO69: 1 | BP69: 1
A70: 455 | B70: WTY082 | C70: Nest | D70: 1 | E70: WN011 | H70: =VLOOKUP($E70,wisa_obs_1994_2015d!$B$2:$P$4617,14,FALSE) -> 1506781 | I70: =VLOOKUP($E70,wisa_obs_1994_2015d!$B$2:$P$4617,15,FALSE) -> 476761 | N70: =AVERAGE(H70,J70,L70) -> 1506781 | O70: =AVERAGE(I70,K70,M70) -> 476761 | P70: 4 | Q70: 4 | R70: Ok-Bdy | S70: OBJohnstone | T70: WL411 | U70: 1996-2000 | V70: 8-382 | Y70: N | Z70: Z | AA70: Z | AB70: Z | AC70: Z | AG70: Z | AH70: Z | AI70: N | AJ70: N | AK70: N | AQ70: BX | AS70: =COUNTIF($W70:$AR70,AS$1) -> 4 | AT70: =COUNTIF($W70:$AR70,AT$1) -> 0 | AU70: =COUNTIF($W70:$AR70,AU$1) -> 0 | AV70: =COUNTIF($W70:$AR70,AV$1) -> 0 | AW70: =COUNTIF($W70:$AR70,AW$1) -> 0 | AX70: =COUNTIF($W70:$AR70,AX$1) -> 0 | AY70: =COUNTIF($W70:$AR70,AY$1) -> 6 | AZ70: =COUNTIF($W70:$AR70,AZ$1) -> 0 | ... BB70: =COUNTIF($W70:$AR70,BB$1) -> 0 | BC70: =SUM(AS70:AY70) -> 10 | BD70: =IF(BC70>3,1,0) -> 1 | BE70: =IF(BC70>4,1,0) -> 1 | BF70: =SUM(AS70:AT70)/BC70 -> 0.4 | BG70: =SUM(AS70:AX70,AZ70:BA70)/SUM(AS70:BB70) -> 0.45454545 | BH70: =COUNT(BL70:BN70) -> 3 | BI70: =IF(BH70>1,SUM(BL70:BN70)/BH70,"") -> 1 | BJ70: =COUNT(BO70:BQ70) -> 3 | BK70: =IF(BJ70>1,SUM(BO70:BQ70)/BJ70,"") -> 1 | BL70: 1 | BM70: 1 | BN70: 1 | BO70: 1 | BP70: 1 | BQ70: 1
A71: 459 | B71: WTY083 | C71: Nest | D71: 2 | E71: WN211 | F71: WNB025 | H71: =VLOOKUP($E71,wisa_obs_1994_2015d!$B$2:$P$4617,14,FALSE) -> 1506104 | I71: =VLOOKUP($E71,wisa_obs_1994_2015d!$B$2:$P$4617,15,FALSE) -> 477578 | J71: =VLOOKUP($F71,wisa_obs_1994_2015d!$B$2:$P$4617,14,FALSE) -> 1506019 | K71: =VLOOKUP($F71,wisa_obs_1994_2015d!$B$2:$P$4617,15,FALSE) -> 477733 | N71: =AVERAGE(H71,J71,L71) -> 1506061.5 | O71: =AVERAGE(I71,K71,M71) -> 477655.5 | P71: 4 | Q71: 3 | R71: Ok-Bdy | S71: OBJohnstone | V71: 8-310 | AG71: N | AH71: N | AI71: B | AJ71: N | AK71: N | AS71: =COUNTIF($W71:$AR71,AS$1) -> 4 | AT71: =COUNTIF($W71:$AR71,AT$1) -> 0 | AU71: =COUNTIF($W71:$AR71,AU$1) -> 0 | AV71: =COUNTIF($W71:$AR71,AV$1) -> 1 | AW71: =COUNTIF($W71:$AR71,AW$1) -> 0 | AX71: =COUNTIF($W71:$AR71,AX$1) -> 0 | AY71: =COUNTIF($W71:$AR71,AY$1) -> 0 | AZ71: =COUNTIF($W71:$AR71,AZ$1) -> 0 | ... BB71: =COUNTIF($W71:$AR71,BB$1) -> 0 | BC71: =SUM(AS71:AY71) -> 5 | BD71: =IF(BC71>3,1,0) -> 1 | BE71: =IF(BC71>4,1,0) -> 1 | BF71: =SUM(AS71:AT71)/BC71 -> 0.8 | BG71: =SUM(AS71:AX71,AZ71:BA71)/SUM(AS71:BB71) -> 1 | BH71: =COUNT(BL71:BN71) -> 3 | BI71: =IF(BH71>1,SUM(BL71:BN71)/BH71,"") -> 0.66666667 | BJ71: =COUNT(BO71:BQ71) -> 3 | BK71: =IF(BJ71>1,SUM(BO71:BQ71)/BJ71,"") -> 1 | BL71: 0 | BM71: 1 | BN71: 1 | BO71: 1 | BP71: 1 | BQ71: 1
A72: 464 | B72: WTY084 | C72: Nest | D72: 1 | E72: WN319 | H72: =VLOOKUP($E72,wisa_obs_1994_2015d!$B$2:$P$4617,14,FALSE) -> 1506580 | I72: =VLOOKUP($E72,wisa_obs_1994_2015d!$B$2:$P$4617,15,FALSE) -> 478637 | N72: =AVERAGE(H72,J72,L72) -> 1506580 | O72: =AVERAGE(I72,K72,M72) -> 478637 | P72: 4 | Q72: 3 | R72: Ok-Bdy | S72: OBJohnstone | AH72: N | AI72: B | AK72: Z | AN72: X | AS72: =COUNTIF($W72:$AR72,AS$1) -> 1 | AT72: =COUNTIF($W72:$AR72,AT$1) -> 0 | AU72: =COUNTIF($W72:$AR72,AU$1) -> 0 | AV72: =COUNTIF($W72:$AR72,AV$1) -> 1 | AW72: =COUNTIF($W72:$AR72,AW$1) -> 0 | AX72: =COUNTIF($W72:$AR72,AX$1) -> 0 | AY72: =COUNTIF($W72:$AR72,AY$1) -> 1 | AZ72: =COUNTIF($W72:$AR72,AZ$1) -> 0 | ... BB72: =COUNTIF($W72:$AR72,BB$1) -> 1 | BC72: =SUM(AS72:AY72) -> 3 | BD72: =IF(BC72>3,1,0) -> 0 | BE72: =IF(BC72>4,1,0) -> 0 | BF72: =SUM(AS72:AT72)/BC72 -> 0.33333333 | BG72: =SUM(AS72:AX72,AZ72:BA72)/SUM(AS72:BB72) -> 0.5 | BH72: =COUNT(BL72:BN72) -> 2 | BI72: =IF(BH72>1,SUM(BL72:BN72)/BH72,"") -> 0 | BJ72: =COUNT(BO72:BQ72) -> 2 | BK72: =IF(BJ72>1,SUM(BO72:BQ72)/BJ72,"") -> 0.5 | BL72: 0 | BN72: 0 | BO72: 1 | BQ72: 0
A73: 467 | B73: WTY085 | C73: Nest | D73: 1 | E73: WN213 | H73: =VLOOKUP($E73,wisa_obs_1994_2015d!$B$2:$P$4617,14,FALSE) -> 1507099 | I73: =VLOOKUP($E73,wisa_obs_1994_2015d!$B$2:$P$4617,15,FALSE) -> 480962 | N73: =AVERAGE(H73,J73,L73) -> 1507099 | O73: =AVERAGE(I73,K73,M73) -> 480962 | P73: 4 | Q73: 3 | R73: Ok-Bdy | S73: OBJohnstone | V73: 8-383 | AG73: N | AH73: N | AI73: N | AJ73: B | AK73: N | AS73: =COUNTIF($W73:$AR73,AS$1) -> 4 | AT73: =COUNTIF($W73:$AR73,AT$1) -> 0 | AU73: =COUNTIF($W73:$AR73,AU$1) -> 0 | AV73: =COUNTIF($W73:$AR73,AV$1) -> 1 | AW73: =COUNTIF($W73:$AR73,AW$1) -> 0 | AX73: =COUNTIF($W73:$AR73,AX$1) -> 0 | AY73: =COUNTIF($W73:$AR73,AY$1) -> 0 | AZ73: =COUNTIF($W73:$AR73,AZ$1) -> 0 | ... BB73: =COUNTIF($W73:$AR73,BB$1) -> 0 | BC73: =SUM(AS73:AY73) -> 5 | BD73: =IF(BC73>3,1,0) -> 1 | BE73: =IF(BC73>4,1,0) -> 1 | BF73: =SUM(AS73:AT73)/BC73 -> 0.8 | BG73: =SUM(AS73:AX73,AZ73:BA73)/SUM(AS73:BB73) -> 1 | BH73: =COUNT(BL73:BN73) -> 3 | BI73: =IF(BH73>1,SUM(BL73:BN73)/BH73,"") -> 0.66666667 | BJ73: =COUNT(BO73:BQ73) -> 3 | BK73: =IF(BJ73>1,SUM(BO73:BQ73)/BJ73,"") -> 1 | BL73: 1 | BM73: 0 | BN73: 1 | BO73: 1 | BP73: 1 | BQ73: 1
A74: 470 | B74: WTY086 | C74: Nest | D74: 1 | E74: WN212 | H74: =VLOOKUP($E74,wisa_obs_1994_2015d!$B$2:$P$4617,14,FALSE) -> 1506764 | I74: =VLOOKUP($E74,wisa_obs_1994_2015d!$B$2:$P$4617,15,FALSE) -> 481116 | N74: =AVERAGE(H74,J74,L74) -> 1506764 | O74: =AVERAGE(I74,K74,M74) -> 481116 | P74: 4 | Q74: 3 | R74: Ok-Bdy | S74: OBJohnstone | V74: 8-383 | AG74: N | AJ74: Z | AK74: Z | AS74: =COUNTIF($W74:$AR74,AS$1) -> 1 | AT74: =COUNTIF($W74:$AR74,AT$1) -> 0 | AU74: =COUNTIF($W74:$AR74,AU$1) -> 0 | AV74: =COUNTIF($W74:$AR74,AV$1) -> 0 | AW74: =COUNTIF($W74:$AR74,AW$1) -> 0 | AX74: =COUNTIF($W74:$AR74,AX$1) -> 0 | AY74: =COUNTIF($W74:$AR74,AY$1) -> 2 | AZ74: =COUNTIF($W74:$AR74,AZ$1) -> 0 | ... BB74: =COUNTIF($W74:$AR74,BB$1) -> 0 | BC74: =SUM(AS74:AY74) -> 3 | BD74: =IF(BC74>3,1,0) -> 0 | BE74: =IF(BC74>4,1,0) -> 0 | BF74: =SUM(AS74:AT74)/BC74 -> 0.33333333 | BG74: =SUM(AS74:AX74,AZ74:BA74)/SUM(AS74:BB74) -> 0.33333333 | BH74: =COUNT(BL74:BN74) -> 2 | BI74: =IF(BH74>1,SUM(BL74:BN74)/BH74,"") -> 0 | BJ74: =COUNT(BO74:BQ74) -> 2 | BK74: =IF(BJ74>1,SUM(BO74:BQ74)/BJ74,"") -> 0 | BM74: 0 | BN74: 0 | BP74: 0 | BQ74: 0
A75: 473 | B75: WTY087 | C75: Nest | D75: 1 | E75: WN220 | H75: =VLOOKUP($E75,wisa_obs_1994_2015d!$B$2:$P$4617,14,FALSE) -> 1508794 | I75: =VLOOKUP($E75,wisa_obs_1994_2015d!$B$2:$P$4617,15,FALSE) -> 478839 | N75: =AVERAGE(H75,J75,L75) -> 1508794 | O75: =AVERAGE(I75,K75,M75) -> 478839 | P75: 3 | Q75: 3 | R75: Ok-Bdy | S75: OBJohnstone | AG75: N | AK75: Z | AS75: =COUNTIF($W75:$AR75,AS$1) -> 1 | AT75: =COUNTIF($W75:$AR75,AT$1) -> 0 | AU75: =COUNTIF($W75:$AR75,AU$1) -> 0 | AV75: =COUNTIF($W75:$AR75,AV$1) -> 0 | AW75: =COUNTIF($W75:$AR75,AW$1) -> 0 | AX75: =COUNTIF($W75:$AR75,AX$1) -> 0 | AY75: =COUNTIF($W75:$AR75,AY$1) -> 1 | AZ75: =COUNTIF($W75:$AR75,AZ$1) -> 0 | ... BB75: =COUNTIF($W75:$AR75,BB$1) -> 0 | BC75: =SUM(AS75:AY75) -> 2 | BD75: =IF(BC75>3,1,0) -> 0 | BE75: =IF(BC75>4,1,0) -> 0 | BF75: =SUM(AS75:AT75)/BC75 -> 0.5 | BG75: =SUM(AS75:AX75,AZ75:BA75)/SUM(AS75:BB75) -> 0.5 | BH75: =COUNT(BL75:BN75) -> 1 | BI75: =IF(BH75>1,SUM(BL75:BN75)/BH75,"") | BJ75: =COUNT(BO75:BQ75) -> 1 | BK75: =IF(BJ75>1,SUM(BO75:BQ75)/BJ75,"") | BN75: 0 | BQ75: 0
A76: 476 | B76: WTY088 | C76: Nest | D76: 1 | E76: WN219 | H76: =VLOOKUP($E76,wisa_obs_1994_2015d!$B$2:$P$4617,14,FALSE) -> 1508391 | I76: =VLOOKUP($E76,wisa_obs_1994_2015d!$B$2:$P$4617,15,FALSE) -> 479109 | N76: =AVERAGE(H76,J76,L76) -> 1508391 | O76: =AVERAGE(I76,K76,M76) -> 479109 | P76: 4 | Q76: 3 | R76: Ok-Bdy | S76: OBJohnstone | AG76: N | AJ76: Z | AS76: =COUNTIF($W76:$AR76,AS$1) -> 1 | AT76: =COUNTIF($W76:$AR76,AT$1) -> 0 | AU76: =COUNTIF($W76:$AR76,AU$1) -> 0 | AV76: =COUNTIF($W76:$AR76,AV$1) -> 0 | AW76: =COUNTIF($W76:$AR76,AW$1) -> 0 | AX76: =COUNTIF($W76:$AR76,AX$1) -> 0 | AY76: =COUNTIF($W76:$AR76,AY$1) -> 1 | AZ76: =COUNTIF($W76:$AR76,AZ$1) -> 0 | ... BB76: =COUNTIF($W76:$AR76,BB$1) -> 0 | BC76: =SUM(AS76:AY76) -> 2 | BD76: =IF(BC76>3,1,0) -> 0 | BE76: =IF(BC76>4,1,0) -> 0 | BF76: =SUM(AS76:AT76)/BC76 -> 0.5 | BG76: =SUM(AS76:AX76,AZ76:BA76)/SUM(AS76:BB76) -> 0.5 | BH76: =COUNT(BL76:BN76) -> 1 | BI76: =IF(BH76>1,SUM(BL76:BN76)/BH76,"") | BJ76: =COUNT(BO76:BQ76) -> 1 | BK76: =IF(BJ76>1,SUM(BO76:BQ76)/BJ76,"") | BM76: 0 | BP76: 0
A77: 478 | B77: WTY089 | C77: Nest | D77: 2 | E77: WN021 | F77: WN032 | H77: =VLOOKUP($E77,wisa_obs_1994_2015d!$B$2:$P$4617,14,FALSE) -> 1508520 | I77: =VLOOKUP($E77,wisa_obs_1994_2015d!$B$2:$P$4617,15,FALSE) -> 481171 | J77: =VLOOKUP($F77,wisa_obs_1994_2015d!$B$2:$P$4617,14,FALSE) -> 1508527 | K77: =VLOOKUP($F77,wisa_obs_1994_2015d!$B$2:$P$4617,15,FALSE) -> 481201 | N77: =AVERAGE(H77,J77,L77) -> 1508523.5 | O77: =AVERAGE(I77,K77,M77) -> 481186 | P77: 3 | Q77: 2 | R77: Ok-Bdy | S77: OBJohnstone | U77: 1996-2000 | Z77: N | AA77: N | AB77: N | AC77: Z | AJ77: Z | AK77: Z | AS77: =COUNTIF($W77:$AR77,AS$1) -> 3 | AT77: =COUNTIF($W77:$AR77,AT$1) -> 0 | AU77: =COUNTIF($W77:$AR77,AU$1) -> 0 | AV77: =COUNTIF($W77:$AR77,AV$1) -> 0 | AW77: =COUNTIF($W77:$AR77,AW$1) -> 0 | AX77: =COUNTIF($W77:$AR77,AX$1) -> 0 | AY77: =COUNTIF($W77:$AR77,AY$1) -> 3 | AZ77: =COUNTIF($W77:$AR77,AZ$1) -> 0 | ... BB77: =COUNTIF($W77:$AR77,BB$1) -> 0 | BC77: =SUM(AS77:AY77) -> 6 | BD77: =IF(BC77>3,1,0) -> 1 | BE77: =IF(BC77>4,1,0) -> 1 | BF77: =SUM(AS77:AT77)/BC77 -> 0.5 | BG77: =SUM(AS77:AX77,AZ77:BA77)/SUM(AS77:BB77) -> 0.5 | BH77: =COUNT(BL77:BN77) -> 2 | BI77: =IF(BH77>1,SUM(BL77:BN77)/BH77,"") -> 0 | BJ77: =COUNT(BO77:BQ77) -> 2 | BK77: =IF(BJ77>1,SUM(BO77:BQ77)/BJ77,"") -> 0 | BM77: 0 | BN77: 0 | BP77: 0 | BQ77: 0
A78: 482 | B78: WTY090 | C78: Nest | D78: 1 | E78: WN218 | H78: =VLOOKUP($E78,wisa_obs_1994_2015d!$B$2:$P$4617,14,FALSE) -> 1507817 | I78: =VLOOKUP($E78,wisa_obs_1994_2015d!$B$2:$P$4617,15,FALSE) -> 482249 | N78: =AVERAGE(H78,J78,L78) -> 1507817 | O78: =AVERAGE(I78,K78,M78) -> 482249 | P78: 4 | Q78: 3 | R78: Ok-Bdy | S78: OBJohnstone | V78: 8-209 | AG78: N | AI78: N | AJ78: N | AS78: =COUNTIF($W78:$AR78,AS$1) -> 3 | AT78: =COUNTIF($W78:$AR78,AT$1) -> 0 | AU78: =COUNTIF($W78:$AR78,AU$1) -> 0 | AV78: =COUNTIF($W78:$AR78,AV$1) -> 0 | AW78: =COUNTIF($W78:$AR78,AW$1) -> 0 | AX78: =COUNTIF($W78:$AR78,AX$1) -> 0 | AY78: =COUNTIF($W78:$AR78,AY$1) -> 0 | AZ78: =COUNTIF($W78:$AR78,AZ$1) -> 0 | ... BB78: =COUNTIF($W78:$AR78,BB$1) -> 0 | BC78: =SUM(AS78:AY78) -> 3 | BD78: =IF(BC78>3,1,0) -> 0 | BE78: =IF(BC78>4,1,0) -> 0 | BF78: =SUM(AS78:AT78)/BC78 -> 1 | BG78: =SUM(AS78:AX78,AZ78:BA78)/SUM(AS78:BB78) -> 1 | BH78: =COUNT(BL78:BN78) -> 2 | BI78: =IF(BH78>1,SUM(BL78:BN78)/BH78,"") -> 1 | BJ78: =COUNT(BO78:BQ78) -> 2 | BK78: =IF(BJ78>1,SUM(BO78:BQ78)/BJ78,"") -> 1 | BL78: 1 | BM78: 1 | BO78: 1 | BP78: 1
A79: 489 | B79: WTY091 | C79: Nest | D79: 1 | E79: WN215 | H79: =VLOOKUP($E79,wisa_obs_1994_2015d!$B$2:$P$4617,14,FALSE) -> 1508214 | I79: =VLOOKUP($E79,wisa_obs_1994_2015d!$B$2:$P$4617,15,FALSE) -> 482624 | N79: =AVERAGE(H79,J79,L79) -> 1508214 | O79: =AVERAGE(I79,K79,M79) -> 482624 | P79: 4 | Q79: 3 | R79: Ok-Bdy | S79: OBJohnstone | V79: 8-209 | AG79: N | AJ79: N | AM79: BX | AN79: BX | AS79: =COUNTIF($W79:$AR79,AS$1) -> 2 | AT79: =COUNTIF($W79:$AR79,AT$1) -> 0 | AU79: =COUNTIF($W79:$AR79,AU$1) -> 0 | AV79: =COUNTIF($W79:$AR79,AV$1) -> 0 | AW79: =COUNTIF($W79:$AR79,AW$1) -> 0 | AX79: =COUNTIF($W79:$AR79,AX$1) -> 0 | AY79: =COUNTIF($W79:$AR79,AY$1) -> 0 | AZ79: =COUNTIF($W79:$AR79,AZ$1) -> 0 | ... BB79: =COUNTIF($W79:$AR79,BB$1) -> 0 | BC79: =SUM(AS79:AY79) -> 2 | BD79: =IF(BC79>3,1,0) -> 0 | BE79: =IF(BC79>4,1,0) -> 0 | BF79: =SUM(AS79:AT79)/BC79 -> 1 | BG79: =SUM(AS79:AX79,AZ79:BA79)/SUM(AS79:BB79) -> 1 | BH79: =COUNT(BL79:BN79) -> 1 | BI79: =IF(BH79>1,SUM(BL79:BN79)/BH79,"") | BJ79: =COUNT(BO79:BQ79) -> 1 | BK79: =IF(BJ79>1,SUM(BO79:BQ79)/BJ79,"") | BM79: 1 | BP79: 1
A80: 494 | B80: WTY092 | C80: Nest | D80: 1 | E80: WN216 | H80: =VLOOKUP($E80,wisa_obs_1994_2015d!$B$2:$P$4617,14,FALSE) -> 1507080 | I80: =VLOOKUP($E80,wisa_obs_1994_2015d!$B$2:$P$4617,15,FALSE) -> 484364 | N80: =AVERAGE(H80,J80,L80) -> 1507080 | O80: =AVERAGE(I80,K80,M80) -> 484364 | P80: 4 | Q80: 2 | R80: Ok-Bdy | S80: OBJohnstone | V80: 8-206 | AG80: N | AI80: BZ | AJ80: BZ | AK80: Z | AS80: =COUNTIF($W80:$AR80,AS$1) -> 1 | AT80: =COUNTIF($W80:$AR80,AT$1) -> 0 | AU80: =COUNTIF($W80:$AR80,AU$1) -> 0 | AV80: =COUNTIF($W80:$AR80,AV$1) -> 0 | AW80: =COUNTIF($W80:$AR80,AW$1) -> 0 | AX80: =COUNTIF($W80:$AR80,AX$1) -> 2 | AY80: =COUNTIF($W80:$AR80,AY$1) -> 1 | AZ80: =COUNTIF($W80:$AR80,AZ$1) -> 0 | ... BB80: =COUNTIF($W80:$AR80,BB$1) -> 0 | BC80: =SUM(AS80:AY80) -> 4 | BD80: =IF(BC80>3,1,0) -> 1 | BE80: =IF(BC80>4,1,0) -> 0 | BF80: =SUM(AS80:AT80)/BC80 -> 0.25 | BG80: =SUM(AS80:AX80,AZ80:BA80)/SUM(AS80:BB80) -> 0.75 | BH80: =COUNT(BL80:BN80) -> 3 | BI80: =IF(BH80>1,SUM(BL80:BN80)/BH80,"") -> 0 | BJ80: =COUNT(BO80:BQ80) -> 3 | BK80: =IF(BJ80>1,SUM(BO80:BQ80)/BJ80,"") -> 0.66666667 | BL80: 0 | BM80: 0 | BN80: 0 | BO80: 1 | BP80: 1 | BQ80: 0
A81: 497 | B81: WTY093 | C81: Nest | D81: 3 | E81: WN214 | F81: WN318 | G81: WNB022 | H81: =VLOOKUP($E81,wisa_obs_1994_2015d!$B$2:$P$4617,14,FALSE) -> 1508748 | I81: =VLOOKUP($E81,wisa_obs_1994_2015d!$B$2:$P$4617,15,FALSE) -> 484511 | J81: =VLOOKUP($F81,wisa_obs_1994_2015d!$B$2:$P$4617,14,FALSE) -> 1508733 | K81: =VLOOKUP($F81,wisa_obs_1994_2015d!$B$2:$P$4617,15,FALSE) -> 484503 | L81: =VLOOKUP($G81,wisa_obs_1994_2015d!$B$2:$P$4617,14,FALSE) -> 1508640 | M81: =VLOOKUP($G81,wisa_obs_1994_2015d!$B$2:$P$4617,15,FALSE) -> 484658 | N81: =AVERAGE(H81,J81,L81) -> 1508707 | O81: =AVERAGE(I81,K81,M81) -> 484557.33 | P81: 4 | Q81: 3 | R81: Ok-Bdy | S81: OBJohnstone | V81: 8-354 | AG81: N | AH81: N | AJ81: N | AK81: BZ | AS81: =COUNTIF($W81:$AR81,AS$1) -> 3 | AT81: =COUNTIF($W81:$AR81,AT$1) -> 0 | AU81: =COUNTIF($W81:$AR81,AU$1) -> 0 | AV81: =COUNTIF($W81:$AR81,AV$1) -> 0 | AW81: =COUNTIF($W81:$AR81,AW$1) -> 0 | AX81: =COUNTIF($W81:$AR81,AX$1) -> 1 | AY81: =COUNTIF($W81:$AR81,AY$1) -> 0 | AZ81: =COUNTIF($W81:$AR81,AZ$1) -> 0 | ... BB81: =COUNTIF($W81:$AR81,BB$1) -> 0 | BC81: =SUM(AS81:AY81) -> 4 | BD81: =IF(BC81>3,1,0) -> 1 | BE81: =IF(BC81>4,1,0) -> 0 | BF81: =SUM(AS81:AT81)/BC81 -> 0.75 | BG81: =SUM(AS81:AX81,AZ81:BA81)/SUM(AS81:BB81) -> 1 | BH81: =COUNT(BL81:BN81) -> 2 | BI81: =IF(BH81>1,SUM(BL81:BN81)/BH81,"") -> 0.5 | BJ81: =COUNT(BO81:BQ81) -> 2 | BK81: =IF(BJ81>1,SUM(BO81:BQ81)/BJ81,"") -> 1 | BM81: 1 | BN81: 0 | BP81: 1 | BQ81: 1
A82: 503 | B82: WTY094 | C82: Nest | D82: 1 | E82: WN217 | H82: =VLOOKUP($E82,wisa_obs_1994_2015d!$B$2:$P$4617,14,FALSE) -> 1503862 | I82: =VLOOKUP($E82,wisa_obs_1994_2015d!$B$2:$P$4617,15,FALSE) -> 484150 | N82: =AVERAGE(H82,J82,L82) -> 1503862 | O82: =AVERAGE(I82,K82,M82) -> 484150 | P82: 4 | Q82: 2 | R82: Ok-Bdy | S82: OBJohnstone | V82: 8-207 | AG82: N | AI82: BZ | AJ82: N | AS82: =COUNTIF($W82:$AR82,AS$1) -> 2 | AT82: =COUNTIF($W82:$AR82,AT$1) -> 0 | AU82: =COUNTIF($W82:$AR82,AU$1) -> 0 | AV82: =COUNTIF($W82:$AR82,AV$1) -> 0 | AW82: =COUNTIF($W82:$AR82,AW$1) -> 0 | AX82: =COUNTIF($W82:$AR82,AX$1) -> 1 | AY82: =COUNTIF($W82:$AR82,AY$1) -> 0 | AZ82: =COUNTIF($W82:$AR82,AZ$1) -> 0 | ... BB82: =COUNTIF($W82:$AR82,BB$1) -> 0 | BC82: =SUM(AS82:AY82) -> 3 | BD82: =IF(BC82>3,1,0) -> 0 | BE82: =IF(BC82>4,1,0) -> 0 | BF82: =SUM(AS82:AT82)/BC82 -> 0.66666667 | BG82: =SUM(AS82:AX82,AZ82:BA82)/SUM(AS82:BB82) -> 1 | BH82: =COUNT(BL82:BN82) -> 2 | BI82: =IF(BH82>1,SUM(BL82:BN82)/BH82,"") -> 0.5 | BJ82: =COUNT(BO82:BQ82) -> 2 | BK82: =IF(BJ82>1,SUM(BO82:BQ82)/BJ82,"") -> 1 | BL82: 0 | BM82: 1 | BO82: 1 | BP82: 1
A83: 505 | B83: WTY095 | C83: Nest | D83: 1 | E83: WN022 | H83: =VLOOKUP($E83,wisa_obs_1994_2015d!$B$2:$P$4617,14,FALSE) -> 1513575 | I83: =VLOOKUP($E83,wisa_obs_1994_2015d!$B$2:$P$4617,15,FALSE) -> 482148 | N83: =AVERAGE(H83,J83,L83) -> 1513575 | O83: =AVERAGE(I83,K83,M83) -> 482148 | P83: 4 | Q83: 3 | R83: Ok-Bdy | S83: OBMidway | U83: 1996-2000 | Z83: N | AA83: Z | AB83: Z | AS83: =COUNTIF($W83:$AR83,AS$1) -> 1 | AT83: =COUNTIF($W83:$AR83,AT$1) -> 0 | AU83: =COUNTIF($W83:$AR83,AU$1) -> 0 | AV83: =COUNTIF($W83:$AR83,AV$1) -> 0 | AW83: =COUNTIF($W83:$AR83,AW$1) -> 0 | AX83: =COUNTIF($W83:$AR83,AX$1) -> 0 | AY83: =COUNTIF($W83:$AR83,AY$1) -> 2 | AZ83: =COUNTIF($W83:$AR83,AZ$1) -> 0 | ... BB83: =COUNTIF($W83:$AR83,BB$1) -> 0 | BC83: =SUM(AS83:AY83) -> 3 | BD83: =IF(BC83>3,1,0) -> 0 | BE83: =IF(BC83>4,1,0) -> 0 | BF83: =SUM(AS83:AT83)/BC83 -> 0.33333333 | BG83: =SUM(AS83:AX83,AZ83:BA83)/SUM(AS83:BB83) -> 0.33333333 | BH83: =COUNT(BL83:BN83) -> 0 | BI83: =IF(BH83>1,SUM(BL83:BN83)/BH83,"") | BJ83: =COUNT(BO83:BQ83) -> 0 | BK83: =IF(BJ83>1,SUM(BO83:BQ83)/BJ83,"")
A84: 510 | B84: WTY096 | C84: Nest | D84: 1 | E84: WN046 | H84: =VLOOKUP($E84,wisa_obs_1994_2015d!$B$2:$P$4617,14,FALSE) -> 1520188 | I84: =VLOOKUP($E84,wisa_obs_1994_2015d!$B$2:$P$4617,15,FALSE) -> 480167 | N84: =AVERAGE(H84,J84,L84) -> 1520188 | O84: =AVERAGE(I84,K84,M84) -> 480167 | P84: 3 | Q84: 2 | R84: Ok-Bdy | S84: OBMidway | V84: 8-215 | AF84: N | AI84: N | AJ84: BZ | AK84: BZ | AS84: =COUNTIF($W84:$AR84,AS$1) -> 2 | AT84: =COUNTIF($W84:$AR84,AT$1) -> 0 | AU84: =COUNTIF($W84:$AR84,AU$1) -> 0 | AV84: =COUNTIF($W84:$AR84,AV$1) -> 0 | AW84: =COUNTIF($W84:$AR84,AW$1) -> 0 | AX84: =COUNTIF($W84:$AR84,AX$1) -> 2 | AY84: =COUNTIF($W84:$AR84,AY$1) -> 0 | AZ84: =COUNTIF($W84:$AR84,AZ$1) -> 0 | ... BB84: =COUNTIF($W84:$AR84,BB$1) -> 0 | BC84: =SUM(AS84:AY84) -> 4 | BD84: =IF(BC84>3,1,0) -> 1 | BE84: =IF(BC84>4,1,0) -> 0 | BF84: =SUM(AS84:AT84)/BC84 -> 0.5 | BG84: =SUM(AS84:AX84,AZ84:BA84)/SUM(AS84:BB84) -> 1 | BH84: =COUNT(BL84:BN84) -> 3 | BI84: =IF(BH84>1,SUM(BL84:BN84)/BH84,"") -> 0.33333333 | BJ84: =COUNT(BO84:BQ84) -> 3 | BK84: =IF(BJ84>1,SUM(BO84:BQ84)/BJ84,"") -> 1 | BL84: 1 | BM84: 0 | BN84: 0 | BO84: 1 | BP84: 1 | BQ84: 1
A85: 525 | B85: WTY100 | C85: Nest | D85: 1 | E85: WN321 | H85: =VLOOKUP($E85,wisa_obs_1994_2015d!$B$2:$P$4617,14,FALSE) -> 1524548 | I85: =VLOOKUP($E85,wisa_obs_1994_2015d!$B$2:$P$4617,15,FALSE) -> 480622 | N85: =AVERAGE(H85,J85,L85) -> 1524548 | O85: =AVERAGE(I85,K85,M85) -> 480622 | P85: 2 | Q85: 1 | R85: Ok-Bdy | S85: OBMidway | V85: 8-221 | AH85: N | AN85: X | AS85: =COUNTIF($W85:$AR85,AS$1) -> 1 | AT85: =COUNTIF($W85:$AR85,AT$1) -> 0 | AU85: =COUNTIF($W85:$AR85,AU$1) -> 0 | AV85: =COUNTIF($W85:$AR85,AV$1) -> 0 | AW85: =COUNTIF($W85:$AR85,AW$1) -> 0 | AX85: =COUNTIF($W85:$AR85,AX$1) -> 0 | AY85: =COUNTIF($W85:$AR85,AY$1) -> 0 | AZ85: =COUNTIF($W85:$AR85,AZ$1) -> 0 | ... BB85: =COUNTIF($W85:$AR85,BB$1) -> 1 | BC85: =SUM(AS85:AY85) -> 1 | BD85: =IF(BC85>3,1,0) -> 0 | BE85: =IF(BC85>4,1,0) -> 0 | BF85: =SUM(AS85:AT85)/BC85 -> 1 | BG85: =SUM(AS85:AX85,AZ85:BA85)/SUM(AS85:BB85) -> 0.5 | BH85: =COUNT(BL85:BN85) -> 0 | BI85: =IF(BH85>1,SUM(BL85:BN85)/BH85,"") | BJ85: =COUNT(BO85:BQ85) -> 0 | BK85: =IF(BJ85>1,SUM(BO85:BQ85)/BJ85,"")
A86: 537 | B86: WTY102 | C86: Nest | D86: 2 | E86: WN222 | F86: WNB006 | H86: =VLOOKUP($E86,wisa_obs_1994_2015d!$B$2:$P$4617,14,FALSE) -> 1525996 | I86: =VLOOKUP($E86,wisa_obs_1994_2015d!$B$2:$P$4617,15,FALSE) -> 481519 | J86: =VLOOKUP($F86,wisa_obs_1994_2015d!$B$2:$P$4617,14,FALSE) -> 1525996 | K86: =VLOOKUP($F86,wisa_obs_1994_2015d!$B$2:$P$4617,15,FALSE) -> 481519 | N86: =AVERAGE(H86,J86,L86) -> 1525996 | O86: =AVERAGE(I86,K86,M86) -> 481519 | P86: 4 | Q86: 4 | R86: Ok-Bdy | S86: OBMidway | V86: 8-220 | AG86: N | AI86: N | AJ86: N | AN86: BX | AS86: =COUNTIF($W86:$AR86,AS$1) -> 3 | AT86: =COUNTIF($W86:$AR86,AT$1) -> 0 | AU86: =COUNTIF($W86:$AR86,AU$1) -> 0 | AV86: =COUNTIF($W86:$AR86,AV$1) -> 0 | AW86: =COUNTIF($W86:$AR86,AW$1) -> 0 | AX86: =COUNTIF($W86:$AR86,AX$1) -> 0 | AY86: =COUNTIF($W86:$AR86,AY$1) -> 0 | AZ86: =COUNTIF($W86:$AR86,AZ$1) -> 0 | ... BB86: =COUNTIF($W86:$AR86,BB$1) -> 0 | BC86: =SUM(AS86:AY86) -> 3 | BD86: =IF(BC86>3,1,0) -> 0 | BE86: =IF(BC86>4,1,0) -> 0 | BF86: =SUM(AS86:AT86)/BC86 -> 1 | BG86: =SUM(AS86:AX86,AZ86:BA86)/SUM(AS86:BB86) -> 1 | BH86: =COUNT(BL86:BN86) -> 2 | BI86: =IF(BH86>1,SUM(BL86:BN86)/BH86,"") -> 1 | BJ86: =COUNT(BO86:BQ86) -> 2 | BK86: =IF(BJ86>1,SUM(BO86:BQ86)/BJ86,"") -> 1 | BL86: 1 | BM86: 1 | BO86: 1 | BP86: 1
A87: 542 | B87: WTY103 | C87: Nest | D87: 1 | E87: WN320 | H87: =VLOOKUP($E87,wisa_obs_1994_2015d!$B$2:$P$4617,14,FALSE) -> 1526184 | I87: =VLOOKUP($E87,wisa_obs_1994_2015d!$B$2:$P$4617,15,FALSE) -> 478254 | N87: =AVERAGE(H87,J87,L87) -> 1526184 | O87: =AVERAGE(I87,K87,M87) -> 478254 | P87: 4 | Q87: 1 | R87: Ok-Bdy | S87: OBMidway | V87: 8-222 | AH87: N | AI87: BZ | AJ87: Z | AS87: =COUNTIF($W87:$AR87,AS$1) -> 1 | AT87: =COUNTIF($W87:$AR87,AT$1) -> 0 | AU87: =COUNTIF($W87:$AR87,AU$1) -> 0 | AV87: =COUNTIF($W87:$AR87,AV$1) -> 0 | AW87: =COUNTIF($W87:$AR87,AW$1) -> 0 | AX87: =COUNTIF($W87:$AR87,AX$1) -> 1 | AY87: =COUNTIF($W87:$AR87,AY$1) -> 1 | AZ87: =COUNTIF($W87:$AR87,AZ$1) -> 0 | ... BB87: =COUNTIF($W87:$AR87,BB$1) -> 0 | BC87: =SUM(AS87:AY87) -> 3 | BD87: =IF(BC87>3,1,0) -> 0 | BE87: =IF(BC87>4,1,0) -> 0 | BF87: =SUM(AS87:AT87)/BC87 -> 0.33333333 | BG87: =SUM(AS87:AX87,AZ87:BA87)/SUM(AS87:BB87) -> 0.66666667 | BH87: =COUNT(BL87:BN87) -> 2 | BI87: =IF(BH87>1,SUM(BL87:BN87)/BH87,"") -> 0 | BJ87: =COUNT(BO87:BQ87) -> 2 | BK87: =IF(BJ87>1,SUM(BO87:BQ87)/BJ87,"") -> 0.5 | BL87: 0 | BM87: 0 | BO87: 1 | BP87: 0
A88: 547 | B88: WTY106 | C88: Nest | D88: 1 | E88: WN221 | H88: =VLOOKUP($E88,wisa_obs_1994_2015d!$B$2:$P$4617,14,FALSE) -> 1529458 | I88: =VLOOKUP($E88,wisa_obs_1994_2015d!$B$2:$P$4617,15,FALSE) -> 479440 | N88: =AVERAGE(H88,J88,L88) -> 1529458 | O88: =AVERAGE(I88,K88,M88) -> 479440 | P88: 4 | Q88: 2 | R88: Ok-Bdy | S88: OBMidway | V88: 8-223 | AG88: N | AS88: =COUNTIF($W88:$AR88,AS$1) -> 1 | AT88: =COUNTIF($W88:$AR88,AT$1) -> 0 | AU88: =COUNTIF($W88:$AR88,AU$1) -> 0 | AV88: =COUNTIF($W88:$AR88,AV$1) -> 0 | AW88: =COUNTIF($W88:$AR88,AW$1) -> 0 | AX88: =COUNTIF($W88:$AR88,AX$1) -> 0 | AY88: =COUNTIF($W88:$AR88,AY$1) -> 0 | AZ88: =COUNTIF($W88:$AR88,AZ$1) -> 0 | ... BB88: =COUNTIF($W88:$AR88,BB$1) -> 0 | BC88: =SUM(AS88:AY88) -> 1 | BD88: =IF(BC88>3,1,0) -> 0 | BE88: =IF(BC88>4,1,0) -> 0 | BF88: =SUM(AS88:AT88)/BC88 -> 1 | BG88: =SUM(AS88:AX88,AZ88:BA88)/SUM(AS88:BB88) -> 1 | BH88: =COUNT(BL88:BN88) -> 0 | BI88: =IF(BH88>1,SUM(BL88:BN88)/BH88,"") | BJ88: =COUNT(BO88:BQ88) -> 0 | BK88: =IF(BJ88>1,SUM(BO88:BQ88)/BJ88,"")
A89: 562 | B89: WTY108 | C89: Nest | D89: 2 | E89: WN237 | F89: WNB028 | H89: =VLOOKUP($E89,wisa_obs_1994_2015d!$B$2:$P$4617,14,FALSE) -> 1523438 | I89: =VLOOKUP($E89,wisa_obs_1994_2015d!$B$2:$P$4617,15,FALSE) -> 483561 | J89: =VLOOKUP($F89,wisa_obs_1994_2015d!$B$2:$P$4617,14,FALSE) -> 1523490 | K89: =VLOOKUP($F89,wisa_obs_1994_2015d!$B$2:$P$4617,15,FALSE) -> 483346 | N89: =AVERAGE(H89,J89,L89) -> 1523464 | O89: =AVERAGE(I89,K89,M89) -> 483453.5 | P89: 4 | Q89: 1 | R89: Ok-Bdy | S89: OBMidway | V89: 8-225 | AG89: N | AH89: N | AI89: N | AJ89: N | AK89: Z | AS89: =COUNTIF($W89:$AR89,AS$1) -> 4 | AT89: =COUNTIF($W89:$AR89,AT$1) -> 0 | AU89: =COUNTIF($W89:$AR89,AU$1) -> 0 | AV89: =COUNTIF($W89:$AR89,AV$1) -> 0 | AW89: =COUNTIF($W89:$AR89,AW$1) -> 0 | AX89: =COUNTIF($W89:$AR89,AX$1) -> 0 | AY89: =COUNTIF($W89:$AR89,AY$1) -> 1 | AZ89: =COUNTIF($W89:$AR89,AZ$1) -> 0 | ... BB89: =COUNTIF($W89:$AR89,BB$1) -> 0 | BC89: =SUM(AS89:AY89) -> 5 | BD89: =IF(BC89>3,1,0) -> 1 | BE89: =IF(BC89>4,1,0) -> 1 | BF89: =SUM(AS89:AT89)/BC89 -> 0.8 | BG89: =SUM(AS89:AX89,AZ89:BA89)/SUM(AS89:BB89) -> 0.8 | BH89: =COUNT(BL89:BN89) -> 3 | BI89: =IF(BH89>1,SUM(BL89:BN89)/BH89,"") -> 0.66666667 | BJ89: =COUNT(BO89:BQ89) -> 3 | BK89: =IF(BJ89>1,SUM(BO89:BQ89)/BJ89,"") -> 0.66666667 | BL89: 1 | BM89: 1 | BN89: 0 | BO89: 1 | BP89: 1 | BQ89: 0
A90: 563 | B90: WTY108 | C90: Nest | D90: 2 | E90: WNB028 | H90: =VLOOKUP($E90,wisa_obs_1994_2015d!$B$2:$P$4617,14,FALSE) -> 1523490 | I90: =VLOOKUP($E90,wisa_obs_1994_2015d!$B$2:$P$4617,15,FALSE) -> 483346 | N90: =AVERAGE(H90,J90,L90) -> 1523490 | O90: =AVERAGE(I90,K90,M90) -> 483346 | P90: 4 | Q90: 1 | R90: Ok-Bdy | S90: OBMidway | V90: 8-225 | AG90: X | AJ90: N | AK90: Z | AS90: =COUNTIF($W90:$AR90,AS$1) -> 1 | AT90: =COUNTIF($W90:$AR90,AT$1) -> 0 | AU90: =COUNTIF($W90:$AR90,AU$1) -> 0 | AV90: =COUNTIF($W90:$AR90,AV$1) -> 0 | AW90: =COUNTIF($W90:$AR90,AW$1) -> 0 | AX90: =COUNTIF($W90:$AR90,AX$1) -> 0 | AY90: =COUNTIF($W90:$AR90,AY$1) -> 1 | AZ90: =COUNTIF($W90:$AR90,AZ$1) -> 0 | ... BB90: =COUNTIF($W90:$AR90,BB$1) -> 1 | BC90: =SUM(AS90:AY90) -> 2 | BD90: =IF(BC90>3,1,0) -> 0 | BE90: =IF(BC90>4,1,0) -> 0 | BF90: =SUM(AS90:AT90)/BC90 -> 0.5 | BG90: =SUM(AS90:AX90,AZ90:BA90)/SUM(AS90:BB90) -> 0.33333333 | BH90: =COUNT(BL90:BN90) -> 2 | BI90: =IF(BH90>1,SUM(BL90:BN90)/BH90,"") -> 0.5 | BJ90: =COUNT(BO90:BQ90) -> 2 | BK90: =IF(BJ90>1,SUM(BO90:BQ90)/BJ90,"") -> 0.5 | BM90: 1 | BN90: 0 | BP90: 1 | BQ90: 0
A91: 568 | B91: WTY109 | C91: Nest | D91: 1 | E91: WN238 | H91: =VLOOKUP($E91,wisa_obs_1994_2015d!$B$2:$P$4617,14,FALSE) -> 1524369 | I91: =VLOOKUP($E91,wisa_obs_1994_2015d!$B$2:$P$4617,15,FALSE) -> 483509 | N91: =AVERAGE(H91,J91,L91) -> 1524369 | O91: =AVERAGE(I91,K91,M91) -> 483509 | P91: 3 | Q91: 1 | R91: Ok-Bdy | S91: OBMidway | V91: 8-224 | AG91: N | AI91: BZ | AJ91: Z | AK91: Z | AS91: =COUNTIF($W91:$AR91,AS$1) -> 1 | AT91: =COUNTIF($W91:$AR91,AT$1) -> 0 | AU91: =COUNTIF($W91:$AR91,AU$1) -> 0 | AV91: =COUNTIF($W91:$AR91,AV$1) -> 0 | AW91: =COUNTIF($W91:$AR91,AW$1) -> 0 | AX91: =COUNTIF($W91:$AR91,AX$1) -> 1 | AY91: =COUNTIF($W91:$AR91,AY$1) -> 2 | AZ91: =COUNTIF($W91:$AR91,AZ$1) -> 0 | ... BB91: =COUNTIF($W91:$AR91,BB$1) -> 0 | BC91: =SUM(AS91:AY91) -> 4 | BD91: =IF(BC91>3,1,0) -> 1 | BE91: =IF(BC91>4,1,0) -> 0 | BF91: =SUM(AS91:AT91)/BC91 -> 0.25 | BG91: =SUM(AS91:AX91,AZ91:BA91)/SUM(AS91:BB91) -> 0.5 | BH91: =COUNT(BL91:BN91) -> 3 | BI91: =IF(BH91>1,SUM(BL91:BN91)/BH91,"") -> 0 | BJ91: =COUNT(BO91:BQ91) -> 3 | BK91: =IF(BJ91>1,SUM(BO91:BQ91)/BJ91,"") -> 0.33333333 | BL91: 0 | BM91: 0 | BN91: 0 | BO91: 1 | BP91: 0 | BQ91: 0
A92: 570 | B92: WTY110 | C92: Nest | D92: 1 | E92: WN015 | H92: =VLOOKUP($E92,wisa_obs_1994_2015d!$B$2:$P$4617,14,FALSE) -> 1523689 | I92: =VLOOKUP($E92,wisa_obs_1994_2015d!$B$2:$P$4617,15,FALSE) -> 484593 | N92: =AVERAGE(H92,J92,L92) -> 1523689 | O92: =AVERAGE(I92,K92,M92) -> 484593 | P92: 3 | Q92: 1 | R92: Ok-Bdy | S92: OBMidway | Y92: N | AG92: X | AS92: =COUNTIF($W92:$AR92,AS$1) -> 1 | AT92: =COUNTIF($W92:$AR92,AT$1) -> 0 | AU92: =COUNTIF($W92:$AR92,AU$1) -> 0 | AV92: =COUNTIF($W92:$AR92,AV$1) -> 0 | AW92: =COUNTIF($W92:$AR92,AW$1) -> 0 | AX92: =COUNTIF($W92:$AR92,AX$1) -> 0 | AY92: =COUNTIF($W92:$AR92,AY$1) -> 0 | AZ92: =COUNTIF($W92:$AR92,AZ$1) -> 0 | ... BB92: =COUNTIF($W92:$AR92,BB$1) -> 1 | BC92: =SUM(AS92:AY92) -> 1 | BD92: =IF(BC92>3,1,0) -> 0 | BE92: =IF(BC92>4,1,0) -> 0 | BF92: =SUM(AS92:AT92)/BC92 -> 1 | BG92: =SUM(AS92:AX92,AZ92:BA92)/SUM(AS92:BB92) -> 0.5 | BH92: =COUNT(BL92:BN92) -> 0 | BI92: =IF(BH92>1,SUM(BL92:BN92)/BH92,"") | BJ92: =COUNT(BO92:BQ92) -> 0 | BK92: =IF(BJ92>1,SUM(BO92:BQ92)/BJ92,"")
A93: 572 | B93: WTY111 | C93: Nest | D93: 1 | E93: WN006 | H93: =VLOOKUP($E93,wisa_obs_1994_2015d!$B$2:$P$4617,14,FALSE) -> 1522819 | I93: =VLOOKUP($E93,wisa_obs_1994_2015d!$B$2:$P$4617,15,FALSE) -> 485920 | N93: =AVERAGE(H93,J93,L93) -> 1522819 | O93: =AVERAGE(I93,K93,M93) -> 485920 | P93: 4 | Q93: 1 | R93: Ok-Bdy | S93: OBMidway | V93: 8-216 | X93: N | Y93: Z | AS93: =COUNTIF($W93:$AR93,AS$1) -> 1 | AT93: =COUNTIF($W93:$AR93,AT$1) -> 0 | AU93: =COUNTIF($W93:$AR93,AU$1) -> 0 | AV93: =COUNTIF($W93:$AR93,AV$1) -> 0 | AW93: =COUNTIF($W93:$AR93,AW$1) -> 0 | AX93: =COUNTIF($W93:$AR93,AX$1) -> 0 | AY93: =COUNTIF($W93:$AR93,AY$1) -> 1 | AZ93: =COUNTIF($W93:$AR93,AZ$1) -> 0 | ... BB93: =COUNTIF($W93:$AR93,BB$1) -> 0 | BC93: =SUM(AS93:AY93) -> 2 | BD93: =IF(BC93>3,1,0) -> 0 | BE93: =IF(BC93>4,1,0) -> 0 | BF93: =SUM(AS93:AT93)/BC93 -> 0.5 | BG93: =SUM(AS93:AX93,AZ93:BA93)/SUM(AS93:BB93) -> 0.5 | BH93: =COUNT(BL93:BN93) -> 0 | BI93: =IF(BH93>1,SUM(BL93:BN93)/BH93,"") | BJ93: =COUNT(BO93:BQ93) -> 0 | BK93: =IF(BJ93>1,SUM(BO93:BQ93)/BJ93,"")
A94: 574 | B94: WTY112 | C94: Nest | D94: 1 | E94: WN007 | H94: =VLOOKUP($E94,wisa_obs_1994_2015d!$B$2:$P$4617,14,FALSE) -> 1524052 | I94: =VLOOKUP($E94,wisa_obs_1994_2015d!$B$2:$P$4617,15,FALSE) -> 485634 | N94: =AVERAGE(H94,J94,L94) -> 1524052 | O94: =AVERAGE(I94,K94,M94) -> 485634 | P94: 4 | Q94: 1 | R94: Ok-Bdy | S94: OBMidway | V94: 8-217 | X94: N | Y94: Z | AS94: =COUNTIF($W94:$AR94,AS$1) -> 1 | AT94: =COUNTIF($W94:$AR94,AT$1) -> 0 | AU94: =COUNTIF($W94:$AR94,AU$1) -> 0 | AV94: =COUNTIF($W94:$AR94,AV$1) -> 0 | AW94: =COUNTIF($W94:$AR94,AW$1) -> 0 | AX94: =COUNTIF($W94:$AR94,AX$1) -> 0 | AY94: =COUNTIF($W94:$AR94,AY$1) -> 1 | AZ94: =COUNTIF($W94:$AR94,AZ$1) -> 0 | ... BB94: =COUNTIF($W94:$AR94,BB$1) -> 0 | BC94: =SUM(AS94:AY94) -> 2 | BD94: =IF(BC94>3,1,0) -> 0 | BE94: =IF(BC94>4,1,0) -> 0 | BF94: =SUM(AS94:AT94)/BC94 -> 0.5 | BG94: =SUM(AS94:AX94,AZ94:BA94)/SUM(AS94:BB94) -> 0.5 | BH94: =COUNT(BL94:BN94) -> 0 | BI94: =IF(BH94>1,SUM(BL94:BN94)/BH94,"") | BJ94: =COUNT(BO94:BQ94) -> 0 | BK94: =IF(BJ94>1,SUM(BO94:BQ94)/BJ94,"")
A95: 588 | B95: WTY115 | C95: Nest | D95: 1 | E95: WN014 | H95: =VLOOKUP($E95,wisa_obs_1994_2015d!$B$2:$P$4617,14,FALSE) -> 1523582 | I95: =VLOOKUP($E95,wisa_obs_1994_2015d!$B$2:$P$4617,15,FALSE) -> 487281 | N95: =AVERAGE(H95,J95,L95) -> 1523582 | O95: =AVERAGE(I95,K95,M95) -> 487281 | P95: 4 | Q95: 2 | R95: Ok-Bdy | S95: OBMidway | X95: X | Y95: N | AF95: B | AG95: X | AK95: X | AS95: =COUNTIF($W95:$AR95,AS$1) -> 1 | AT95: =COUNTIF($W95:$AR95,AT$1) -> 0 | AU95: =COUNTIF($W95:$AR95,AU$1) -> 0 | AV95: =COUNTIF($W95:$AR95,AV$1) -> 1 | AW95: =COUNTIF($W95:$AR95,AW$1) -> 0 | AX95: =COUNTIF($W95:$AR95,AX$1) -> 0 | AY95: =COUNTIF($W95:$AR95,AY$1) -> 0 | AZ95: =COUNTIF($W95:$AR95,AZ$1) -> 0 | ... BB95: =COUNTIF($W95:$AR95,BB$1) -> 3 | BC95: =SUM(AS95:AY95) -> 2 | BD95: =IF(BC95>3,1,0) -> 0 | BE95: =IF(BC95>4,1,0) -> 0 | BF95: =SUM(AS95:AT95)/BC95 -> 0.5 | BG95: =SUM(AS95:AX95,AZ95:BA95)/SUM(AS95:BB95) -> 0.4 | BH95: =COUNT(BL95:BN95) -> 0 | BI95: =IF(BH95>1,SUM(BL95:BN95)/BH95,"") | BJ95: =COUNT(BO95:BQ95) -> 1 | BK95: =IF(BJ95>1,SUM(BO95:BQ95)/BJ95,"") | BQ95: 0
A96: 591 | B96: WTY116 | C96: Nest | D96: 1 | E96: WN012 | H96: =VLOOKUP($E96,wisa_obs_1994_2015d!$B$2:$P$4617,14,FALSE) -> 1523653 | I96: =VLOOKUP($E96,wisa_obs_1994_2015d!$B$2:$P$4617,15,FALSE) -> 487453 | N96: =AVERAGE(H96,J96,L96) -> 1523653 | O96: =AVERAGE(I96,K96,M96) -> 487453 | P96: 4 | Q96: 2 | R96: Ok-Bdy | S96: OBMidway | X96: X | Y96: N | AG96: X | AI96: B | AS96: =COUNTIF($W96:$AR96,AS$1) -> 1 | AT96: =COUNTIF($W96:$AR96,AT$1) -> 0 | AU96: =COUNTIF($W96:$AR96,AU$1) -> 0 | AV96: =COUNTIF($W96:$AR96,AV$1) -> 1 | AW96: =COUNTIF($W96:$AR96,AW$1) -> 0 | AX96: =COUNTIF($W96:$AR96,AX$1) -> 0 | AY96: =COUNTIF($W96:$AR96,AY$1) -> 0 | AZ96: =COUNTIF($W96:$AR96,AZ$1) -> 0 | ... BB96: =COUNTIF($W96:$AR96,BB$1) -> 2 | BC96: =SUM(AS96:AY96) -> 2 | BD96: =IF(BC96>3,1,0) -> 0 | BE96: =IF(BC96>4,1,0) -> 0 | BF96: =SUM(AS96:AT96)/BC96 -> 0.5 | BG96: =SUM(AS96:AX96,AZ96:BA96)/SUM(AS96:BB96) -> 0.5 | BH96: =COUNT(BL96:BN96) -> 1 | BI96: =IF(BH96>1,SUM(BL96:BN96)/BH96,"") | BJ96: =COUNT(BO96:BQ96) -> 1 | BK96: =IF(BJ96>1,SUM(BO96:BQ96)/BJ96,"") | BL96: 0 | BO96: 1
A97: 593 | B97: WTY117 | C97: Nest | D97: 1 | E97: WN008 | H97: =VLOOKUP($E97,wisa_obs_1994_2015d!$B$2:$P$4617,14,FALSE) -> 1525193 | I97: =VLOOKUP($E97,wisa_obs_1994_2015d!$B$2:$P$4617,15,FALSE) -> 486953 | N97: =AVERAGE(H97,J97,L97) -> 1525193 | O97: =AVERAGE(I97,K97,M97) -> 486953 | P97: 4 | Q97: 3 | R97: Ok-Bdy | S97: OBMidway | V97: 8-218 | X97: N | Y97: Z | AS97: =COUNTIF($W97:$AR97,AS$1) -> 1 | AT97: =COUNTIF($W97:$AR97,AT$1) -> 0 | AU97: =COUNTIF($W97:$AR97,AU$1) -> 0 | AV97: =COUNTIF($W97:$AR97,AV$1) -> 0 | AW97: =COUNTIF($W97:$AR97,AW$1) -> 0 | AX97: =COUNTIF($W97:$AR97,AX$1) -> 0 | AY97: =COUNTIF($W97:$AR97,AY$1) -> 1 | AZ97: =COUNTIF($W97:$AR97,AZ$1) -> 0 | ... BB97: =COUNTIF($W97:$AR97,BB$1) -> 0 | BC97: =SUM(AS97:AY97) -> 2 | BD97: =IF(BC97>3,1,0) -> 0 | BE97: =IF(BC97>4,1,0) -> 0 | BF97: =SUM(AS97:AT97)/BC97 -> 0.5 | BG97: =SUM(AS97:AX97,AZ97:BA97)/SUM(AS97:BB97) -> 0.5 | BH97: =COUNT(BL97:BN97) -> 0 | BI97: =IF(BH97>1,SUM(BL97:BN97)/BH97,"") | BJ97: =COUNT(BO97:BQ97) -> 0 | BK97: =IF(BJ97>1,SUM(BO97:BQ97)/BJ97,"")
A98: 595 | B98: WTY118 | C98: Nest | D98: 1 | E98: WN013 | H98: =VLOOKUP($E98,wisa_obs_1994_2015d!$B$2:$P$4617,14,FALSE) -> 1526270 | I98: =VLOOKUP($E98,wisa_obs_1994_2015d!$B$2:$P$4617,15,FALSE) -> 487082 | N98: =AVERAGE(H98,J98,L98) -> 1526270 | O98: =AVERAGE(I98,K98,M98) -> 487082 | P98: 4 | Q98: 1 | R98: Ok-Bdy | S98: OBMidway | V98: 8-219 | X98: X | Y98: N | AI98: X | AS98: =COUNTIF($W98:$AR98,AS$1) -> 1 | AT98: =COUNTIF($W98:$AR98,AT$1) -> 0 | AU98: =COUNTIF($W98:$AR98,AU$1) -> 0 | AV98: =COUNTIF($W98:$AR98,AV$1) -> 0 | AW98: =COUNTIF($W98:$AR98,AW$1) -> 0 | AX98: =COUNTIF($W98:$AR98,AX$1) -> 0 | AY98: =COUNTIF($W98:$AR98,AY$1) -> 0 | AZ98: =COUNTIF($W98:$AR98,AZ$1) -> 0 | ... BB98: =COUNTIF($W98:$AR98,BB$1) -> 2 | BC98: =SUM(AS98:AY98) -> 1 | BD98: =IF(BC98>3,1,0) -> 0 | BE98: =IF(BC98>4,1,0) -> 0 | BF98: =SUM(AS98:AT98)/BC98 -> 1 | BG98: =SUM(AS98:AX98,AZ98:BA98)/SUM(AS98:BB98) -> 0.33333333 | BH98: =COUNT(BL98:BN98) -> 0 | BI98: =IF(BH98>1,SUM(BL98:BN98)/BH98,"") | BJ98: =COUNT(BO98:BQ98) -> 1 | BK98: =IF(BJ98>1,SUM(BO98:BQ98)/BJ98,"") | BO98: 0
A99: 598 | B99: WTYA001 | C99: Nest | D99: 1 | E99: WNA001 | H99: =VLOOKUP($E99,wisa_obs_1994_2015d!$B$2:$P$4617,14,FALSE) -> 1327425 | I99: =VLOOKUP($E99,wisa_obs_1994_2015d!$B$2:$P$4617,15,FALSE) -> 673964 | N99: =AVERAGE(H99,J99,L99) -> 1327425 | O99: =AVERAGE(I99,K99,M99) -> 673964 | R99: West | S99: WOther | AJ99: N | AS99: =COUNTIF($W99:$AR99,AS$1) -> 1 | AT99: =COUNTIF($W99:$AR99,AT$1) -> 0 | AU99: =COUNTIF($W99:$AR99,AU$1) -> 0 | AV99: =COUNTIF($W99:$AR99,AV$1) -> 0 | AW99: =COUNTIF($W99:$AR99,AW$1) -> 0 | AX99: =COUNTIF($W99:$AR99,AX$1) -> 0 | AY99: =COUNTIF($W99:$AR99,AY$1) -> 0 | AZ99: =COUNTIF($W99:$AR99,AZ$1) -> 0 | ... BB99: =COUNTIF($W99:$AR99,BB$1) -> 0 | BC99: =SUM(AS99:AY99) -> 1 | BD99: =IF(BC99>3,1,0) -> 0 | BE99: =IF(BC99>4,1,0) -> 0 | BF99: =SUM(AS99:AT99)/BC99 -> 1 | BG99: =SUM(AS99:AX99,AZ99:BA99)/SUM(AS99:BB99) -> 1 | BH99: =COUNT(BL99:BN99) -> 1 | BI99: =IF(BH99>1,SUM(BL99:BN99)/BH99,"") | BJ99: =COUNT(BO99:BQ99) -> 1 | BK99: =IF(BJ99>1,SUM(BO99:BQ99)/BJ99,"") | BM99: 1 | BP99: 1
A100: 600 | B100: WTYA002 | C100: Nest | D100: 3 | E100: WNA002 | F100: WNA004 | G100: WNA005 | H100: =VLOOKUP($E100,wisa_obs_1994_2015d!$B$2:$P$4617,14,FALSE) -> 1394065 | I100: =VLOOKUP($E100,wisa_obs_1994_2015d!$B$2:$P$4617,15,FALSE) -> 662769 | J100: =VLOOKUP($F100,wisa_obs_1994_2015d!$B$2:$P$4617,14,FALSE) -> 1394038 | K100: =VLOOKUP($F100,wisa_obs_1994_2015d!$B$2:$P$4617,15,FALSE) -> 662763 | L100: =VLOOKUP($G100,wisa_obs_1994_2015d!$B$2:$P$4617,14,FALSE) -> 1394065 | M100: =VLOOKUP($G100,wisa_obs_1994_2015d!$B$2:$P$4617,15,FALSE) -> 662769 | N100: =AVERAGE(H100,J100,L100) -> 1394056 | O100: =AVERAGE(I100,K100,M100) -> 662767 | R100: West | S100: WOther | V100: 3-096 | W100: N | Y100: N | AF100: N | AJ100: Z | AS100: =COUNTIF($W100:$AR100,AS$1) -> 3 | AT100: =COUNTIF($W100:$AR100,AT$1) -> 0 | AU100: =COUNTIF($W100:$AR100,AU$1) -> 0 | AV100: =COUNTIF($W100:$AR100,AV$1) -> 0 | AW100: =COUNTIF($W100:$AR100,AW$1) -> 0 | AX100: =COUNTIF($W100:$AR100,AX$1) -> 0 | AY100: =COUNTIF($W100:$AR100,AY$1) -> 1 | AZ100: =COUNTIF($W100:$AR100,AZ$1) -> 0 | ... BB100: =COUNTIF($W100:$AR100,BB$1) -> 0 | BC100: =SUM(AS100:AY100) -> 4 | BD100: =IF(BC100>3,1,0) -> 1 | BE100: =IF(BC100>4,1,0) -> 0 | BF100: =SUM(AS100:AT100)/BC100 -> 0.75 | BG100: =SUM(AS100:AX100,AZ100:BA100)/SUM(AS100:BB100) -> 0.75 | BH100: =COUNT(BL100:BN100) -> 1 | BI100: =IF(BH100>1,SUM(BL100:BN100)/BH100,"") | BJ100: =COUNT(BO100:BQ100) -> 1 | BK100: =IF(BJ100>1,SUM(BO100:BQ100)/BJ100,"") | BM100: 0 | BP100: 0
...

Sheet WTY Lookup
A1: GPS_MARK | B1: WTY | F1: WTY | G1: WTY Type | H1: Region | I1: Subregion | J1: Average of Albers E Average | K1: Average of Albers N Average
A2: WN226 | B2: WTY001 | F2: WTY001 | G2: Nest | H2: Ok-Bdy | I2: OBNaramata | J2: 1469266 | K2: 528035
A3: WN041 | B3: WTY002 | F3: WTY002 | G3: Nest | H3: Ok-Bdy | I3: OBNaramata | J3: 1469395 | K3: 529096
A4: WN038 | B4: WTY003 | F4: WTY003 | G4: Nest | H4: Ok-Bdy | I4: OBNaramata | J4: 1468950 | K4: 529258.5
A5: WNK002 | B5: WTY003 | F5: WTY004 | G5: Nest | H5: Ok-Bdy | I5: OBNaramata | J5: 1469036 | K5: 529869.5
A6: WN225 | B6: WTY004 | F6: WTY005 | G6: Nest | H6: Ok-Bdy | I6: OBNaramata | J6: 1469399 | K6: 530281
A7: WNK003 | B7: WTY004 | F7: WTY006 | G7: Nest | H7: Ok-Bdy | I7: OBNaramata | J7: 1468549 | K7: 531127
A8: WNK001 | B8: WTY005 | F8: WTY008 | G8: Nest | H8: Ok-Bdy | I8: OBOkFalls | J8: 1475128 | K8: 504338
A9: WNK004 | B9: WTY006 | F9: WTY009 | G9: Nest | H9: Ok-Bdy | I9: OBOther | J9: 1503666 | K9: 501235
A10: WN023 | B10: WTY008 | F10: WTY011 | G10: Nest | H10: Ok-Bdy | I10: OBOkFalls | J10: 1477372.5 | K10: 500764.5
A11: WN202 | B11: WTY009 | F11: WTY012 | G11: Nest | H11: Ok-Bdy | I11: OBOkFalls | J11: 1477491 | K11: 499712
A12: WN001 | B12: WTY011 | F12: WTY013 | G12: Nest | H12: Ok-Bdy | I12: OBOkFalls | J12: 1477916 | K12: 500664
A13: WN239 | B13: WTY011 | F13: WTY014 | G13: Nest | H13: Ok-Bdy | I13: OBOkFalls | J13: 1477571.5 | K13: 500461.5
... A481: WNM073 | B481: WTYM117 | F481: WTYW004 | G481: Other | H481: West | I481: WOther | J481: 1448550.8 | K481: 512531.25
A482: WNM072 | B482: WTYM118
A483: WNM070 | B483: WTYM119
A484: WNM069 | B484: WTYM120
A485: WNM071 | B485: WTYM121
A486: WM461 | B486: WTYM122
A487: WM462 | B487: WTYM123
A488: WNM093 | B488: WTYM124
A489: WNM095 | B489: WTYM125
A490: WM665 | B490: WTYM126
A491: WM657 | B491: WTYM127
A492: WNM102 | B492: WTYM128
A493: WNM096 | B493: WTYM129
... A553: WW003 | B553: WTYW004

Sheet WTY by Year
A1: Sort | B1: WTY | C1: GPS_MARK | D1: WTY Type | E1: WTY_Type2 | F1: >1 LINE | G1: N Nests | H1: Range | I1: SubRange | J1: Albers E Average | K1: Albers N Average | L1: Local | M1: WHA | N1: 1994 | O1: 1995 | P1: 1996 | Q1: 1997 | R1: 1998 | S1: 1999 | T1: 2000 | U1: 2001 | V1: 2002 | W1: 2003 | X1: 2004 | Y1: 2005 | Z1: 2006 | AA1: 2007 | AB1: 2008 | AC1: 2009 | AD1: 2010 | AE1: 2011 | AF1: 2012 | AG1: 2013 | AH1: 2014 | AI1: 2015
A2: 5 | B2: WTY001 | C2: WN226 | D2: Nest | E2: Nest | G2: 1 | H2: Ok-Bdy | I2: OBNaramata | J2: 1469266 | K2: 528035 | W2: B | X2: N | Y2: B | Z2: N | AA2: N | AB2: Z | AC2: Z
A3: 14 | B3: WTY002 | C3: WN041 | D3: Nest | E3: Nest | G3: 1 | H3: Ok-Bdy | I3: OBNaramata | J3: 1469395 | K3: 529096 | M3: =VLOOKUP($C3,#REF!,15,FALSE) -> #REF! | W3: N | X3: B | Z3: Z | AA3: Z | AB3: Z | AC3: Z
A4: 22 | B4: WTY003 | C4: WN038 | D4: Nest | E4: Nest | F4: >1 Nest | G4: 2 | H4: Ok-Bdy | I4: OBNaramata | J4: 1468950 | K4: 529258.5 | M4: =VLOOKUP($C4,#REF!,15,FALSE) -> #REF! | W4: N | X4: B | Y4: Z | Z4: Z | AA4: Z | AB4: Z | AC4: Z
A5: 23 | B5: WTY003 | C5: WNK002 | D5: Nest | E5: Nest | F5: >1 Nest | G5: 2 | H5: Ok-Bdy | I5: OBNaramata | J5: 1468950 | K5: 529258.5 | Y5: Z | Z5: N | AA5: N | AB5: Z | AC5: N
A6: 30 | B6: WTY004 | C6: WN225 | D6: Nest | E6: Nest | F6: >1 Nest | G6: 2 | H6: Ok-Bdy | I6: OBNaramata | J6: 1469036 | K6: 529869.5 | M6: =VLOOKUP($C6,#REF!,15,FALSE) -> #REF! | X6: N | Y6: N | Z6: Z | AA6: Z | AB6: Z | AC6: ZB
A7: 31 | B7: WTY004 | C7: WNK003 | D7: Nest | E7: Nest | F7: >1 Nest | G7: 2 | H7: Ok-Bdy | I7: OBNaramata | J7: 1469036 | K7: 529869.5 | M7: =VLOOKUP($C7,#REF!,15,FALSE) -> #REF! | Z7: N | AA7: Z | AB7: Z | AC7: ZB
A8: 40 | B8: WTY005 | C8: WNK001 | D8: Nest | E8: Nest | G8: 1 | H8: Ok-Bdy | I8: OBNaramata | J8: 1469399 | K8: 530281 | W8: B | X8: B | Y8: B | Z8: N | AA8: N | AB8: Z | AC8: N
A9: 47 | B9: WTY006 | C9: WNK004 | D9: Nest | E9: Nest | G9: 1 | H9: Ok-Bdy | I9: OBNaramata | J9: 1468549 | K9: 531127 | X9: B | Z9: N | AA9: N | AB9: N | AC9: N | AH9: BX
A10: 49 | B10: WTY008 | C10: WN023 | D10: Nest | E10: Nest | G10: 1 | H10: Ok-Bdy | I10: OBOkFalls | J10: 1475128 | K10: 504338 | M10: =VLOOKUP($C10,#REF!,15,FALSE) -> #REF! | Q10: N | R10: N | S10: N | T10: N | Z10: Z | AA10: Z
A11: 52 | B11: WTY009 | C11: WN202 | D11: Nest | E11: Nest | G11: 1 | H11: Ok-Bdy | I11: OBOther | J11: 1503666 | K11: 501235 | X11: N | Z11: Z | AA11: Z
A12: 56 | B12: WTY011 | C12: WN001 | D12: Nest | E12: Nest | F12: >1 Nest | G12: 2 | H12: Ok-Bdy | I12: OBOkFalls | J12: 1477372.5 | K12: 500764.5 | L12: 201Road | M12: =VLOOKUP($C12,#REF!,15,FALSE) -> #REF! | N12: N | W12: Z | X12: Z | Z12: Z | AA12: Z | AB12: Z | AC12: Z | AD12: Z | AG12: Z | AI12: Z
A13: 57 | B13: WTY011 | C13: WN239 | D13: Nest | E13: Nest | F13: >1 Nest | G13: 2 | H13: Ok-Bdy | I13: OBOkFalls | J13: 1477372.5 | K13: 500764.5 | L13: 201Road | M13: =VLOOKUP($C13,#REF!,15,FALSE) -> #REF! | W13: Z | X13: N | Z13: Z | AA13: Z | AB13: Z | AC13: Z | AD13: Z | AG13: Z | AI13: Z
A14: 61 | B14: WTY012 | C14: WN327 | D14: Nest | E14: Nest | G14: 1 | H14: Ok-Bdy | I14: OBOkFalls | J14: 1477491 | K14: 499712 | L14: 201Road | W14: Z | X14: BZ | Y14: N | Z14: BZ | AA14: Z | AB14: Z | AC14: Z | AD14: Z | AG14: Z | AI14: Z
A15: 70 | B15: WTY013 | C15: WN053 | D15: Nest | E15: Nest | G15: 1 | H15: Ok-Bdy | I15: OBOkFalls | J15: 1477916 | K15: 500664 | L15: 201Road | M15: =VLOOKUP($C15,#REF!,15,FALSE) -> #REF! | W15: N | X15: N | Z15: BZ | AA15: Z | AB15: BZ | AC15: BZ | AD15: Z | AG15: Z | AI15: Z
A16: 74 | B16: WTY014 | C16: WN003 | D16: Nest | E16: Nest | F16: >1 Nest | G16: 2 | H16: Ok-Bdy | I16: OBOkFalls | J16: 1477571.5 | K16: 500461.5 | L16: 201Road | M16: =VLOOKUP($C16,#REF!,15,FALSE) -> #REF! | N16: N | W16: Z | X16: Z | Y16: Z | Z16: Z | AA16: Z | AB16: Z | AC16: Z | AD16: Z | AG16: Z | AI16: Z
A17: 75 | B17: WTY014 | C17: WN203 | D17: Nest | E17: Nest | F17: >1 Nest | G17: 2 | H17: Ok-Bdy | I17: OBOkFalls | J17: 1477571.5 | K17: 500461.5 | L17: 201Road | W17: Z | X17: N | Y17: N | Z17: N | AA17: Z | AB17: Z | AC17: Z | AD17: Z | AG17: Z | AI17: Z
A18: 85 | B18: WTY015 | C18: WN052 | D18: Nest | E18: Nest | F18: >1 Nest | G18: 2 | H18: Ok-Bdy | I18: OBOkFalls | J18: 1477764 | K18: 499880 | L18: 201Road | W18: N | X18: Y | Z18: N | AA18: Z | AB18: Z | AC18: Z | AD18: N | AG18: Z | AI18: Z
A19: 86 | B19: WTY015 | C19: WNK010 | D19: Nest | E19: Nest | F19: >1 Nest | G19: 2 | H19: Ok-Bdy | I19: OBOkFalls | J19: 1477764 | K19: 499880 | L19: 201Road | W19: Z | X19: Z | Z19: Z | AA19: N | AB19: N | AC19: BZ | AD19: Z | AG19: Z | AI19: Z
A20: 88 | B20: WTY016 | C20: WN048 | D20: Nest | E20: Nest | G20: 1 | H20: Ok-Bdy | I20: OBOkFalls | J20: 1478170 | K20: 499600 | L20: 201Road | M20: =VLOOKUP($C20,#REF!,15,FALSE) -> #REF! | W20: N | X20: Z | Z20: Z | AA20: Z | AB20: Z | AC20: Z | AD20: Z | AG20: Z | AI20: Z
A21: 93 | B21: WTY017 | C21: WN051 | D21: Nest | E21: Nest | G21: 1 | H21: Ok-Bdy | I21: OBOkFalls | J21: 1477803 | K21: 499397 | L21: 201Road | M21: =VLOOKUP($C21,#REF!,15,FALSE) -> #REF! | W21: N | X21: N | Z21: N | AA21: N | AB21: N | AC21: N | AD21: Z | AE21: BX | AG21: N | AI21: Z
A22: 102 | B22: WTY018 | C22: WN050 | D22: Nest | E22: Nest | G22: 1 | H22: Ok-Bdy | I22: OBOkFalls | J22: 1478162 | K22: 498962 | L22: 201Road | M22: =VLOOKUP($C22,#REF!,15,FALSE) -> #REF! | W22: N | X22: N | Z22: N | AA22: BZ | AB22: N | AC22: N | AD22: N | AE22: BX | AG22: Z | AI22: Z
A23: 107 | B23: WTY019 | C23: WN049 | D23: Nest | E23: Nest | F23: >1 Nest | G23: 3 | H23: Ok-Bdy | I23: OBOkFalls | J23: 1478550.3 | K23: 498788.33 | L23: 201Road | M23: =VLOOKUP($C23,#REF!,15,FALSE) -> #REF! | W23: N | X23: BZ | Z23: B | AA23: Z | AB23: Z | AC23: BZ | AD23: BZ | AG23: Z | AI23: Z
A24: 108 | B24: WTY019 | C24: WNK008 | D24: Nest | E24: Nest | F24: >1 Nest | G24: 3 | H24: Ok-Bdy | I24: OBOkFalls | J24: 1478550.3 | K24: 498788.33 | L24: 201Road | M24: =VLOOKUP($C24,#REF!,15,FALSE) -> #REF! | W24: Z | X24: Z | Z24: N | AA24: B | AB24: N | AC24: BZ | AD24: BZ | AG24: Z | AI24: Z
A25: 109 | B25: WTY019 | C25: WNK015 | D25: Nest | E25: Nest | F25: >1 Nest | G25: 3 | H25: Ok-Bdy | I25: OBOkFalls | J25: 1478550.3 | K25: 498788.33 | L25: 201Road | M25: =VLOOKUP($C25,#REF!,15,FALSE) -> #REF! | W25: Z | X25: Z | Z25: Z | AA25: N | AB25: Z | AC25: BZ | AD25: BZ | AG25: Z | AI25: Z
A26: 128 | B26: WTY020 | C26: WN228 | D26: Nest | E26: Nest | G26: 1 | H26: Ok-Bdy | I26: OBOkFalls | J26: 1477835 | K26: 498791 | L26: 201Road | M26: =VLOOKUP($C26,#REF!,15,FALSE) -> #REF! | W26: BZ | X26: N | Z26: BZ | AA26: Z | AB26: N | AC26: BZ | AD26: Z | AE26: BZ | AG26: Z | AI26: Z
A27: 136 | B27: WTY021 | C27: WN227 | D27: Nest | E27: Nest | F27: >1 Nest | G27: 3 | H27: Ok-Bdy | I27: OBOkFalls | J27: 1477322.7 | K27: 498224.67 | L27: 201Road | M27: =VLOOKUP($C27,#REF!,15,FALSE) -> #REF! | W27: Y | X27: N | Y27: Z | Z27: Z | AA27: B | AB27: Z | AC27: BZ | AD27: Z | AG27: Z | AH27: BX | AI27: Z
A28: 137 | B28: WTY021 | C28: WN322 | D28: Nest | E28: Nest | F28: >1 Nest | G28: 3 | H28: Ok-Bdy | I28: OBOkFalls | J28: 1477322.7 | K28: 498224.67 | L28: 201Road | M28: =VLOOKUP($C28,#REF!,15,FALSE) -> #REF! | W28: Z | X28: Z | Y28: N | Z28: Z | AA28: B | AB28: Z | AC28: BZ | AD28: Z | AG28: Z | AI28: Z
A29: 138 | B29: WTY021 | C29: WNK031 | D29: Nest | E29: Nest | F29: >1 Nest | G29: 3 | H29: Ok-Bdy | I29: OBOkFalls | J29: 1477322.7 | K29: 498224.67 | L29: 201Road | M29: =VLOOKUP($C29,#REF!,15,FALSE) -> #REF! | W29: Z | X29: Z | Z29: Z | AA29: Z | AB29: Z | AC29: BZ | AD29: N | AG29: Z | AI29: Z
A30: 155 | B30: WTY022 | C30: WNK006 | D30: Nest | E30: Nest | F30: >1 Nest | G30: 2 | H30: Ok-Bdy | I30: OBOkFalls | J30: 1476865 | K30: 497979.5 | Y30: BZ | Z30: N | AA30: BZ | AB30: BZ | AE30: BX | AH30: BX | AI30: Z
A31: 156 | B31: WTY022 | C31: WNK046 | D31: Nest | E31: Nest | F31: >1 Nest | G31: 2 | H31: Ok-Bdy | I31: OBOkFalls | J31: 1476865 | K31: 497979.5 | Y31: BZ | Z31: Z | AA31: BZ | AB31: BZ | AE31: BX | AH31: BX | AI31: N
A32: 161 | B32: WTY023 | C32: WN314 | D32: Nest | E32: Nest | G32: 1 | H32: Ok-Bdy | I32: OBOkFalls | J32: 1478570 | K32: 496511 | M32: =VLOOKUP($C32,#REF!,15,FALSE) -> #REF! | Y32: N | Z32: Z | AA32: N | AB32: N | AD32: Z
A33: 163 | B33: WTY024 | C33: WN027 | D33: Nest | E33: Nest | G33: 1 | H33: Ok-Bdy | I33: OBOkFalls | J33: 1477375 | K33: 496211 | M33: =VLOOKUP($C33,#REF!,15,FALSE) -> #REF! | R33: N | S33: Z | T33: Z | W33: N | X33: N | Y33: Z | Z33: Z | AA33: Z | AB33: Z
A34: 165 | B34: WTY025 | C34: WN009 | D34: Nest | E34: Nest | G34: 1 | H34: Ok-Bdy | I34: OBOkFalls | J34: 1478138 | K34: 494932 | M34: =VLOOKUP($C34,#REF!,15,FALSE) -> #REF! | P34: N | R34: Z | S34: Z | T34: Z | X34: Z | Y34: Z | Z34: Z | AA34: Z | AB34: Z
A35: 167 | B35: WTY026 | C35: WN315 | D35: Nest | E35: Nest | G35: 1 | H35: Ok-Bdy | I35: OBOkFalls | J35: 1478816 | K35: 494958 | M35: =VLOOKUP($C35,#REF!,15,FALSE) -> #REF! | Y35: N | Z35: Z | AA35: Z
A36: 170 | B36: WTY027 | C36: WN313 | D36: Nest | E36: Nest | G36: 1 | H36: Ok-Bdy | I36: OBOkFalls | J36: 1485837 | K36: 492746 | M36: =VLOOKUP($C36,#REF!,15,FALSE) -> #REF! | Y36: N | Z36: Z | AA36: Z | AB36: Z
A37: 175 | B37: WTY028 | C37: WN039 | D37: Nest | E37: Nest | G37: 1 | H37: Ok-Bdy | I37: OBOliver | J37: 1477394 | K37: 487108 | M37: =VLOOKUP($C37,#REF!,15,FALSE) -> #REF! | W37: N | Z37: Z | AA37: Z
A38: 179 | B38: WTY029 | C38: WN040 | D38: Nest | E38: Nest | G38: 1 | H38: Ok-Bdy | I38: OBOliver | J38: 1478147 | K38: 486619 | M38: =VLOOKUP($C38,#REF!,15,FALSE) -> #REF! | W38: N | Z38: N | AA38: N | AH38: BX | AI38: Z
A39: 182 | B39: WTY031 | C39: WN236 | D39: Nest | E39: Nest | F39: >1 Nest | G39: 2 | H39: Ok-Bdy | I39: OBOliver | J39: 1480398.5 | K39: 486207 | M39: =VLOOKUP($C39,#REF!,15,FALSE) -> #REF! | X39: N | Z39: N | AA39: BZ | AB39: Z
A40: 183 | B40: WTY031 | C40: WNK016 | D40: Nest | E40: Nest | F40: >1 Nest | G40: 2 | H40: Ok-Bdy | I40: OBOliver | J40: 1480398.5 | K40: 486207 | M40: =VLOOKUP($C40,#REF!,15,FALSE) -> #REF! | AA40: N | AB40: Z
A41: 186 | B41: WTY032 | C41: WN043 | D41: Nest | E41: Nest | G41: 1 | H41: Ok-Bdy | I41: OBOliver | J41: 1480828 | K41: 486205 | M41: =VLOOKUP($C41,#REF!,15,FALSE) -> #REF! | W41: N | Z41: N | AA41: N
A42: 192 | B42: WTY033 | C42: WN305 | D42: Nest | E42: Nest | G42: 1 | H42: Ok-Bdy | I42: OBOliver | J42: 1482959 | K42: 486160 | M42: =VLOOKUP($C42,#REF!,15,FALSE) -> #REF! | Y42: N | Z42: N | AA42: Z | AB42: BZ
A43: 195 | B43: WTY034 | C43: WN233 | D43: Nest | E43: Nest | G43: 1 | H43: Ok-Bdy | I43: OBOliver | J43: 1480718 | K43: 484995 | M43: =VLOOKUP($C43,#REF!,15,FALSE) -> #REF! | X43: N | Z43: Z | AA43: Z | AB43: Z
A44: 202 | B44: WTY035 | C44: WN306 | D44: Nest | E44: Nest | G44: 1 | H44: Ok-Bdy | I44: OBOliver | J44: 1480909 | K44: 484758 | M44: =VLOOKUP($C44,#REF!,15,FALSE) -> #REF! | X44: BP | Y44: N | Z44: Z | AA44: Z | AB44: Z
A45: 216 | B45: WTY036 | C45: WNK013 | D45: Nest | E45: Nest | G45: 1 | H45: Ok-Bdy | I45: OBOliver | J45: 1481520 | K45: 484805 | X45: BP | Y45: B | Z45: BP | AA45: N | AB45: N
A46: 222 | B46: WTY037 | C46: WN042 | D46: Nest | E46: Nest | F46: >1 Nest | G46: 2 | H46: Ok-Bdy | I46: OBOliver | J46: 1481784 | K46: 483007 | M46: =VLOOKUP($C46,#REF!,15,FALSE) -> #REF! | W46: N | X46: BZ | Y46: BZ | Z46: Z | AA46: BZ | AB46: BZ
A47: 223 | B47: WTY037 | C47: WNK014 | D47: Nest | E47: Nest | F47: >1 Nest | G47: 2 | H47: Ok-Bdy | I47: OBOliver | J47: 1481784 | K47: 483007 | AA47: N | AB47: N
A48: 229 | B48: WTY038 | C48: WN232 | D48: Nest | E48: Nest | G48: 1 | H48: Ok-Bdy | I48: OBOliver | J48: 1482898 | K48: 482216 | M48: =VLOOKUP($C48,#REF!,15,FALSE) -> #REF! | X48: N | Y48: N | Z48: N | AA48: N | AB48: Z
A49: 233 | B49: WTY039 | C49: WN325 | D49: Nest | E49: Nest | G49: 1 | H49: Ok-Bdy | I49: OBOliver | J49: 1481749 | K49: 480795 | M49: =VLOOKUP($C49,#REF!,15,FALSE) -> #REF! | Y49: N | Z49: Z | AA49: Z
A50: 238 | B50: WTY040 | C50: WK032 | D50: Pr+Fyg | E50: Other | H50: Ok-Bdy | I50: OBOliver | J50: 1483370.6 | K50: 482770.6 | X50: BP | Y50: B | Z50: B | AA50: Z
A51: 245 | B51: WTY042 | C51: WN307 | D51: Nest | E51: Nest | G51: 1 | H51: Ok-Bdy | I51: OBOliver | J51: 1483908 | K51: 481692 | M51: =VLOOKUP($C51,#REF!,15,FALSE) -> #REF! | X51: Y | Y51: N | Z51: Z | AA51: BZ | AB51: Z | AD51: BPX | AH51: N
A52: 249 | B52: WTY044 | C52: WN308 | D52: Nest | E52: Nest | F52: >1 Nest | G52: 2 | H52: Ok-Bdy | I52: OBOliver | J52: 1484456.5 | K52: 481981 | M52: =VLOOKUP($C52,#REF!,15,FALSE) -> #REF! | X52: Y | Y52: N | Z52: BPZ | AA52: Z | AB52: Z
A53: 250 | B53: WTY044 | C53: WNK025 | D53: Nest | E53: Nest | F53: >1 Nest | G53: 2 | H53: Ok-Bdy | I53: OBOliver | J53: 1484456.5 | K53: 481981 | M53: =VLOOKUP($C53,#REF!,15,FALSE) -> #REF! | AB53: N
A54: 252 | B54: WTY045 | C54: WN235 | D54: Nest | E54: Nest | G54: 1 | H54: Ok-Bdy | I54: OBOliver | J54: 1484308 | K54: 481374 | M54: =VLOOKUP($C54,#REF!,15,FALSE) -> #REF! | X54: N | Z54: N | AA54: Z | AB54: Z
A55: 260 | B55: WTY047 | C55: WN231 | D55: Nest | E55: Nest | G55: 1 | H55: Ok-Bdy | I55: OBOliver | J55: 1485567 | K55: 481218 | M55: =VLOOKUP($C55,#REF!,15,FALSE) -> #REF! | X55: N | Z55: BPY | AA55: BZ
A56: 264 | B56: WTY048 | C56: WK067 | D56: M>1yr | E56: Other | H56: Ok-Bdy | I56: OBOliver | J56: 1485591.3 | K56: 481630 | M56: =VLOOKUP($C56,#REF!,15,FALSE) -> #REF! | X56: BZ | AA56: BZ
A57: 268 | B57: WTY049 | C57: WN230 | D57: Nest | E57: Nest | G57: 1 | H57: Ok-Bdy | I57: OBOliver | J57: 1485825 | K57: 480540 | M57: =VLOOKUP($C57,#REF!,15,FALSE) -> #REF! | X57: N | Z57: Z | AA57: Z
A58: 272 | B58: WTY050 | C58: WN309 | D58: Nest | E58: Nest | G58: 1 | H58: Ok-Bdy | I58: OBOliver | J58: 1485078 | K58: 480699 | X58: BP | Y58: N | Z58: N | AA58: N | AB58: N
A59: 280 | B59: WTY051 | C59: WN326 | D59: Nest | E59: Nest | G59: 1 | H59: Ok-Bdy | I59: OBOliver | J59: 1484923 | K59: 480192 | M59: =VLOOKUP($C59,#REF!,15,FALSE) -> #REF! | X59: BPY | Y59: N | Z59: N | AA59: N | AB59: Z | AH59: BX
A60: 284 | B60: WTY052 | C60: WN234 | D60: Nest | E60: Nest | G60: 1 | H60: Ok-Bdy | I60: OBOliver | J60: 1485265 | K60: 480297 | M60: =VLOOKUP($C60,#REF!,15,FALSE) -> #REF! | X60: N | Y60: N | Z60: N | AA60: N | AB60: Z
A61: 291 | B61: WTY053 | C61: WN229 | D61: Nest | E61: Nest | G61: 1 | H61: Ok-Bdy | I61: OBOliver | J61: 1485187 | K61: 479851 | M61: =VLOOKUP($C61,#REF!,15,FALSE) -> #REF! | X61: N | Y61: N | Z61: N | AA61: N | AB61: N | AH61: N
A62: 300 | B62: WTY054 | C62: WN010 | D62: Nest | E62: Nest | G62: 1 | H62: Ok-Bdy | I62: OBOliver | J62: 1482900 | K62: 479791 | M62: =VLOOKUP($C62,#REF!,15,FALSE) -> #REF! | P62: N | Q62: Z | R62: Z | S62: Z | T62: Z | X62: B | Z62: Z | AA62: Z | AB62: BZ | AD62: BX | AE62: BX | AH62: BX | AI62: BX
A63: 308 | B63: WTY056 | C63: WN044 | D63: Nest | E63: Nest | G63: 1 | H63: Ok-Bdy | I63: OBOliver | J63: 1485142 | K63: 479025 | M63: =VLOOKUP($C63,#REF!,15,FALSE) -> #REF! | W63: N | Z63: Z | AA63: Z | AB63: Z | AE63: X | AF63: BX | AG63: BX | AH63: BX | AI63: X
A64: 315 | B64: WTY058 | C64: WK299 | D64: Pair | E64: Other | H64: Ok-Bdy | I64: OBAnarchist | J64: 1485252.3 | K64: 472357.86 | X64: BP | Z64: Z | AB64: BP | AF64: BX
A65: 320 | B65: WTY059 | C65: WN209 | D65: Nest | E65: Nest | G65: 1 | H65: Ok-Bdy | I65: OBAnarchist | J65: 1484900 | K65: 470567 | M65: =VLOOKUP($C65,#REF!,15,FALSE) -> #REF! | X65: N | Y65: N | Z65: N | AA65: N | AB65: N | AC65: Z
A66: 323 | B66: WTY060 | C66: WN201 | D66: Nest | E66: Nest | G66: 1 | H66: Ok-Bdy | I66: OBAnarchist | J66: 1485098 | K66: 468535 | X66: N | Z66: Z | AA66: Z | AF66: BX
A67: 325 | B67: WTY061 | C67: WN224 | D67: Nest | E67: Nest | G67: 1 | H67: Ok-Bdy | I67: OBAnarchist | J67: 1489985 | K67: 471512 | X67: N | Z67: Z | AA67: Z | AB67: Z | AC67: Z
A68: 328 | B68: WTY062 | C68: WN210 | D68: Nest | E68: Nest | G68: 1 | H68: Ok-Bdy | I68: OBAnarchist | J68: 1491163 | K68: 470547 | M68: =VLOOKUP($C68,#REF!,15,FALSE) -> #REF! | X68: N | Z68: N | AA68: N | AB68: N | AC68: Z
A69: 330 | B69: WTY062a | C69: W0226 | D69: Pair | E69: Other | H69: Ok-Bdy | I69: OBAnarchist | J69: 1492051 | K69: 470681 | X69: BP
A70: 332 | B70: WTY062b | C70: W0227 | D70: Pair | E70: Other | H70: Ok-Bdy | I70: OBAnarchist | J70: 1491675 | K70: 470764 | X70: BP
A71: 348 | B71: WTY063 | C71: WN019 | D71: Nest | E71: Nest | F71: >1 Nest | G71: 2 | H71: Ok-Bdy | I71: OBAnarchist | J71: 1493683.5 | K71: 471394 | M71: =VLOOKUP($C71,#REF!,15,FALSE) -> #REF! | Q71: N | R71: N | S71: N | T71: Z | U71: Z | AA71: Z
A72: 349 | B72: WTY063 | C72: WN047 | D72: Nest | E72: Nest | F72: >1 Nest | G72: 2 | H72: Ok-Bdy | I72: OBAnarchist | J72: 1493683.5 | K72: 471394 | M72: =VLOOKUP($C72,#REF!,15,FALSE) -> #REF! | Q72: X | W72: N | X72: N | Y72: N | Z72: N | AA72: N | AB72: N | AC72: N | AD72: BX | AE72: BX | AI72: BX
A73: 361 | B73: WTY064 | C73: WN037 | D73: Nest | E73: Nest | F73: >1 Nest | G73: 2 | H73: Ok-Bdy | I73: OBAnarchist | J73: 1493656 | K73: 467872 | U73: N | X73: B | Z73: Z | AA73: Z
A74: 362 | B74: WTY064 | C74: WNB007 | D74: Nest | E74: Nest | F74: >1 Nest | G74: 2 | H74: Ok-Bdy | I74: OBAnarchist | J74: 1493656 | K74: 467872 | Z74: N | AA74: N
A75: 365 | B75: WTY065 | C75: WN310 | D75: Nest | E75: Nest | G75: 1 | H75: Ok-Bdy | I75: OBJohnstone | J75: 1500388 | K75: 481044 | M75: =VLOOKUP($C75,#REF!,15,FALSE) -> #REF! | Y75: N
A76: 371 | B76: WTY066 | C76: WB102 | D76: Pair | E76: Other | H76: Ok-Bdy | I76: OBJohnstone | J76: 1500490.4 | K76: 480160.86 | Y76: B | Z76: BP | AB76: BP
A77: 375 | B77: WTY067 | C77: WN016 | D77: Nest | E77: Nest | G77: 1 | H77: Ok-Bdy | I77: OBJohnstone | J77: 1501837 | K77: 477681 | M77: =VLOOKUP($C77,#REF!,15,FALSE) -> #REF! | Q77: N | R77: Z | S77: Z | T77: Z | Y77: N | AA77: N | AB77: Z | AH77: BX
A78: 380 | B78: WTY068 | C78: W0370 | D78: M>2wks | E78: Other | H78: Ok-Bdy | I78: OBJohnstone | J78: 1500756.2 | K78: 477248.2 | Y78: B | AB78: Z
A79: 391 | B79: WTY069 | C79: WNB038 | D79: Nest | E79: Nest | G79: 1 | H79: Ok-Bdy | I79: OBJohnstone | J79: 1499651 | K79: 477370 | M79: =VLOOKUP($C79,#REF!,15,FALSE) -> #REF! | Y79: BP | Z79: B | AA79: Z | AB79: N
A80: 394 | B80: WTY070 | C80: WN311 | D80: Nest | E80: Nest | G80: 1 | H80: Ok-Bdy | I80: OBJohnstone | J80: 1499829 | K80: 476827 | M80: =VLOOKUP($C80,#REF!,15,FALSE) -> #REF! | Y80: N | Z80: N | AA80: N
A81: 399 | B81: WTY071 | C81: WN312 | D81: Nest | E81: Nest | G81: 1 | H81: Ok-Bdy | I81: OBJohnstone | J81: 1499570 | K81: 476768 | M81: =VLOOKUP($C81,#REF!,15,FALSE) -> #REF! | Y81: N | AA81: Z | AB81: Z | AE81: BX
A82: 401 | B82: WTY072 | C82: WN025 | D82: Nest | E82: Nest | G82: 1 | H82: Ok-Bdy | I82: OBJohnstone | J82: 1502443 | K82: 477938 | M82: =VLOOKUP($C82,#REF!,15,FALSE) -> #REF! | R82: N | S82: X | T82: X
A83: 406 | B83: WTY073 | C83: WN316 | D83: Nest | E83: Nest | F83: >1 Nest | G83: 2 | H83: Ok-Bdy | I83: OBJohnstone | J83: 1502637.5 | K83: 479130.5 | M83: =VLOOKUP($C83,#REF!,15,FALSE) -> #REF! | X83: B | Y83: N | Z83: Z | AA83: N
A84: 407 | B84: WTY073 | C84: WNB012 | D84: Nest | E84: Nest | F84: >1 Nest | G84: 2 | H84: Ok-Bdy | I84: OBJohnstone | J84: 1502637.5 | K84: 479130.5 | M84: =VLOOKUP($C84,#REF!,15,FALSE) -> #REF! | Y84: Z | Z84: N | AA84: Z
A85: 409 | B85: WTY074 | C85: W0378 | D85: M>2wks | E85: Other | H85: Ok-Bdy | I85: OBJohnstone | J85: 1503650 | K85: 480584 | Y85: B
A86: 417 | B86: WTY075 | C86: WN317 | D86: Nest | E86: Nest | F86: >1 Nest | G86: 2 | H86: Ok-Bdy | I86: OBJohnstone | J86: 1503617.5 | K86: 478469.5 | M86: =VLOOKUP($C86,#REF!,15,FALSE) -> #REF! | X86: BP | Y86: N | Z86: Z | AA86: N | AD86: BX
A87: 418 | B87: WTY075 | C87: WNB013 | D87: Nest | E87: Nest | F87: >1 Nest | G87: 2 | H87: Ok-Bdy | I87: OBJohnstone | J87: 1503617.5 | K87: 478469.5 | M87: =VLOOKUP($C87,#REF!,15,FALSE) -> #REF! | X87: X | Y87: Z | Z87: N | AA87: Z
A88: 423 | B88: WTY076 | C88: WN017 | D88: Nest | E88: Nest | G88: 1 | H88: Ok-Bdy | I88: OBJohnstone | J88: 1504945 | K88: 476854 | L88: WL411 | Q88: N | R88: N | S88: N | T88: N | Y88: BZ | Z88: BPZ | AA88: N
A89: 432 | B89: WTY076b | C89: WN223 | D89: Nest | E89: Nest | G89: 1 | H89: Ok-Bdy | I89: OBJohnstone | J89: 1503773 | K89: 478067 | M89: =VLOOKUP($C89,#REF!,15,FALSE) -> #REF! | X89: N | Y89: N | Z89: N | AA89: N | AD89: BX
A90: 434 | B90: WTY077 | C90: WN020 | D90: Nest | E90: Nest | F90: >1 Nest | G90: 2 | H90: Ok-Bdy | I90: OBJohnstone | J90: 1505593 | K90: 476291 | L90: WL411 | Q90: N | R90: Z | S90: Z | T90: Z | X90: Z
A91: 435 | B91: WTY077 | C91: WN026 | D91: Nest | E91: Nest | F91: >1 Nest | G91: 2 | H91: Ok-Bdy | I91: OBJohnstone | J91: 1505593 | K91: 476291 | L91: WL411 | Q91: Z | R91: N | S91: Z | AB91: Z
A92: 437 | B92: WTY078 | C92: WN018 | D92: Nest | E92: Nest | G92: 1 | H92: Ok-Bdy | I92: OBJohnstone | J92: 1505538 | K92: 475966 | L92: WL411 | Q92: N | R92: Z | S92: N | T92: N | Y92: N | Z92: N | AA92: Z
A93: 439 | B93: WTY079 | C93: WN033 | D93: Nest | E93: Nest | G93: 1 | H93: Ok-Bdy | I93: OBJohnstone | J93: 1505417 | K93: 475860 | L93: WL411 | Q93: Z | R93: Z | S93: N | T93: Z | X93: Z | Y93: Z | Z93: Z | AA93: Z
A94: 443 | B94: WTY080 | C94: WN028 | D94: Nest | E94: Nest | F94: >1 Nest | G94: 3 | H94: Ok-Bdy | I94: OBJohnstone | J94: 1506211 | K94: 476472 | L94: WL411 | Q94: B | R94: N | S94: Z | T94: Z | W94: Z | X94: Z | Z94: B | AB94: Z
A95: 444 | B95: WTY080 | C95: WN045 | D95: Nest | E95: Nest | F95: >1 Nest | G95: 3 | H95: Ok-Bdy | I95: OBJohnstone | J95: 1506211 | K95: 476472 | L95: WL411 | Q95: Z | R95: Z | S95: Z | W95: N | Y95: N | AB95: Z
A96: 445 | B96: WTY080 | C96: WN205 | D96: Nest | E96: Nest | F96: >1 Nest | G96: 3 | H96: Ok-Bdy | I96: OBJohnstone | J96: 1506211 | K96: 476472 | L96: WL411 | Q96: Z | R96: Z | S96: Z | X96: N | AA96: Z | AB96: Z
A97: 448 | B97: WTY081 | C97: WN029 | D97: Nest | E97: Nest | G97: 1 | H97: Ok-Bdy | I97: OBJohnstone | J97: 1507131 | K97: 475690 | L97: WL411 | Q97: Z | R97: N | S97: Z | T97: Z | Z97: N | AA97: N | AH97: BX
A98: 455 | B98: WTY082 | C98: WN011 | D98: Nest | E98: Nest | G98: 1 | H98: Ok-Bdy | I98: OBJohnstone | J98: 1506781 | K98: 476761 | L98: WL411 | M98: =VLOOKUP($C98,#REF!,15,FALSE) -> #REF! | P98: N | Q98: Z | R98: Z | S98: Z | T98: Z | X98: Z | Y98: Z | Z98: N | AA98: N | AB98: N | AH98: BX
A99: 459 | B99: WTY083 | C99: WN211 | D99: Nest | E99: Nest | F99: >1 Nest | G99: 2 | H99: Ok-Bdy | I99: OBJohnstone | J99: 1506061.5 | K99: 477655.5 | M99: =VLOOKUP($C99,#REF!,15,FALSE) -> #REF! | X99: N | Y99: N | Z99: B | AB99: Z
A100: 460 | B100: WTY083 | C100: WNB025 | D100: Nest | E100: Nest | F100: >1 Nest | G100: 2 | H100: Ok-Bdy | I100: OBJohnstone | J100: 1506061.5 | K100: 477655.5 | M100: =VLOOKUP($C100,#REF!,15,FALSE) -> #REF! | X100: Z | AA100: N | AB100: N
...

Sheet wisa_obs_1994_2015d
A1: ID_NUM | B1: GPS_MARK | C1: WISA_TERR | D1: RANGE | E1: LOCATION | F1: YYYY | G1: MM | H1: DD | I1: TIME | J1: SURVEYORS | K1: UTM_ZONE | L1: NAD | M1: UTM_E | N1: UTM_N | O1: ALBERS_E | P1: ALBERS_N | Q1: SPECIES | R1: TYPE_OBSN1 | S1: TYPE_OBSN2 | T1: AD_M | U1: AD_F | V1: AD_UNK | W1: STAGE_YNG | X1: FECALSACS | Y1: TOT_N_YNG | Z1: YG_M | AA1: YG_F | AB1: SLOPE_PCT | AC1: ASPECT | AD1: ELEV_M | AE1: ECOSITE | AF1: HABITATCOM | AG1: TOPOGRAPHY | AH1: TREE_HISTO | AI1: TREE_SP | AJ1: TYPE_TREE | AK1: SAP_NEST_D | AL1: DBH | AM1: TREE_HT | AN1: BOLE_HT | AO1: NEST_HT | AP1: NEST_ASPEC | AQ1: DECAY_CLAS | AR1: DECAY_COMM | AS1: NEW_HOLE | AT1: N_HOLES | AU1: ACTIV_NEST | AV1: HATCHDATE | AW1: FLEDGEDATE | AX1: HATCH_DOY | AY1: TERR_EVIDN | AZ1: COMMENTS | BA1: OWNERSHIP | BB1: CPB_STN | BC1: TYPECPB | BD1: DIST_CPB_N | BE1: NEST_STAND | BF1: DIST_CLFOR | BG1: NEST_COMME | BH1: NEAREST_NE | BI1: NEXT_NEARE | BJ1: TREE_FATE | BK1: VEG_PLOTS | BL1: RANGE3 | BM1: WTY | BN1: OWNERTYPE | BO1: WHA_TAG_ | BP1: CPB_DATE | BQ1: CPB_DAY | BR1: X_COORD | BS1: Y_COORD | BT1: BEC_V9 | BU1: SUBRANGE_ | BV1: WHA_DATE | BW1: CUT_DATE | BX1: B_WISA_LIG
A2: 1 | B2: WN001 | C2: WTY011 | D2: Okanagan | E2: Vaseux-OK Falls | F2: 1994 | G2: 6 | H2: 0 | I2: 0 | J2: Dick Cannings | K2: 11 | L2: 83 | M2: 323467 | N2: 5466288 | O2: 1477373 | P2: 500773 | Q2: B-WISA | R2: Nest | S2: New Nest | T2: 1 | U2: 1 | V2: 0 | W2: Nestling | Y2: 0 | Z2: 0 | AA2: 0 | AB2: 100 | AC2: 0 | AD2: 1236 | AH2: Old nest record-2nd hand | AI2: At | AJ2: Nest | AK2: 0 | AL2: 0 | AM2: 0 | AO2: 0 | AQ2: 0 | AT2: 0 | AV2: 0 | AW2: 0 | AX2: 0 | AY2: Nest | AZ2: Year and precise location uncertain | BD2: 0 | BE2: Closed Forest | BF2: 0 | BH2: 0 | BI2: 0 | BK2: None | BL2: Ok-Bdy | BM2: Nest | BO2: 8-106 | BP2: 0 | BQ2: 0 | BR2: 1477373 | BS2: 500773 | BT2: IDF dm 1 | BU2: OBOkFalls | BV2: 20080317 | BW2: 0 | BX2: 1
A3: 2 | B3: WN002 | C3: WTYK007 | D3: Okanagan | E3: Vaseux-OK Falls | F3: 1994 | G3: 6 | H3: 0 | I3: 0 | J3: Dick Cannings | K3: 11 | L3: 83 | M3: 324255 | N3: 5465470 | O3: 1478258 | P3: 500060 | Q3: B-WISA | R3: Nest | S3: New Nest | T3: 1 | U3: 1 | V3: 0 | W3: Nestling | Y3: 0 | Z3: 0 | AA3: 0 | AB3: 0 | AC3: 0 | AD3: 1345 | AH3: Old nest record-2nd hand | AI3: Lw | AJ3: Nest | AK3: 0 | AL3: 0 | AM3: 0 | AO3: 0 | AQ3: 0 | AT3: 0 | AV3: 0 | AW3: 0 | AX3: 0 | AY3: Nest | AZ3: Location adjusted to actual 14km tree in 2015 | BD3: 0 | BE3: Closed Forest | BF3: 0 | BH3: 0 | BI3: 0 | BK3: None | BL3: Ok-Bdy | BM3: Nest | BO3: 8-108 | BP3: 0 | BQ3: 0 | BR3: 1478298 | BS3: 500076 | BT3: IDF dm 1 | BU3: OBOkFalls | BV3: 20080317 | BW3: 0 | BX3: 1
A4: 3 | B4: WN003 | C4: WTY014 | D4: Okanagan | E4: Vaseux-OK Falls | F4: 1994 | G4: 6 | H4: 0 | I4: 0 | J4: Dick Cannings | K4: 11 | L4: 83 | M4: 323689 | N4: 5466025 | O4: 1477626 | P4: 500540 | Q4: B-WISA | R4: Nest | S4: New Nest | T4: 1 | U4: 1 | V4: 0 | W4: Nestling | Y4: 0 | Z4: 0 | AA4: 0 | AB4: 0 | AC4: 0 | AD4: 1270 | AH4: Old nest record-2nd hand | AI4: Lw | AJ4: Nest | AK4: 0 | AL4: 0 | AM4: 0 | AO4: 0 | AQ4: 0 | AT4: 0 | AV4: 0 | AW4: 0 | AX4: 0 | AY4: Nest | AZ4: Year and precise location uncertain | BD4: 0 | BE4: Closed Forest | BF4: 0 | BH4: 0 | BI4: 0 | BK4: None | BL4: Ok-Bdy | BM4: Nest | BO4: 8-106 | BP4: 0 | BQ4: 0 | BR4: 1477626 | BS4: 500540 | BT4: IDF dm 1 | BU4: OBOkFalls | BV4: 20080317 | BW4: 0 | BX4: 1
A5: 4 | B5: W0282 | C5: WTYB013 | D5: Boundary | E5: Johnstone Creek | F5: 1994 | G5: 10 | H5: 25 | I5: 0 | J5: Les Gyug | K5: 11 | L5: 83 | M5: 352470 | N5: 5444491 | O5: 1507905 | P5: 482662 | Q5: B-WISA | R5: Visual | S5: Juvenile Male WISA | T5: 0 | U5: 0 | V5: 0 | W5: Fledgling | Y5: 1 | Z5: 1 | AA5: 0 | AB5: 0 | AC5: 0 | AD5: 1040 | AF5: FdLw mature forest before logging | AK5: 0 | AL5: 0 | AM5: 0 | AO5: 0 | AQ5: 0 | AT5: 0 | AV5: 0 | AW5: 0 | AX5: 0 | AY5: Fem plus fledged yg | BD5: 0 | BF5: 0 | BH5: 0 | BI5: 0 | BL5: Ok-Bdy | BM5: F+FYg | BP5: 0 | BQ5: 0 | BR5: 1507905 | BS5: 482662 | BT5: IDF dm 1 | BU5: OBJohnstone | BW5: 0 | BX5: 4
A6: 5 | B6: WN004 | C6: WTYP007 | D6: Princeton | E6: August Lake | F6: 1994 | G6: 6 | H6: 0 | I6: 0 | J6: Jerry Herzig | K6: 10 | L6: 83 | M6: 685085 | N6: 5478619 | O6: 1402649 | P6: 506435 | Q6: B-WISA | R6: Nest | S6: New Nest | T6: 1 | U6: 1 | V6: 0 | W6: Nestling | Y6: 0 | Z6: 0 | AA6: 0 | AB6: 0 | AC6: 0 | AD6: 800 | AH6: Old nest-tree has now fallen | AI6: Py | AJ6: Nest | AK6: 0 | AL6: 0 | AM6: 0 | AO6: 0 | AQ6: 4 | AT6: 0 | AV6: 0 | AW6: 0 | AX6: 0 | AY6: Nest | AZ6: Location and Year Approximate / Tree has fallen over | BD6: 0 | BE6: Edge Closed Fore | BF6: 0 | BH6: 0 | BI6: 0 | BJ6: Tree fell around 1998 | BK6: None | BL6: West | BM6: Nest | BN6: Crown | BP6: 0 | BQ6: 0 | BR6: 1402649 | BS6: 506435 | BT6: IDF xh 1 | BU6: WPrinceton | BW6: 0 | BX6: 4
A7: 6 | B7: WN006 | C7: WTY111 | D7: Boundary | E7: Wallace Creek | F7: 1995 | G7: 6 | H7: 13 | I7: 0 | J7: Stephen Bennett | K7: 11 | L7: 83 | M7: 366655 | N7: 5445861 | O7: 1522819 | P7: 485920 | Q7: B-WISA | R7: Nest | S7: New Nest | T7: 1 | U7: 1 | V7: 0 | W7: Nestling | Y7: 0 | Z7: 0 | AA7: 0 | AC7: 40 | AD7: 1461 | AH7: Found in 1995 not used in 199 | AI7: Lw | AJ7: Nest | AK7: 0 | AQ7: 2 | AR7: Fork Top | AT7: 0 | AV7: 0 | AW7: 0 | AX7: 0 | AY7: Nest | AZ7: / Patch 444 / | BD7: 0 | BE7: Closed Forest | BF7: 0 | BH7: 0 | BI7: 0 | BJ7: Exact locn of tree uncertain (pre-GPS)--fate un | BK7: None | BL7: Ok-Bdy | BM7: Nest | BN7: Crown | BO7: 8-216 | BP7: 0 | BQ7: 0 | BR7: 1522819 | BS7: 485920 | BT7: MS dm 1 | BU7: OBMidway | BV7: 20150630 | BW7: 0 | BX7: 1
A8: 7 | B8: WN007 | C8: WTY112 | D8: Boundary | E8: Wallace Creek | F8: 1995 | G8: 6 | H8: 8 | I8: 0 | J8: Stephen Bennett | K8: 11 | L8: 83 | M8: 367841 | N8: 5445423 | O8: 1524052 | P8: 485634 | Q8: B-WISA | R8: Nest | S8: New Nest | T8: 1 | U8: 1 | V8: 0 | W8: Nestling | Y8: 0 | Z8: 0 | AA8: 0 | AC8: 100 | AD8: 1394 | AH8: Found in 1995 not used in 199 | AI8: Lw | AJ8: Nest | AK8: 0 | AM8: 25 | AQ8: 4 | AR8: Broken top | AT8: 0 | AV8: 0 | AW8: 0 | AX8: 0 | AY8: Nest | AZ8: / Patch 460 / | BD8: 0 | BE8: Closed Forest | BF8: 0 | BH8: 0 | BI8: 0 | BJ8: Exact locn of tree uncertain (pre-GPS)--fate un | BK8: None | BL8: Ok-Bdy | BM8: Nest | BN8: Crown | BO8: 8-217 | BP8: 0 | BQ8: 0 | BR8: 1524052 | BS8: 485634 | BT8: MS dm 1 | BU8: OBMidway | BV8: 20150630 | BW8: 0 | BX8: 1
A9: 8 | B9: WN008 | C9: WTY117 | D9: Boundary | E9: Wallace Creek | F9: 1995 | G9: 6 | H9: 19 | I9: 0 | J9: Stephen Bennett | K9: 11 | L9: 83 | M9: 369137 | N9: 5446589 | O9: 1525193 | P9: 486953 | Q9: B-WISA | R9: Nest | S9: New Nest | T9: 1 | U9: 1 | V9: 0 | W9: Nestling | Y9: 0 | Z9: 0 | AA9: 0 | AC9: 200 | AD9: 1353 | AF9: right on edge of BEC Zones | AH9: Found in 1995 not used in 199 | AI9: Lw | AJ9: Nest | AK9: 0 | AM9: 25 | AQ9: 2 | AR9: Broken Top | AT9: 0 | AV9: 0 | AW9: 0 | AX9: 0 | AY9: Nest | AZ9: / Patch 315 / | BD9: 0 | BE9: Closed Forest | BF9: 0 | BH9: 0 | BI9: 0 | BJ9: Exact locn of tree uncertain (pre-GPS)--fate un | BK9: None | BL9: Ok-Bdy | BM9: Nest | BN9: Crown | BO9: 8-218 | BP9: 0 | BQ9: 0 | BR9: 1525193 | BS9: 486953 | BT9: MS dm 1 | BU9: OBMidway | BV9: 20150630 | BW9: 0 | BX9: 4
A10: 9 | B10: W0285 | C10: WTY113 | D10: Boundary | E10: Wallace Creek | F10: 1995 | G10: 5 | H10: 27 | I10: 655 | J10: Stephen Bennett | K10: 11 | L10: 83 | M10: 368609 | N10: 5444970 | O10: 1524871 | P10: 485281 | Q10: B-WISA | R10: Visual | S10: Visual, Call, Drum | T10: 0 | U10: 0 | V10: 1 | Y10: 0 | Z10: 0 | AA10: 0 | AB10: 0 | AC10: 0 | AD10: 1329 | AK10: 0 | AL10: 0 | AM10: 0 | AO10: 0 | AQ10: 0 | AT10: 0 | AV10: 0 | AW10: 0 | AX10: 0 | AY10: Male >2 wks | AZ10: / Patch 465 / | BD10: 0 | BF10: 0 | BH10: 0 | BI10: 0 | BL10: Ok-Bdy | BM10: M>2wks | BP10: 0 | BQ10: 0 | BR10: 1524871 | BS10: 485281 | BT10: MS dm 1 | BU10: OBMidway | BW10: 0 | BX10: 4
A11: 10 | B11: W0286 | C11: WTY113 | D11: Boundary | E11: Wallace Creek | F11: 1995 | G11: 6 | H11: 4 | I11: 430 | J11: PeterSherrington | K11: 11 | L11: 83 | M11: 368851 | N11: 5445158 | O11: 1525088 | P11: 485499 | Q11: B-WISA | R11: Drum | S11: Drum | T11: 1 | U11: 0 | V11: 0 | Y11: 0 | Z11: 0 | AA11: 0 | AB11: 0 | AC11: 0 | AD11: 1322 | AK11: 0 | AL11: 0 | AM11: 0 | AO11: 0 | AQ11: 0 | AT11: 0 | AV11: 0 | AW11: 0 | AX11: 0 | AY11: Male >2 wks | AZ11: / Patch 466 / | BD11: 0 | BF11: 0 | BH11: 0 | BI11: 0 | BL11: Ok-Bdy | BM11: M>2wks | BP11: 0 | BQ11: 0 | BR11: 1525088 | BS11: 485499 | BT11: ICH mk 1 | BU11: OBMidway | BW11: 0 | BX11: 3
A12: 11 | B12: W0287 | C12: WTY113 | D12: Boundary | E12: Wallace Creek | F12: 1995 | G12: 6 | H12: 7 | I12: 430 | J12: Stephen Bennett | K12: 11 | L12: 83 | M12: 368801 | N12: 5445303 | O12: 1525020 | P12: 485636 | Q12: B-WISA | R12: Visual | S12: Visual, Drum | T12: 0 | U12: 0 | V12: 1 | Y12: 0 | Z12: 0 | AA12: 0 | AB12: 0 | AC12: 0 | AD12: 1293 | AK12: 0 | AL12: 0 | AM12: 0 | AO12: 0 | AQ12: 0 | AT12: 0 | AV12: 0 | AW12: 0 | AX12: 0 | AY12: Male >2 wks | AZ12: / Patch 466 / | BD12: 0 | BF12: 0 | BH12: 0 | BI12: 0 | BL12: Ok-Bdy | BM12: M>2wks | BP12: 0 | BQ12: 0 | BR12: 1525020 | BS12: 485636 | BT12: ICH mk 1 | BU12: OBMidway | BW12: 0 | BX12: 5
A13: 12 | B13: W0288 | C13: WTY113 | D13: Boundary | E13: Wallace Creek | F13: 1995 | G13: 6 | H13: 7 | I13: 440 | J13: Stephen Bennett | K13: 11 | L13: 83 | M13: 368832 | N13: 5445250 | O13: 1525057 | P13: 485587 | Q13: B-WISA | R13: Drum | S13: Drum | T13: 1 | U13: 0 | V13: 0 | Y13: 0 | Z13: 0 | AA13: 0 | AB13: 0 | AC13: 0 | AD13: 1304 | AK13: 0 | AL13: 0 | AM13: 0 | AO13: 0 | AQ13: 0 | AT13: 0 | AV13: 0 | AW13: 0 | AX13: 0 | AY13: Male >2 wks | AZ13: / Patch 466 / | BD13: 0 | BF13: 0 | BH13: 0 | BI13: 0 | BL13: Ok-Bdy | BM13: M>2wks | BP13: 0 | BQ13: 0 | BR13: 1525057 | BS13: 485587 | BT13: ICH mk 1 | BU13: OBMidway | BW13: 0 | BX13: 1
A14: 13 | B14: W0289 | C14: WTY113 | D14: Boundary | E14: Wallace Creek | F14: 1995 | G14: 6 | H14: 7 | I14: 450 | J14: Stephen Bennett | K14: 11 | L14: 83 | M14: 368761 | N14: 5445030 | O14: 1525014 | P14: 485361 | Q14: B-WISA | R14: Drum | S14: Drum | T14: 1 | U14: 0 | V14: 0 | Y14: 0 | Z14: 0 | AA14: 0 | AB14: 0 | AC14: 0 | AD14: 1352 | AK14: 0 | AL14: 0 | AM14: 0 | AO14: 0 | AQ14: 0 | AT14: 0 | AV14: 0 | AW14: 0 | AX14: 0 | AY14: Male >2 wks | AZ14: / Patch 466 / | BD14: 0 | BF14: 0 | BH14: 0 | BI14: 0 | BL14: Ok-Bdy | BM14: M>2wks | BP14: 0 | BQ14: 0 | BR14: 1525014 | BS14: 485361 | BT14: ICH mk 1 | BU14: OBMidway | BW14: 0 | BX14: 3
A15: 14 | B15: W0290 | C15: WTY113 | D15: Boundary | E15: Wallace Creek | F15: 1995 | G15: 6 | H15: 13 | I15: 440 | J15: PeterSherrington | K15: 11 | L15: 83 | M15: 368840 | N15: 5445156 | O15: 1525077 | P15: 485494 | Q15: B-WISA | R15: Call | S15: Call | T15: 0 | U15: 0 | V15: 1 | Y15: 0 | Z15: 0 | AA15: 0 | AB15: 0 | AC15: 0 | AD15: 1325 | AK15: 0 | AL15: 0 | AM15: 0 | AO15: 0 | AQ15: 0 | AT15: 0 | AV15: 0 | AW15: 0 | AX15: 0 | AY15: Male >2 wks | AZ15: / Patch 466 / | BD15: 0 | BF15: 0 | BH15: 0 | BI15: 0 | BL15: Ok-Bdy | BM15: M>2wks | BP15: 0 | BQ15: 0 | BR15: 1525077 | BS15: 485494 | BT15: ICH mk 1 | BU15: OBMidway | BW15: 0 | BX15: 3
A16: 15 | B16: W0291 | C16: WTY113 | D16: Boundary | E16: Wallace Creek | F16: 1995 | G16: 6 | H16: 15 | I16: 620 | J16: PeterSherrington | K16: 11 | L16: 83 | M16: 368803 | N16: 5445043 | O16: 1525054 | P16: 485378 | Q16: B-WISA | R16: Call | S16: Call | T16: 0 | U16: 0 | V16: 1 | Y16: 0 | Z16: 0 | AA16: 0 | AB16: 0 | AC16: 0 | AD16: 1359 | AK16: 0 | AL16: 0 | AM16: 0 | AO16: 0 | AQ16: 0 | AT16: 0 | AV16: 0 | AW16: 0 | AX16: 0 | AY16: Male >2 wks | AZ16: / Patch 466 / | BD16: 0 | BF16: 0 | BH16: 0 | BI16: 0 | BL16: Ok-Bdy | BM16: M>2wks | BP16: 0 | BQ16: 0 | BR16: 1525054 | BS16: 485378 | BT16: ICH mk 1 | BU16: OBMidway | BW16: 0 | BX16: 3
A17: 16 | B17: W0292 | C17: WTY113 | D17: Boundary | E17: Wallace Creek | F17: 1995 | G17: 5 | H17: 26 | I17: 920 | J17: Stephen Bennett | K17: 11 | L17: 83 | M17: 368760 | N17: 5445018 | O17: 1525015 | P17: 485348 | Q17: B-WISA | R17: Drum | S17: Visual, Drum | T17: 1 | U17: 0 | V17: 0 | Y17: 0 | Z17: 0 | AA17: 0 | AB17: 0 | AC17: 0 | AD17: 1356 | AK17: 0 | AL17: 0 | AM17: 0 | AO17: 0 | AQ17: 0 | AT17: 0 | AV17: 0 | AW17: 0 | AX17: 0 | AY17: Male >2 wks | AZ17: / Patch 466 / | BD17: 0 | BF17: 0 | BH17: 0 | BI17: 0 | BL17: Ok-Bdy | BM17: M>2wks | BP17: 0 | BQ17: 0 | BR17: 1525015 | BS17: 485348 | BT17: ICH mk 1 | BU17: OBMidway | BW17: 0 | BX17: 3
A18: 17 | B18: WN005 | C18: WTYP008 | D18: Princeton | E18: August Lake | F18: 1995 | G18: 6 | H18: 0 | I18: 0 | J18: Jerry Herzig | K18: 10 | L18: 83 | M18: 685310 | N18: 5478907 | O18: 1402861 | P18: 506733 | Q18: B-WISA | R18: Nest | S18: New Nest | T18: 1 | U18: 1 | V18: 0 | W18: Nestling | Y18: 0 | Z18: 0 | AA18: 0 | AB18: 0 | AC18: 0 | AD18: 801 | AH18: Tree used 1995-99 | AI18: Py | AJ18: Nest | AK18: 0 | AL18: 71 | AM18: 0 | AO18: 0 | AQ18: 2 | AR18: Dead top | AT18: 0 | AV18: 0 | AW18: 0 | AX18: 0 | AY18: Nest | AZ18: Most consistently used site in Princeton area | BD18: 0 | BE18: Closed Forest | BF18: 0 | BH18: 0 | BI18: 0 | BK18: None | BL18: West | BM18: Nest | BN18: Private | BO18: Proposed 8-099 | BP18: 0 | BQ18: 0 | BR18: 1402861 | BS18: 506733 | BT18: IDF xh 1a | BU18: WPrinceton | BW18: 0 | BX18: 4
A19: 18 | B19: WN009 | C19: WTY025 | D19: Okanagan | E19: Vaseux Browning | F19: 1996 | G19: 6 | H19: 22 | I19: 0 | J19: Ross Munro | K19: 11 | L19: 83 | M19: 323498 | N19: 5460392 | O19: 1478138 | P19: 494932 | Q19: B-WISA | R19: Nest | S19: New Nest | T19: 1 | U19: 1 | V19: 0 | W19: Nestling | Y19: 0 | Z19: 0 | AA19: 0 | AB19: 10 | AC19: 360 | AD19: 1440 | AE19: 1 | AF19: Mature mesic Lw forest | AG19: rolling upland | AH19: Not Used 1998/99, Not checked | AI19: Lw | AJ19: Nest | AK19: 0 | AL19: 92 | AM19: 34 | AO19: 30 | AP19: NR | AQ19: 2 | AR19: tree appears healthy-but DT | AT19: 0 | AV19: 0 | AW19: 0 | AX19: 0 | AY19: Nest | AZ19: rolling upland / / | BD19: 0 | BE19: Closed Forest | BF19: 0 | BH19: 0 | BI19: 0 | BJ19: Vaseux Fire burned 2003, salvage logged, tree O | BK19: None | BL19: Ok-Bdy | BM19: Nest | BN19: Crown | BO19: Proposed 8-112 | BP19: 0 | BQ19: 0 | BR19: 1478138 | BS19: 494932 | BT19: IDF dm 1 | BU19: OBOkFalls | BW19: 0 | BX19: 5
A20: 19 | B20: W0010 | C20: None | D20: Okanagan | E20: Vaseux Browning | F20: 1996 | G20: 6 | H20: 22 | I20: 0 | J20: Wayne Smith | K20: 11 | L20: 83 | M20: 324321 | N20: 5461414 | O20: 1478828 | P20: 496047 | Q20: B-WISA | R20: Drum | S20: drum | T20: 1 | U20: 0 | V20: 0 | Y20: 0 | Z20: 0 | AA20: 0 | AB20: 11 | AC20: 265 | AD20: 1440 | AK20: 0 | AT20: 0 | AV20: 0 | AW20: 0 | AX20: 0 | AY20: None | BD20: 0 | BF20: 0 | BH20: 0 | BI20: 0 | BL20: Ok-Bdy | BM20: Unk | BP20: 0 | BQ20: 0 | BR20: 1478828 | BS20: 496047 | BT20: IDF dm 1 | BU20: OBOkFalls | BW20: 0 | BX20: 4
A21: 20 | B21: W0011 | C21: None | D21: Okanagan | E21: Wolf Cub | F21: 1996 | G21: 6 | H21: 23 | I21: 0 | J21: Wayne Smith | K21: 11 | L21: 83 | M21: 323920 | N21: 5455613 | O21: 1479153 | P21: 490247 | Q21: B-WISA | R21: Visual | S21: visual | T21: 1 | U21: 0 | V21: 0 | Y21: 0 | Z21: 0 | AA21: 0 | AB21: 28 | AC21: 15 | AD21: 1423 | AK21: 0 | AT21: 0 | AV21: 0 | AW21: 0 | AX21: 0 | AY21: None | BD21: 0 | BF21: 0 | BH21: 0 | BI21: 0 | BL21: Ok-Bdy | BM21: Unk | BP21: 0 | BQ21: 0 | BR21: 1479153 | BS21: 490247 | BT21: MS dm 1 | BU21: OBOliver | BW21: 0 | BX21: 1
A22: 21 | B22: WN010 | C22: WTY054 | D22: Okanagan | E22: McCuddy-Gregoire | F22: 1996 | G22: 6 | H22: 25 | I22: 0 | J22: Ray Wershler | K22: 11 | L22: 83 | M22: 326332 | N22: 5444761 | O22: 1482900 | P22: 479791 | Q22: B-WISA | R22: Nest | S22: New Nest | T22: 1 | U22: 1 | V22: 0 | W22: Nestling | Y22: 0 | Z22: 0 | AA22: 0 | AB22: 12 | AC22: 245 | AD22: 1092 | AE22: 8 | AF22: EpSx forest (but Sx has been high | AG22: seepage in flat area on creek | AH22: Not Used 1997/98/99 | AI22: Ew | AJ22: Nest | AK22: 0 | AL22: 32 | AM22: 11 | AO22: 6 | AP22: NR | AQ22: 6 | AR22: this stub dead, but other trun | AT22: 0 | AV22: 0 | AW22: 0 | AX22: 0 | AY22: Nest | AZ22: seepage in flat area on creek / / | BD22: 0 | BE22: Closed Forest | BF22: 0 | BH22: 0 | BI22: 0 | BJ22: tree fallen down 2005-2006, but good until then | BK22: None | BL22: Ok-Bdy | BM22: Nest | BN22: Crown | BO22: 8-211 | BP22: 0 | BQ22: 0 | BR22: 1482900 | BS22: 479791 | BT22: IDF xh 1 | BU22: OBOliver | BV22: 20080317 | BW22: 0 | BX22: 4
A23: 22 | B23: WN011 | C23: WTY082 | D23: Boundary | E23: Johnstone Creek | F23: 1996 | G23: 6 | H23: 26 | I23: 0 | J23: Wayne Smith | K23: 11 | L23: 83 | M23: 349620 | N23: 5438771 | O23: 1506781 | P23: 476761 | Q23: B-WISA | R23: Nest | S23: New Nest | T23: 1 | U23: 1 | V23: 0 | W23: Nestling | Y23: 0 | Z23: 0 | AA23: 0 | AB23: 9 | AC23: 270 | AD23: 1028 | AE23: 1 | AF23: Immature mesic Pl forest with vet | AG23: on ridge (moraine) crest | AH23: Not Used 1997/98/99 | AI23: Lw | AJ23: Nest | AK23: 0 | AL23: 110 | AM23: 36 | AO23: 15 | AP23: NR | AQ23: 2 | AR23: veteran Lw, dead top | AT23: 0 | AV23: 0 | AW23: 0 | AX23: 0 | AY23: Nest | AZ23: on ridge (moraine) crest / / | BD23: 0 | BE23: Open Forest | BF23: 32 | BH23: 0 | BI23: 0 | BK23: Plots 2006-2007 | BL23: Ok-Bdy | BM23: Nest | BN23: Crown | BO23: 8-382 | BP23: 0 | BQ23: 0 | BR23: 1506781 | BS23: 476761 | BT23: IDF dm 1 | BU23: OBJohnstone | BV23: 20150630 | BW23: 0 | BX23: 5
A24: 23 | B24: WN012 | C24: WTY116 | D24: Boundary | E24: Wallace Creek | F24: 1996 | G24: 6 | H24: 0 | I24: 0 | J24: Todd Manning | K24: 11 | L24: 83 | M24: 367674 | N24: 5447279 | O24: 1523653 | P24: 487453 | Q24: B-WISA | R24: Nest | S24: New Nest | T24: 1 | U24: 1 | V24: 0 | W24: Nestling | Y24: 0 | Z24: 0 | AA24: 0 | AC24: 200 | AD24: 1379 | AF24: within 50m of ICHmk1 | AH24: Not used in 1995?, ? after 19 | AI24: Lw | AJ24: Nest | AK24: 0 | AL24: 77 | AM24: 19 | AO24: 9 | AQ24: 2 | AT24: 0 | AV24: 0 | AW24: 0 | AX24: 0 | AY24: Nest | AZ24: / NW of Patch 440--TM #1 /Male Radio-tagged | BD24: 0 | BE24: Open Forest SEL | BF24: 0 | BH24: 186 | BI24: 0 | BJ24: Exact locn of tree uncertain (pre-GPS)--fate un | BK24: None | BL24: Ok-Bdy | BM24: Nest | BN24: Crown | BP24: 0 | BQ24: 0 | BR24: 1523653 | BS24: 487453 | BT24: MS dm 1 | BU24: OBMidway | BW24: 0 | BX24: 4
A25: 24 | B25: WN013 | C25: WTY118 | D25: Boundary | E25: Wallace Creek | F25: 1996 | G25: 6 | H25: 0 | I25: 0 | J25: Todd Manning | K25: 11 | L25: 83 | M25: 370220 | N25: 5446583 | O25: 1526270 | P25: 487082 | Q25: B-WISA | R25: Nest | S25: New Nest | T25: 1 | U25: 1 | V25: 0 | W25: Nestling | Y25: 0 | Z25: 0 | AA25: 0 | AC25: 180 | AD25: 1335 | AF25: right on edge of BEC Zones | AH25: Not used in 1995?, ? after 19 | AI25: Lw | AJ25: Nest | AK25: 0 | AL25: 54 | AM25: 12 | AO25: 4 | AQ25: 6 | AT25: 0 | AV25: 0 | AW25: 0 | AX25: 0 | AY25: Nest | AZ25: / Patch 1418--TM #2 /Female radio-tagged | BD25: 0 | BE25: Closed Forest | BF25: 0 | BH25: 0 | BI25: 0 | BJ25: Exact locn of tree uncertain (pre-GPS)--fate un | BK25: None | BL25: Ok-Bdy | BM25: Nest | BN25: Crown | BO25: 8-219 | BP25: 0 | BQ25: 0 | BR25: 1526270 | BS25: 487082 | BT25: MS dm 1 | BU25: OBMidway | BV25: 20150630 | BW25: 0 | BX25: 1
A26: 25 | B26: WN014 | C26: WTY115 | D26: Boundary | E26: Wallace Creek | F26: 1996 | G26: 6 | H26: 0 | I26: 0 | J26: Todd Manning | K26: 11 | L26: 83 | M26: 367582 | N26: 5447117 | O26: 1523582 | P26: 487281 | Q26: B-WISA | R26: Nest | S26: New Nest | T26: 1 | U26: 1 | V26: 0 | W26: Nestling | Y26: 0 | Z26: 0 | AA26: 0 | AC26: 170 | AD26: 1337 | AH26: Not used in 1995?, ? after 19 | AI26: Lw | AJ26: Nest | AK26: 0 | AL26: 72 | AM26: 30 | AO26: 25 | AQ26: 2 | AT26: 0 | AV26: 0 | AW26: 0 | AX26: 0 | AY26: Nest | AZ26: / NW of Patch 440--TM #6 / | BD26: 0 | BE26: Open Forest SEL | BF26: 0 | BH26: 186 | BI26: 0 | BJ26: Exact locn of tree uncertain (pre-GPS)--fate un | BK26: None | BL26: Ok-Bdy | BM26: Nest | BN26: Crown | BP26: 0 | BQ26: 0 | BR26: 1523582 | BS26: 487281 | BT26: MS dm 1 | BU26: OBMidway | BW26: 0 | BX26: 4
A27: 26 | B27: WN015 | C27: WTY110 | D27: Boundary | E27: Wallace Creek | F27: 1996 | G27: 6 | H27: 0 | I27: 0 | J27: Todd Manning | K27: 11 | L27: 83 | M27: 367352 | N27: 5444434 | O27: 1523689 | P27: 484593 | Q27: B-WISA | R27: Nest | S27: New Nest | T27: 1 | U27: 1 | V27: 0 | W27: Nestling | Y27: 0 | Z27: 0 | AA27: 0 | AC27: 80 | AD27: 1447 | AF27: within 500m of ICHmk1 | AH27: Not used in 1995?, ? after 19 | AI27: Lw | AJ27: Nest | AK27: 0 | AL27: 75 | AM27: 30 | AO27: 17 | AQ27: 2 | AT27: 0 | AV27: 0 | AW27: 0 | AX27: 0 | AY27: Nest | AZ27: / S of Patch 451--TM #7 / | BD27: 0 | BE27: Open ST | BF27: 0 | BH27: 0 | BI27: 0 | BJ27: Exact locn of tree uncertain (pre-GPS)--fate un | BK27: None | BL27: Ok-Bdy | BM27: Nest | BN27: Crown | BP27: 0 | BQ27: 0 | BR27: 1523689 | BS27: 484593 | BT27: MS dm 1 | BU27: OBMidway | BW27: 0 | BX27: 5
A28: 27 | B28: WN005 | C28: WTYP008 | D28: Princeton | E28: August Lake | F28: 1996 | G28: 6 | H28: 0 | I28: 0 | J28: Jerry Herzig | K28: 10 | L28: 83 | M28: 685310 | N28: 5478907 | O28: 1402861 | P28: 506733 | Q28: B-WISA | R28: Nest | S28: Old nest tree re-used | T28: 1 | U28: 1 | V28: 0 | W28: Nestling | Y28: 0 | Z28: 0 | AA28: 0 | AD28: 801 | AH28: Tree used 1995-99 | AI28: Py | AJ28: Nest | AK28: 0 | AL28: 71 | AQ28: 2 | AR28: Dead top | AT28: 0 | AV28: 0 | AW28: 0 | AX28: 0 | AY28: Nest | BD28: 0 | BE28: Closed Forest | BF28: 0 | BH28: 0 | BI28: 0 | BK28: None | BL28: West | BM28: Nest | BN28: Private | BO28: Proposed 8-099 | BP28: 0 | BQ28: 0 | BR28: 1402861 | BS28: 506733 | BT28: IDF xh 1a | BU28: WPrinceton | BW28: 0 | BX28: 4
A29: 28 | B29: W0019 | C29: None | D29: Okanagan | E29: Mica Cr | F29: 1997 | G29: 5 | H29: 15 | I29: 0 | J29: Ross Munro | K29: 11 | L29: 83 | M29: 323082 | N29: 5438422 | O29: 1480461 | P29: 473104 | Q29: B-WISA | R29: Visual | S29: visual | T29: 1 | U29: 0 | V29: 0 | Y29: 0 | Z29: 0 | AA29: 0 | AB29: 0 | AD29: 1078 | AK29: 0 | AT29: 0 | AV29: 0 | AW29: 0 | AX29: 0 | AY29: None | BD29: 0 | BF29: 0 | BH29: 0 | BI29: 0 | BL29: Ok-Bdy | BM29: Unk | BP29: 0 | BQ29: 0 | BR29: 1480461 | BS29: 473104 | BT29: IDF xh 1 | BU29: OBOliver | BW29: 0 | BX29: 4
A30: 29 | B30: W0020 | C30: None | D30: Boundary | E30: Sidley Mt | F30: 1997 | G30: 5 | H30: 18 | I30: 0 | J30: Ross Munro | K30: 11 | L30: 83 | M30: 334640 | N30: 5436572 | O30: 1492174 | P30: 472711 | Q30: B-WISA | R30: Drum | S30: drum | T30: 1 | U30: 0 | V30: 0 | Y30: 0 | Z30: 0 | AA30: 0 | AB30: 5 | AC30: 20 | AD30: 1301 | AK30: 0 | AT30: 0 | AV30: 0 | AW30: 0 | AX30: 0 | AY30: None | BD30: 0 | BF30: 0 | BH30: 0 | BI30: 0 | BL30: Ok-Bdy | BM30: Unk | BO30: Proposed 8-309 | BP30: 0 | BQ30: 0 | BR30: 1492174 | BS30: 472711 | BT30: IDF dm 1 | BU30: OBAnarchist | BW30: 0 | BX30: 4
A31: 30 | B31: W0021 | C31: None | D31: Boundary | E31: McKinney Cr | F31: 1997 | G31: 5 | H31: 19 | I31: 0 | J31: Ross Munro | K31: 11 | L31: 83 | M31: 341510 | N31: 5436462 | O31: 1499012 | P31: 473460 | Q31: B-WISA | R31: Drum | S31: drum | T31: 1 | U31: 0 | V31: 0 | Y31: 0 | Z31: 0 | AA31: 0 | AB31: 14 | AC31: 6 | AD31: 1040 | AK31: 0 | AT31: 0 | AV31: 0 | AW31: 0 | AX31: 0 | AY31: None | BD31: 0 | BF31: 0 | BH31: 0 | BI31: 0 | BL31: Ok-Bdy | BM31: Unk | BP31: 0 | BQ31: 0 | BR31: 1499012 | BS31: 473460 | BT31: IDF dm 1 | BU31: OBAnarchist | BW31: 0 | BX31: 4
A32: 31 | B32: W0022 | C32: None | D32: Boundary | E32: Johnstone Creek | F32: 1997 | G32: 5 | H32: 23 | I32: 0 | J32: Ross Munro | K32: 11 | L32: 83 | M32: 351976 | N32: 5441616 | O32: 1508767 | P32: 479876 | Q32: B-WISA | R32: Visual | S32: visual | T32: 1 | U32: 0 | V32: 0 | Y32: 0 | Z32: 0 | AA32: 0 | AB32: 10 | AC32: 255 | AD32: 1048 | AK32: 0 | AT32: 0 | AV32: 0 | AW32: 0 | AX32: 0 | AY32: None | BD32: 0 | BF32: 0 | BH32: 0 | BI32: 0 | BL32: Ok-Bdy | BM32: Unk | BP32: 0 | BQ32: 0 | BR32: 1508767 | BS32: 479876 | BT32: IDF dm 1 | BU32: OBJohnstone | BW32: 0 | BX32: 4
A33: 32 | B33: W0023 | C33: None | D33: Boundary | E33: Nicholson Cr. | F33: 1997 | G33: 5 | H33: 28 | I33: 0 | J33: Ross Munro | K33: 11 | L33: 83 | M33: 360660 | N33: 5441626 | O33: 1517392 | P33: 480972 | Q33: B-WISA | R33: Drum | S33: drum | T33: 1 | U33: 0 | V33: 0 | Y33: 0 | Z33: 0 | AA33: 0 | AB33: 25 | AC33: 170 | AD33: 1069 | AK33: 0 | AT33: 0 | AV33: 0 | AW33: 0 | AX33: 0 | AY33: None | BD33: 0 | BF33: 0 | BH33: 0 | BI33: 0 | BL33: Ok-Bdy | BM33: Unk | BP33: 0 | BQ33: 0 | BR33: 1517392 | BS33: 480972 | BT33: IDF dm 1 | BU33: OBMidway | BW33: 0 | BX33: 4
A34: 33 | B34: WN016 | C34: WTY067 | D34: Boundary | E34: McKinney | F34: 1997 | G34: 6 | H34: 23 | I34: 0 | J34: Les Gyug | K34: 11 | L34: 83 | M34: 344836 | N34: 5440302 | O34: 1501837 | P34: 477681 | Q34: B-WISA | R34: Nest | S34: New Nest | T34: 1 | U34: 1 | V34: 0 | W34: Nestling | Y34: 0 | Z34: 0 | AA34: 0 | AB34: 28 | AC34: 105 | AD34: 1070 | AE34: 4 | AF34: 50-80 cm Lw+ small Fd/Lw/Pl | AG34: Mesic upper slope | AH34: Found in 1997 | AI34: Lw | AJ34: Nest | AK34: 0 | AL34: 86 | AM34: 26 | AO34: 10 | AP34: 270 | AQ34: 2 | AR34: BT/fire scarred/ PIWO holes | AT34: 25 | AV34: 0 | AW34: 0 | AX34: 0 | AY34: Nest | AZ34: Mesic upper slope / M/F at nest / | BD34: 0 | BE34: Closed Forest | BF34: 0 | BH34: 0 | BI34: 0 | BK34: None | BL34: Ok-Bdy | BM34: Nest | BN34: Crown | BO34: 8-387 | BP34: 0 | BQ34: 0 | BR34: 1501837 | BS34: 477681 | BT34: IDF dm 1 | BU34: OBJohnstone | BV34: 20150630 | BW34: 0 | BX34: 2
A35: 34 | B35: WN017 | C35: WTY076 | D35: Boundary | E35: Johnstone Creek | F35: 1997 | G35: 6 | H35: 23 | I35: 0 | J35: Les Gyug | K35: 11 | L35: 83 | M35: 347812 | N35: 5439092 | O35: 1504945 | P35: 476854 | Q35: B-WISA | R35: Nest | S35: New Nest | T35: 1 | U35: 1 | V35: 0 | W35: Nestling | Y35: 0 | Z35: 0 | AA35: 0 | AB35: 14 | AC35: 70 | AD35: 1208 | AE35: 5 | AF35: Fd, Lw | AG35: Mesic-Subhygric lower slope | AH35: Found in 1997 | AI35: Lw | AJ35: Nest | AK35: 0 | AL35: 105 | AM35: 24 | AO35: 21 | AP35: 270 | AQ35: 2 | AR35: Broken top/ burn scars | AT35: 0 | AV35: 0 | AW35: 0 | AX35: 0 | AY35: Nest | AZ35: Mesic-Subhygric lower slope / / | BD35: 0 | BE35: Closed Forest | BF35: 0 | BH35: 0 | BI35: 0 | BK35: None | BL35: Ok-Bdy | BM35: Nest | BN35: Crown Woodlot | BP35: 0 | BQ35: 0 | BR35: 1504945 | BS35: 476854 | BT35: IDF dm 1 | BU35: OBJohnstone | BW35: 0 | BX35: 3
A36: 35 | B36: WN018 | C36: WTY078 | D36: Boundary | E36: Johnstone Creek | F36: 1997 | G36: 6 | H36: 23 | I36: 0 | J36: Ross Munro | K36: 11 | L36: 83 | M36: 348289 | N36: 5438136 | O36: 1505538 | P36: 475966 | Q36: B-WISA | R36: Nest | S36: New Nest | T36: 1 | U36: 1 | V36: 0 | W36: Nestling | Y36: 0 | Z36: 0 | AA36: 0 | AB36: 47 | AC36: 320 | AD36: 1119 | AE36: 6 | AF36: Lw(most), Fd, Spruce | AG36: Sub-Mesic toe of slope; beside sedge ma | AH36: Found in 1997 | AI36: Lw | AJ36: Nest | AK36: 0 | AL36: 76 | AM36: 31 | AO36: 26 | AP36: 170 | AQ36: 2 | AR36: Dead top | AT36: 0 | AV36: 0 | AW36: 0 | AX36: 0 | AY36: Nest | AZ36: Sub-Mesic toe of slope; beside sedge marsh on slow movi | BD36: 0 | BE36: Edge Closed Forest | BF36: 0 | BH36: 315 | BI36: 0 | BK36: Plots 2006-2007 | BL36: Ok-Bdy | BM36: Nest | BN36: Crown Woodlot | BP36: 0 | BQ36: 0 | BR36: 1505538 | BS36: 475966 | BT36: IDF dm 1 | BU36: OBJohnstone | BW36: 0 | BX36: 4
A37: 36 | B37: WN019 | C37: WTY063 | D37: Boundary | E37: Sidley Mt | F37: 1997 | G37: 6 | H37: 24 | I37: 0 | J37: Corry Moes | K37: 11 | L37: 83 | M37: 335966 | N37: 5435129 | O37: 1493671 | P37: 471447 | Q37: B-WISA | R37: Nest | S37: New Nest | T37: 1 | U37: 1 | V37: 0 | W37: Nestling | Y37: 0 | Z37: 0 | AA37: 0 | AB37: 9 | AC37: 118 | AD37: 1224 | AE37: 1 | AF37: Fd, Lw, (50%/50%) | AG37: Mesic | AH37: Found in 1997 | AI37: Lw | AJ37: Nest | AK37: 0 | AL37: 80 | AM37: 26 | AO37: 16 | AP37: NR | AQ37: 2 | AR37: 543 years old-cut down 2003 | AT37: 0 | AV37: 0 | AW37: 0 | AX37: 0 | AY37: Nest | AZ37: Mesic / M/F at nest. / | BD37: 0 | BE37: Closed Forest | BF37: 0 | BH37: 0 | BI37: 0 | BJ37: 543 years old-cut down 2003 | BK37: None | BL37: Ok-Bdy | BM37: Nest | BN37: Crown | BO37: 8-389 | BP37: 0 | BQ37: 0 | BR37: 1493671 | BS37: 471447 | BT37: IDF dm 1 | BU37: OBAnarchist | BV37: 20150630 | BW37: 0 | BX37: 4
